BEGIN:VCALENDAR
VERSION:2.0
PRODID:-//East Moriches Troop 29 - ECPv6.15.20//NONSGML v1.0//EN
CALSCALE:GREGORIAN
METHOD:PUBLISH
X-WR-CALNAME:East Moriches Troop 29
X-ORIGINAL-URL:https://emotroop29.org
X-WR-CALDESC:Events for East Moriches Troop 29
REFRESH-INTERVAL;VALUE=DURATION:PT1H
X-Robots-Tag:noindex
X-PUBLISHED-TTL:PT1H
BEGIN:VTIMEZONE
TZID:America/New_York
BEGIN:DAYLIGHT
TZOFFSETFROM:-0500
TZOFFSETTO:-0400
TZNAME:EDT
DTSTART:20190310T070000
END:DAYLIGHT
BEGIN:STANDARD
TZOFFSETFROM:-0400
TZOFFSETTO:-0500
TZNAME:EST
DTSTART:20191103T060000
END:STANDARD
BEGIN:DAYLIGHT
TZOFFSETFROM:-0500
TZOFFSETTO:-0400
TZNAME:EDT
DTSTART:20200308T070000
END:DAYLIGHT
BEGIN:STANDARD
TZOFFSETFROM:-0400
TZOFFSETTO:-0500
TZNAME:EST
DTSTART:20201101T060000
END:STANDARD
BEGIN:DAYLIGHT
TZOFFSETFROM:-0500
TZOFFSETTO:-0400
TZNAME:EDT
DTSTART:20210314T070000
END:DAYLIGHT
BEGIN:STANDARD
TZOFFSETFROM:-0400
TZOFFSETTO:-0500
TZNAME:EST
DTSTART:20211107T060000
END:STANDARD
END:VTIMEZONE
BEGIN:VEVENT
DTSTART;TZID=America/New_York:20201114T090000
DTEND;TZID=America/New_York:20201114T120000
DTSTAMP:20260423T184137
CREATED:20201013T001823Z
LAST-MODIFIED:20201014T024241Z
UID:6388-1605344400-1605355200@emotroop29.org
SUMMARY:Community Service
DESCRIPTION:You need to be logged in to view this content. Please Log In. Not a Member? Join Us
URL:https://emotroop29.org/event/community-service/
CATEGORIES:Community Service
END:VEVENT
BEGIN:VEVENT
DTSTART;VALUE=DATE:20201111
DTEND;VALUE=DATE:20201112
DTSTAMP:20260423T184137
CREATED:20200907T125529Z
LAST-MODIFIED:20200907T125529Z
UID:6231-1605052800-1605139199@emotroop29.org
SUMMARY:Veterans Day
DESCRIPTION:You need to be logged in to view this content. Please Log In. Not a Member? Join Us
URL:https://emotroop29.org/event/veterans-day/
END:VEVENT
BEGIN:VEVENT
DTSTART;TZID=America/New_York:20201110T193000
DTEND;TZID=America/New_York:20201110T210000
DTSTAMP:20260423T184137
CREATED:20200928T122120Z
LAST-MODIFIED:20200928T122120Z
UID:6327-1605036600-1605042000@emotroop29.org
SUMMARY:Troop Meeting
DESCRIPTION:You need to be logged in to view this content. Please Log In. Not a Member? Join Us
URL:https://emotroop29.org/event/troop-meeting-84/
CATEGORIES:Troop Meeting
END:VEVENT
BEGIN:VEVENT
DTSTART;TZID=America/New_York:20201108T140000
DTEND;TZID=America/New_York:20201108T160000
DTSTAMP:20260423T184137
CREATED:20201013T001338Z
LAST-MODIFIED:20201019T200015Z
UID:6386-1604844000-1604851200@emotroop29.org
SUMMARY:Veterans Day Ceremony
DESCRIPTION:You need to be logged in to view this content. Please Log In. Not a Member? Join Us
URL:https://emotroop29.org/event/veterans-day-ceremony/
CATEGORIES:Troop Activity
END:VEVENT
BEGIN:VEVENT
DTSTART;TZID=America/New_York:20201107T100000
DTEND;TZID=America/New_York:20201107T113000
DTSTAMP:20260423T184137
CREATED:20201013T000635Z
LAST-MODIFIED:20201014T024200Z
UID:6383-1604743200-1604748600@emotroop29.org
SUMMARY:Troop Court of Honor
DESCRIPTION:You need to be logged in to view this content. Please Log In. Not a Member? Join Us
URL:https://emotroop29.org/event/troop-court-of-honor-2/
CATEGORIES:Court of Honor
END:VEVENT
BEGIN:VEVENT
DTSTART;TZID=America/New_York:20201031T090000
DTEND;TZID=America/New_York:20201031T103000
DTSTAMP:20260423T184137
CREATED:20201012T235349Z
LAST-MODIFIED:20201014T024336Z
UID:6376-1604134800-1604140200@emotroop29.org
SUMMARY:Clean Up
DESCRIPTION:You need to be logged in to view this content. Please Log In. Not a Member? Join Us
URL:https://emotroop29.org/event/clean-up/
CATEGORIES:Cleanup
END:VEVENT
BEGIN:VEVENT
DTSTART;VALUE=DATE:20201031
DTEND;VALUE=DATE:20201101
DTSTAMP:20260423T184137
CREATED:20200826T195107Z
LAST-MODIFIED:20201026T194324Z
UID:6150-1604102400-1604188799@emotroop29.org
SUMMARY:PLC Meeting
DESCRIPTION:You need to be logged in to view this content. Please Log In. Not a Member? Join Us
URL:https://emotroop29.org/event/plc-meeting-9/
CATEGORIES:Patrol Leaders Council Meeting
END:VEVENT
BEGIN:VEVENT
DTSTART;VALUE=DATE:20201031
DTEND;VALUE=DATE:20201101
DTSTAMP:20260423T184137
CREATED:20200826T195203Z
LAST-MODIFIED:20200826T195203Z
UID:6154-1604102400-1604188799@emotroop29.org
SUMMARY:Halloween
DESCRIPTION:You need to be logged in to view this content. Please Log In. Not a Member? Join Us
URL:https://emotroop29.org/event/halloween/
END:VEVENT
BEGIN:VEVENT
DTSTART;TZID=America/New_York:20201027T193000
DTEND;TZID=America/New_York:20201027T210000
DTSTAMP:20260423T184137
CREATED:20200826T195134Z
LAST-MODIFIED:20200826T195134Z
UID:6152-1603827000-1603832400@emotroop29.org
SUMMARY:Troop Meeting
DESCRIPTION:You need to be logged in to view this content. Please Log In. Not a Member? Join Us
URL:https://emotroop29.org/event/troop-meeting-83/
CATEGORIES:Troop Meeting
END:VEVENT
BEGIN:VEVENT
DTSTART;TZID=America/New_York:20201024T090000
DTEND;TZID=America/New_York:20201024T170000
DTSTAMP:20260423T184137
CREATED:20201012T235255Z
LAST-MODIFIED:20201014T155443Z
UID:6374-1603530000-1603558800@emotroop29.org
SUMMARY:Camporee
DESCRIPTION:You need to be logged in to view this content. Please Log In. Not a Member? Join Us
URL:https://emotroop29.org/event/trailblazer-fall-camporee/
CATEGORIES:Troop Activity
END:VEVENT
BEGIN:VEVENT
DTSTART;TZID=America/New_York:20201020T193000
DTEND;TZID=America/New_York:20201020T210000
DTSTAMP:20260423T184137
CREATED:20200826T194931Z
LAST-MODIFIED:20200907T124904Z
UID:6146-1603222200-1603227600@emotroop29.org
SUMMARY:Troop Meeting
DESCRIPTION:You need to be logged in to view this content. Please Log In. Not a Member? Join Us
URL:https://emotroop29.org/event/troop-meeting-mb-night/
CATEGORIES:Merit Badge Program Night,Troop Meeting
END:VEVENT
BEGIN:VEVENT
DTSTART;TZID=America/New_York:20201017T090000
DTEND;TZID=America/New_York:20201017T130000
DTSTAMP:20260423T184137
CREATED:20201012T193017Z
LAST-MODIFIED:20201014T024101Z
UID:6371-1602925200-1602939600@emotroop29.org
SUMMARY:Car Wash
DESCRIPTION:You need to be logged in to view this content. Please Log In. Not a Member? Join Us
URL:https://emotroop29.org/event/car-wash/
CATEGORIES:Fundraiser
END:VEVENT
BEGIN:VEVENT
DTSTART;TZID=America/New_York:20201013T193000
DTEND;TZID=America/New_York:20201013T210000
DTSTAMP:20260423T184137
CREATED:20200826T194655Z
LAST-MODIFIED:20200826T194844Z
UID:6144-1602617400-1602622800@emotroop29.org
SUMMARY:Troop Meeting
DESCRIPTION:You need to be logged in to view this content. Please Log In. Not a Member? Join Us
URL:https://emotroop29.org/event/troop-meeting-82/
CATEGORIES:Troop Meeting
END:VEVENT
BEGIN:VEVENT
DTSTART;VALUE=DATE:20201012
DTEND;VALUE=DATE:20201013
DTSTAMP:20260423T184137
CREATED:20200826T193816Z
LAST-MODIFIED:20200826T193816Z
UID:6137-1602460800-1602547199@emotroop29.org
SUMMARY:Columbus Day
DESCRIPTION:You need to be logged in to view this content. Please Log In. Not a Member? Join Us
URL:https://emotroop29.org/event/columbus-day/
END:VEVENT
BEGIN:VEVENT
DTSTART;TZID=America/New_York:20201006T193000
DTEND;TZID=America/New_York:20201006T210000
DTSTAMP:20260423T184137
CREATED:20200826T194529Z
LAST-MODIFIED:20200826T194553Z
UID:6142-1602012600-1602018000@emotroop29.org
SUMMARY:Troop Meeting
DESCRIPTION:You need to be logged in to view this content. Please Log In. Not a Member? Join Us
URL:https://emotroop29.org/event/troop-meeting-81/
CATEGORIES:Troop Meeting
END:VEVENT
BEGIN:VEVENT
DTSTART;VALUE=DATE:20201001
DTEND;VALUE=DATE:20201002
DTSTAMP:20260423T184137
CREATED:20200914T023252Z
LAST-MODIFIED:20200914T023252Z
UID:6280-1601510400-1601596799@emotroop29.org
SUMMARY:Troop Registration Due
DESCRIPTION:You need to be logged in to view this content. Please Log In. Not a Member? Join Us
URL:https://emotroop29.org/event/troop-registration-due/
END:VEVENT
BEGIN:VEVENT
DTSTART;TZID=America/New_York:20200929T193000
DTEND;TZID=America/New_York:20200929T210000
DTSTAMP:20260423T184137
CREATED:20200826T192241Z
LAST-MODIFIED:20200911T151139Z
UID:6124-1601407800-1601413200@emotroop29.org
SUMMARY:Troop Meeting - Virtual
DESCRIPTION:You need to be logged in to view this content. Please Log In. Not a Member? Join Us
URL:https://emotroop29.org/event/troop-meeting-80/
CATEGORIES:Court of Honor,Troop Meeting
END:VEVENT
BEGIN:VEVENT
DTSTART;TZID=America/New_York:20200929T183000
DTEND;TZID=America/New_York:20200929T193000
DTSTAMP:20260423T184137
CREATED:20200826T192715Z
LAST-MODIFIED:20200911T151155Z
UID:6130-1601404200-1601407800@emotroop29.org
SUMMARY:PLC Meeting - Virtual
DESCRIPTION:You need to be logged in to view this content. Please Log In. Not a Member? Join Us
URL:https://emotroop29.org/event/plc-meeting-8/
CATEGORIES:Patrol Leaders Council Meeting
END:VEVENT
BEGIN:VEVENT
DTSTART;TZID=America/New_York:20200927T190000
DTEND;TZID=America/New_York:20200927T200000
DTSTAMP:20260423T184137
CREATED:20200927T225837Z
LAST-MODIFIED:20200927T225837Z
UID:6324-1601233200-1601236800@emotroop29.org
SUMMARY:Committee Meeting
DESCRIPTION:You need to be logged in to view this content. Please Log In. Not a Member? Join Us
URL:https://emotroop29.org/event/committee-meeting-13/
CATEGORIES:Committee Meetings
END:VEVENT
BEGIN:VEVENT
DTSTART;VALUE=DATE:20200927
DTEND;VALUE=DATE:20200929
DTSTAMP:20260423T184137
CREATED:20200826T193247Z
LAST-MODIFIED:20200826T193247Z
UID:6132-1601164800-1601337599@emotroop29.org
SUMMARY:Yom Kippur
DESCRIPTION:You need to be logged in to view this content. Please Log In. Not a Member? Join Us
URL:https://emotroop29.org/event/yom-kippur-2/
END:VEVENT
BEGIN:VEVENT
DTSTART;TZID=America/New_York:20200926T090000
DTEND;TZID=America/New_York:20200926T100000
DTSTAMP:20260423T184137
CREATED:20200914T020541Z
LAST-MODIFIED:20200925T120212Z
UID:6272-1601110800-1601114400@emotroop29.org
SUMMARY:Beach Cleanup
DESCRIPTION:You need to be logged in to view this content. Please Log In. Not a Member? Join Us
URL:https://emotroop29.org/event/beach-clean-up/
END:VEVENT
BEGIN:VEVENT
DTSTART;TZID=America/New_York:20200925T180000
DTEND;TZID=America/New_York:20200925T190000
DTSTAMP:20260423T184137
CREATED:20200914T023148Z
LAST-MODIFIED:20200922T205142Z
UID:6278-1601056800-1601060400@emotroop29.org
SUMMARY:Troop Get Together
DESCRIPTION:You need to be logged in to view this content. Please Log In. Not a Member? Join Us
URL:https://emotroop29.org/event/troop-event-tbd/
CATEGORIES:Troop Activity
END:VEVENT
BEGIN:VEVENT
DTSTART;TZID=America/New_York:20200922T193000
DTEND;TZID=America/New_York:20200922T210000
DTSTAMP:20260423T184137
CREATED:20200826T192038Z
LAST-MODIFIED:20200911T151117Z
UID:6122-1600803000-1600808400@emotroop29.org
SUMMARY:Troop Meeting - Virtual
DESCRIPTION:You need to be logged in to view this content. Please Log In. Not a Member? Join Us
URL:https://emotroop29.org/event/troop-meeting-79/
CATEGORIES:Troop Meeting
END:VEVENT
BEGIN:VEVENT
DTSTART;VALUE=DATE:20200918
DTEND;VALUE=DATE:20200919
DTSTAMP:20260423T184137
CREATED:20200914T020019Z
LAST-MODIFIED:20250205T005047Z
UID:6270-1600387200-1600473599@emotroop29.org
SUMMARY:Virtual POW/MIA Vigil
DESCRIPTION:You need to be logged in to view this content. Please Log In. Not a Member? Join Us
URL:https://emotroop29.org/event/virtual-pow-mia-vigil/
CATEGORIES:Troop Activity
END:VEVENT
BEGIN:VEVENT
DTSTART;VALUE=DATE:20200918
DTEND;VALUE=DATE:20200921
DTSTAMP:20260423T184137
CREATED:20200826T192632Z
LAST-MODIFIED:20200826T192632Z
UID:6128-1600387200-1600646399@emotroop29.org
SUMMARY:Rosh Hashana
DESCRIPTION:You need to be logged in to view this content. Please Log In. Not a Member? Join Us
URL:https://emotroop29.org/event/rosh-hashana/
END:VEVENT
BEGIN:VEVENT
DTSTART;VALUE=DATE:20200916
DTEND;VALUE=DATE:20200917
DTSTAMP:20260423T184137
CREATED:20200826T194334Z
LAST-MODIFIED:20200914T210148Z
UID:6140-1600214400-1600300799@emotroop29.org
SUMMARY:Trailblazer Roundtable
DESCRIPTION:You need to be logged in to view this content. Please Log In. Not a Member? Join Us
URL:https://emotroop29.org/event/trailblazer-roundtable-3/
END:VEVENT
BEGIN:VEVENT
DTSTART;TZID=America/New_York:20200915T193000
DTEND;TZID=America/New_York:20200915T201500
DTSTAMP:20260423T184137
CREATED:20200826T191908Z
LAST-MODIFIED:20200914T201223Z
UID:6120-1600198200-1600200900@emotroop29.org
SUMMARY:Troop Meeting - Virtual
DESCRIPTION:You need to be logged in to view this content. Please Log In. Not a Member? Join Us
URL:https://emotroop29.org/event/troop-meeting-78/
CATEGORIES:Troop Meeting
END:VEVENT
BEGIN:VEVENT
DTSTART;VALUE=DATE:20200907
DTEND;VALUE=DATE:20200908
DTSTAMP:20260423T184137
CREATED:20200826T192527Z
LAST-MODIFIED:20200826T192527Z
UID:6126-1599436800-1599523199@emotroop29.org
SUMMARY:Labor Day
DESCRIPTION:You need to be logged in to view this content. Please Log In. Not a Member? Join Us
URL:https://emotroop29.org/event/labor-day/
END:VEVENT
BEGIN:VEVENT
DTSTART;TZID=America/New_York:20200718T110000
DTEND;TZID=America/New_York:20200718T120000
DTSTAMP:20260423T184137
CREATED:20200123T044253Z
LAST-MODIFIED:20220908T125335Z
UID:5957-1595070000-1595073600@emotroop29.org
SUMMARY:Merit Badge Session @ Shirley Library - 11:00 am
DESCRIPTION:You need to be logged in to view this content. Please Log In. Not a Member? Join Us
URL:https://emotroop29.org/event/merit-badge-session-shirley-library-1100-am-8/
CATEGORIES:Merit Badge Program Night
END:VEVENT
BEGIN:VEVENT
DTSTART;TZID=America/New_York:20200707T200000
DTEND;TZID=America/New_York:20200707T210000
DTSTAMP:20260423T184137
CREATED:20200123T041922Z
LAST-MODIFIED:20220908T125311Z
UID:5949-1594152000-1594155600@emotroop29.org
SUMMARY:Committee Meeting - 8:00 pm
DESCRIPTION:You need to be logged in to view this content. Please Log In. Not a Member? Join Us
URL:https://emotroop29.org/event/committee-meeting-800-pm-2/
LOCATION:East Moriches Fire Dept\, 9 Pine Street\, East Moriches\, NY\, 11940\, United States
CATEGORIES:Committee Meetings
END:VEVENT
END:VCALENDAR