BEGIN:VCALENDAR
VERSION:2.0
PRODID:-//East Moriches Troop 29 - ECPv6.15.20//NONSGML v1.0//EN
CALSCALE:GREGORIAN
METHOD:PUBLISH
X-WR-CALNAME:East Moriches Troop 29
X-ORIGINAL-URL:https://emotroop29.org
X-WR-CALDESC:Events for East Moriches Troop 29
REFRESH-INTERVAL;VALUE=DURATION:PT1H
X-Robots-Tag:noindex
X-PUBLISHED-TTL:PT1H
BEGIN:VTIMEZONE
TZID:America/New_York
BEGIN:DAYLIGHT
TZOFFSETFROM:-0500
TZOFFSETTO:-0400
TZNAME:EDT
DTSTART:20200308T070000
END:DAYLIGHT
BEGIN:STANDARD
TZOFFSETFROM:-0400
TZOFFSETTO:-0500
TZNAME:EST
DTSTART:20201101T060000
END:STANDARD
BEGIN:DAYLIGHT
TZOFFSETFROM:-0500
TZOFFSETTO:-0400
TZNAME:EDT
DTSTART:20210314T070000
END:DAYLIGHT
BEGIN:STANDARD
TZOFFSETFROM:-0400
TZOFFSETTO:-0500
TZNAME:EST
DTSTART:20211107T060000
END:STANDARD
BEGIN:DAYLIGHT
TZOFFSETFROM:-0500
TZOFFSETTO:-0400
TZNAME:EDT
DTSTART:20220313T070000
END:DAYLIGHT
BEGIN:STANDARD
TZOFFSETFROM:-0400
TZOFFSETTO:-0500
TZNAME:EST
DTSTART:20221106T060000
END:STANDARD
END:VTIMEZONE
BEGIN:VEVENT
DTSTART;TZID=America/New_York:20210615T193000
DTEND;TZID=America/New_York:20210615T193000
DTSTAMP:20260420T221830
CREATED:20201223T220413Z
LAST-MODIFIED:20201223T220413Z
UID:6538-1623785400-1623785400@emotroop29.org
SUMMARY:Troop Meeting
DESCRIPTION:You need to be logged in to view this content. Please Log In. Not a Member? Join Us
URL:https://emotroop29.org/event/troop-meeting-112/
CATEGORIES:Troop Meeting
END:VEVENT
BEGIN:VEVENT
DTSTART;TZID=America/New_York:20210608T193000
DTEND;TZID=America/New_York:20210608T210000
DTSTAMP:20260420T221830
CREATED:20201223T220349Z
LAST-MODIFIED:20201223T220349Z
UID:6536-1623180600-1623186000@emotroop29.org
SUMMARY:Troop Meeting
DESCRIPTION:You need to be logged in to view this content. Please Log In. Not a Member? Join Us
URL:https://emotroop29.org/event/troop-meeting-111/
CATEGORIES:Troop Meeting
END:VEVENT
BEGIN:VEVENT
DTSTART;TZID=America/New_York:20210605T093000
DTEND;TZID=America/New_York:20210605T113000
DTSTAMP:20260420T221830
CREATED:20201223T221510Z
LAST-MODIFIED:20210528T195636Z
UID:6558-1622885400-1622892600@emotroop29.org
SUMMARY:Flag Retrieval
DESCRIPTION:You need to be logged in to view this content. Please Log In. Not a Member? Join Us
URL:https://emotroop29.org/event/flag-retrieval-2/
LOCATION:Calverton National Cemetery\, 210 Princeton Boulevard\, Calverton\, 11933\, United States
CATEGORIES:Troop Activity
END:VEVENT
BEGIN:VEVENT
DTSTART;TZID=America/New_York:20210601T193000
DTEND;TZID=America/New_York:20210601T210000
DTSTAMP:20260420T221830
CREATED:20201223T220324Z
LAST-MODIFIED:20201223T220324Z
UID:6534-1622575800-1622581200@emotroop29.org
SUMMARY:Troop Meeting
DESCRIPTION:You need to be logged in to view this content. Please Log In. Not a Member? Join Us
URL:https://emotroop29.org/event/troop-meeting-110/
CATEGORIES:Troop Meeting
END:VEVENT
BEGIN:VEVENT
DTSTART;VALUE=DATE:20210531
DTEND;VALUE=DATE:20210601
DTSTAMP:20260420T221830
CREATED:20200907T130112Z
LAST-MODIFIED:20200907T130112Z
UID:6244-1622419200-1622505599@emotroop29.org
SUMMARY:Memorial Day
DESCRIPTION:You need to be logged in to view this content. Please Log In. Not a Member? Join Us
URL:https://emotroop29.org/event/memorial-day/
END:VEVENT
BEGIN:VEVENT
DTSTART;TZID=America/New_York:20210529T090000
DTEND;TZID=America/New_York:20210529T100000
DTSTAMP:20260420T221830
CREATED:20210409T010837Z
LAST-MODIFIED:20210515T220723Z
UID:6698-1622278800-1622282400@emotroop29.org
SUMMARY:Flag Placement
DESCRIPTION:You need to be logged in to view this content. Please Log In. Not a Member? Join Us
URL:https://emotroop29.org/event/flag-placement-3/
CATEGORIES:Troop Activity
END:VEVENT
BEGIN:VEVENT
DTSTART;TZID=America/New_York:20210525T193000
DTEND;TZID=America/New_York:20210525T210000
DTSTAMP:20260420T221830
CREATED:20201223T220237Z
LAST-MODIFIED:20201223T220237Z
UID:6532-1621971000-1621976400@emotroop29.org
SUMMARY:Troop Meeting
DESCRIPTION:You need to be logged in to view this content. Please Log In. Not a Member? Join Us
URL:https://emotroop29.org/event/troop-meeting-109/
CATEGORIES:Troop Meeting
END:VEVENT
BEGIN:VEVENT
DTSTART;TZID=America/New_York:20210523T083000
DTEND;TZID=America/New_York:20210523T130000
DTSTAMP:20260420T221830
CREATED:20210515T220504Z
LAST-MODIFIED:20210515T220513Z
UID:6732-1621758600-1621774800@emotroop29.org
SUMMARY:Aidan McKeon's Eagle Project
DESCRIPTION:You need to be logged in to view this content. Please Log In. Not a Member? Join Us
URL:https://emotroop29.org/event/aidan-mckeons-eagle-project/
CATEGORIES:Eagle Scout Service Project
END:VEVENT
BEGIN:VEVENT
DTSTART;TZID=America/New_York:20210518T193000
DTEND;TZID=America/New_York:20210518T210000
DTSTAMP:20260420T221830
CREATED:20201223T220211Z
LAST-MODIFIED:20201223T220211Z
UID:6530-1621366200-1621371600@emotroop29.org
SUMMARY:Troop Meeting
DESCRIPTION:You need to be logged in to view this content. Please Log In. Not a Member? Join Us
URL:https://emotroop29.org/event/troop-meeting-108/
CATEGORIES:Troop Meeting
END:VEVENT
BEGIN:VEVENT
DTSTART;TZID=America/New_York:20210518T190000
DTEND;TZID=America/New_York:20210518T193000
DTSTAMP:20260420T221830
CREATED:20201223T220833Z
LAST-MODIFIED:20210518T160256Z
UID:6549-1621364400-1621366200@emotroop29.org
SUMMARY:PLC Meeting
DESCRIPTION:You need to be logged in to view this content. Please Log In. Not a Member? Join Us
URL:https://emotroop29.org/event/plc-meeting-16/
CATEGORIES:Patrol Leaders Council Meeting
END:VEVENT
BEGIN:VEVENT
DTSTART;TZID=America/New_York:20210516T090000
DTEND;TZID=America/New_York:20210516T110000
DTSTAMP:20260420T221830
CREATED:20210426T185228Z
LAST-MODIFIED:20210511T235234Z
UID:6712-1621155600-1621162800@emotroop29.org
SUMMARY:Sandwich Sunday & McKeon Eagle Project Kit Assembly
DESCRIPTION:You need to be logged in to view this content. Please Log In. Not a Member? Join Us
URL:https://emotroop29.org/event/sandwich-sunday/
CATEGORIES:Community Service
END:VEVENT
BEGIN:VEVENT
DTSTART;TZID=America/New_York:20210515T090000
DTEND;TZID=America/New_York:20210515T120000
DTSTAMP:20260420T221830
CREATED:20210409T011340Z
LAST-MODIFIED:20210430T121943Z
UID:6701-1621069200-1621080000@emotroop29.org
SUMMARY:Clean up
DESCRIPTION:You need to be logged in to view this content. Please Log In. Not a Member? Join Us
URL:https://emotroop29.org/event/clean-up-3/
CATEGORIES:Troop Activity
END:VEVENT
BEGIN:VEVENT
DTSTART;TZID=America/New_York:20210511T193000
DTEND;TZID=America/New_York:20210511T210000
DTSTAMP:20260420T221830
CREATED:20201223T220144Z
LAST-MODIFIED:20201223T220144Z
UID:6528-1620761400-1620766800@emotroop29.org
SUMMARY:Troop Meeting
DESCRIPTION:You need to be logged in to view this content. Please Log In. Not a Member? Join Us
URL:https://emotroop29.org/event/troop-meeting-107/
CATEGORIES:Troop Meeting
END:VEVENT
BEGIN:VEVENT
DTSTART;TZID=America/New_York:20210508T083000
DTEND;TZID=America/New_York:20210508T133000
DTSTAMP:20260420T221830
CREATED:20210426T185106Z
LAST-MODIFIED:20210430T121754Z
UID:6710-1620462600-1620480600@emotroop29.org
SUMMARY:Troop Car Wash
DESCRIPTION:You need to be logged in to view this content. Please Log In. Not a Member? Join Us
URL:https://emotroop29.org/event/troop-car-wash/
CATEGORIES:Fundraiser
END:VEVENT
BEGIN:VEVENT
DTSTART;TZID=America/New_York:20210504T193000
DTEND;TZID=America/New_York:20210504T210000
DTSTAMP:20260420T221830
CREATED:20201223T220121Z
LAST-MODIFIED:20201223T220121Z
UID:6526-1620156600-1620162000@emotroop29.org
SUMMARY:Troop Meeting
DESCRIPTION:You need to be logged in to view this content. Please Log In. Not a Member? Join Us
URL:https://emotroop29.org/event/troop-meeting-106/
CATEGORIES:Troop Meeting
END:VEVENT
BEGIN:VEVENT
DTSTART;TZID=America/New_York:20210502T080000
DTEND;TZID=America/New_York:20210502T120000
DTSTAMP:20260420T221830
CREATED:20210309T174356Z
LAST-MODIFIED:20210429T184759Z
UID:6652-1619942400-1619956800@emotroop29.org
SUMMARY:Fun Shoot
DESCRIPTION:You need to be logged in to view this content. Please Log In. Not a Member? Join Us
URL:https://emotroop29.org/event/fun-shoot/
CATEGORIES:Troop Activity
END:VEVENT
BEGIN:VEVENT
DTSTART;TZID=America/New_York:20210501T080000
DTEND;TZID=America/New_York:20210501T160000
DTSTAMP:20260420T221830
CREATED:20210312T145201Z
LAST-MODIFIED:20210429T184815Z
UID:6659-1619856000-1619884800@emotroop29.org
SUMMARY:Skills "Weekend"
DESCRIPTION:You need to be logged in to view this content. Please Log In. Not a Member? Join Us
URL:https://emotroop29.org/event/skills-weekend/
CATEGORIES:Troop Activity
END:VEVENT
BEGIN:VEVENT
DTSTART;TZID=America/New_York:20210427T193000
DTEND;TZID=America/New_York:20210427T210000
DTSTAMP:20260420T221830
CREATED:20201223T220053Z
LAST-MODIFIED:20201223T220053Z
UID:6524-1619551800-1619557200@emotroop29.org
SUMMARY:Troop Meeting
DESCRIPTION:You need to be logged in to view this content. Please Log In. Not a Member? Join Us
URL:https://emotroop29.org/event/troop-meeting-105/
CATEGORIES:Troop Meeting
END:VEVENT
BEGIN:VEVENT
DTSTART;TZID=America/New_York:20210420T193000
DTEND;TZID=America/New_York:20210420T210000
DTSTAMP:20260420T221830
CREATED:20201223T220028Z
LAST-MODIFIED:20201223T220028Z
UID:6522-1618947000-1618952400@emotroop29.org
SUMMARY:Troop Meeting
DESCRIPTION:You need to be logged in to view this content. Please Log In. Not a Member? Join Us
URL:https://emotroop29.org/event/troop-meeting-104/
CATEGORIES:Troop Meeting
END:VEVENT
BEGIN:VEVENT
DTSTART;TZID=America/New_York:20210420T183000
DTEND;TZID=America/New_York:20210420T193000
DTSTAMP:20260420T221830
CREATED:20201223T220811Z
LAST-MODIFIED:20210312T145103Z
UID:6547-1618943400-1618947000@emotroop29.org
SUMMARY:PLC Meeting
DESCRIPTION:You need to be logged in to view this content. Please Log In. Not a Member? Join Us
URL:https://emotroop29.org/event/plc-meeting-15/
CATEGORIES:Patrol Leaders Council Meeting
END:VEVENT
BEGIN:VEVENT
DTSTART;VALUE=DATE:20210418
DTEND;VALUE=DATE:20210419
DTSTAMP:20260420T221830
CREATED:20210409T004027Z
LAST-MODIFIED:20210426T141422Z
UID:6692-1618704000-1618790399@emotroop29.org
SUMMARY:Sandwich Sunday-CANCELLED
DESCRIPTION:You need to be logged in to view this content. Please Log In. Not a Member? Join Us
URL:https://emotroop29.org/event/sandwhich-sunday/
CATEGORIES:Troop Activity
END:VEVENT
BEGIN:VEVENT
DTSTART;TZID=America/New_York:20210417T100000
DTEND;TZID=America/New_York:20210417T160000
DTSTAMP:20260420T221830
CREATED:20210408T211435Z
LAST-MODIFIED:20210409T012914Z
UID:6688-1618653600-1618675200@emotroop29.org
SUMMARY:Warrior Ranch
DESCRIPTION:You need to be logged in to view this content. Please Log In. Not a Member? Join Us
URL:https://emotroop29.org/event/warrior-ranch/
CATEGORIES:Community Service
END:VEVENT
BEGIN:VEVENT
DTSTART;TZID=America/New_York:20210413T193000
DTEND;TZID=America/New_York:20210413T210000
DTSTAMP:20260420T221830
CREATED:20201223T215958Z
LAST-MODIFIED:20201223T215958Z
UID:6520-1618342200-1618347600@emotroop29.org
SUMMARY:Troop Meeting
DESCRIPTION:You need to be logged in to view this content. Please Log In. Not a Member? Join Us
URL:https://emotroop29.org/event/troop-meeting-103/
CATEGORIES:Troop Meeting
END:VEVENT
BEGIN:VEVENT
DTSTART;TZID=America/New_York:20210411T090000
DTEND;TZID=America/New_York:20210411T120000
DTSTAMP:20260420T221830
CREATED:20210408T210417Z
LAST-MODIFIED:20210408T210712Z
UID:6684-1618131600-1618142400@emotroop29.org
SUMMARY:Pattersquash Creek clean-up
DESCRIPTION:You need to be logged in to view this content. Please Log In. Not a Member? Join Us
URL:https://emotroop29.org/event/pattersquash-creek-clean-up/
CATEGORIES:Community Service
END:VEVENT
BEGIN:VEVENT
DTSTART;TZID=America/New_York:20210406T193000
DTEND;TZID=America/New_York:20210406T210000
DTSTAMP:20260420T221830
CREATED:20201223T215935Z
LAST-MODIFIED:20201223T215935Z
UID:6518-1617737400-1617742800@emotroop29.org
SUMMARY:Troop Meeting
DESCRIPTION:You need to be logged in to view this content. Please Log In. Not a Member? Join Us
URL:https://emotroop29.org/event/troop-meeting-102/
CATEGORIES:Troop Meeting
END:VEVENT
BEGIN:VEVENT
DTSTART;VALUE=DATE:20210404
DTEND;VALUE=DATE:20210405
DTSTAMP:20260420T221830
CREATED:20200907T130016Z
LAST-MODIFIED:20200907T130016Z
UID:6241-1617494400-1617580799@emotroop29.org
SUMMARY:Easter
DESCRIPTION:You need to be logged in to view this content. Please Log In. Not a Member? Join Us
URL:https://emotroop29.org/event/easter/
END:VEVENT
BEGIN:VEVENT
DTSTART;TZID=America/New_York:20210323T193000
DTEND;TZID=America/New_York:20210323T210000
DTSTAMP:20260420T221830
CREATED:20201223T215602Z
LAST-MODIFIED:20210319T130928Z
UID:6516-1616527800-1616533200@emotroop29.org
SUMMARY:Troop Meeting
DESCRIPTION:You need to be logged in to view this content. Please Log In. Not a Member? Join Us
URL:https://emotroop29.org/event/troop-meeting-101/
CATEGORIES:Troop Meeting
END:VEVENT
BEGIN:VEVENT
DTSTART;TZID=America/New_York:20210321T120000
DTEND;TZID=America/New_York:20210321T140000
DTSTAMP:20260420T221830
CREATED:20210319T130814Z
LAST-MODIFIED:20210319T130822Z
UID:6676-1616328000-1616335200@emotroop29.org
SUMMARY:Sandwich Making
DESCRIPTION:You need to be logged in to view this content. Please Log In. Not a Member? Join Us
URL:https://emotroop29.org/event/sandwich-making/
CATEGORIES:Troop Activity
END:VEVENT
BEGIN:VEVENT
DTSTART;TZID=America/New_York:20210321T120000
DTEND;TZID=America/New_York:20210321T140000
DTSTAMP:20260420T221830
CREATED:20210319T130524Z
LAST-MODIFIED:20210319T130616Z
UID:6671-1616328000-1616335200@emotroop29.org
SUMMARY:Pack 29 Blue & Gold
DESCRIPTION:You need to be logged in to view this content. Please Log In. Not a Member? Join Us
URL:https://emotroop29.org/event/pack-29-blue-gold-3/
CATEGORIES:Troop Activity
END:VEVENT
BEGIN:VEVENT
DTSTART;TZID=America/New_York:20210320T140000
DTEND;TZID=America/New_York:20210320T180000
DTSTAMP:20260420T221830
CREATED:20210309T172554Z
LAST-MODIFIED:20210319T121808Z
UID:6648-1616248800-1616263200@emotroop29.org
SUMMARY:Warrior Ranch Service Project
DESCRIPTION:You need to be logged in to view this content. Please Log In. Not a Member? Join Us
URL:https://emotroop29.org/event/warrior-ranch-service-project/
CATEGORIES:Community Service
END:VEVENT
END:VCALENDAR