BEGIN:VCALENDAR
VERSION:2.0
PRODID:-//East Moriches Troop 29 - ECPv6.15.20//NONSGML v1.0//EN
CALSCALE:GREGORIAN
METHOD:PUBLISH
X-WR-CALNAME:East Moriches Troop 29
X-ORIGINAL-URL:https://emotroop29.org
X-WR-CALDESC:Events for East Moriches Troop 29
REFRESH-INTERVAL;VALUE=DURATION:PT1H
X-Robots-Tag:noindex
X-PUBLISHED-TTL:PT1H
BEGIN:VTIMEZONE
TZID:America/New_York
BEGIN:DAYLIGHT
TZOFFSETFROM:-0500
TZOFFSETTO:-0400
TZNAME:EDT
DTSTART:20200308T070000
END:DAYLIGHT
BEGIN:STANDARD
TZOFFSETFROM:-0400
TZOFFSETTO:-0500
TZNAME:EST
DTSTART:20201101T060000
END:STANDARD
BEGIN:DAYLIGHT
TZOFFSETFROM:-0500
TZOFFSETTO:-0400
TZNAME:EDT
DTSTART:20210314T070000
END:DAYLIGHT
BEGIN:STANDARD
TZOFFSETFROM:-0400
TZOFFSETTO:-0500
TZNAME:EST
DTSTART:20211107T060000
END:STANDARD
BEGIN:DAYLIGHT
TZOFFSETFROM:-0500
TZOFFSETTO:-0400
TZNAME:EDT
DTSTART:20220313T070000
END:DAYLIGHT
BEGIN:STANDARD
TZOFFSETFROM:-0400
TZOFFSETTO:-0500
TZNAME:EST
DTSTART:20221106T060000
END:STANDARD
END:VTIMEZONE
BEGIN:VEVENT
DTSTART;TZID=America/New_York:20211106T080000
DTEND;TZID=America/New_York:20211106T220000
DTSTAMP:20260420T191142
CREATED:20211026T124446Z
LAST-MODIFIED:20211026T124634Z
UID:6822-1636185600-1636236000@emotroop29.org
SUMMARY:Applebee's Fundraiser
DESCRIPTION:You need to be logged in to view this content. Please Log In. Not a Member? Join Us
URL:https://emotroop29.org/event/applebees-fundraiser-2/
CATEGORIES:Fundraiser
END:VEVENT
BEGIN:VEVENT
DTSTART;TZID=America/New_York:20211102T193000
DTEND;TZID=America/New_York:20211102T210000
DTSTAMP:20260420T191142
CREATED:20211026T125433Z
LAST-MODIFIED:20211026T125433Z
UID:6828-1635881400-1635886800@emotroop29.org
SUMMARY:Troop Meeting
DESCRIPTION:You need to be logged in to view this content. Please Log In. Not a Member? Join Us
URL:https://emotroop29.org/event/troop-meeting-119/
CATEGORIES:Troop Meeting
END:VEVENT
BEGIN:VEVENT
DTSTART;TZID=America/New_York:20211026T193000
DTEND;TZID=America/New_York:20211026T210000
DTSTAMP:20260420T191142
CREATED:20210920T191756Z
LAST-MODIFIED:20211026T133030Z
UID:6796-1635276600-1635282000@emotroop29.org
SUMMARY:Troop Meeting-CANCELLED
DESCRIPTION:You need to be logged in to view this content. Please Log In. Not a Member? Join Us
URL:https://emotroop29.org/event/troop-meeting-118/
CATEGORIES:Troop Meeting
END:VEVENT
BEGIN:VEVENT
DTSTART;TZID=America/New_York:20211024T090000
DTEND;TZID=America/New_York:20211024T110000
DTSTAMP:20260420T191142
CREATED:20211022T102645Z
LAST-MODIFIED:20211022T102743Z
UID:6819-1635066000-1635073200@emotroop29.org
SUMMARY:Manorville Hills 5 Mile Hike
DESCRIPTION:You need to be logged in to view this content. Please Log In. Not a Member? Join Us
URL:https://emotroop29.org/event/manorville-hills-5-mile-hike/
CATEGORIES:Camping/Hiking
END:VEVENT
BEGIN:VEVENT
DTSTART;TZID=America/New_York:20211019T193000
DTEND;TZID=America/New_York:20211019T210000
DTSTAMP:20260420T191142
CREATED:20210920T191725Z
LAST-MODIFIED:20210920T191725Z
UID:6794-1634671800-1634677200@emotroop29.org
SUMMARY:Troop Meeting
DESCRIPTION:You need to be logged in to view this content. Please Log In. Not a Member? Join Us
URL:https://emotroop29.org/event/troop-meeting-117/
CATEGORIES:Troop Meeting
END:VEVENT
BEGIN:VEVENT
DTSTART;VALUE=DATE:20211017
DTEND;VALUE=DATE:20211018
DTSTAMP:20260420T191142
CREATED:20211013T234601Z
LAST-MODIFIED:20211013T234703Z
UID:6809-1634428800-1634515199@emotroop29.org
SUMMARY:LI Orienteering Meet
DESCRIPTION:You need to be logged in to view this content. Please Log In. Not a Member? Join Us
URL:https://emotroop29.org/event/li-orienteering-meet/
END:VEVENT
BEGIN:VEVENT
DTSTART;TZID=America/New_York:20211016T163000
DTEND;TZID=America/New_York:20211016T173000
DTSTAMP:20260420T191142
CREATED:20211014T002437Z
LAST-MODIFIED:20211014T002645Z
UID:6813-1634401800-1634405400@emotroop29.org
SUMMARY:PLC Meeting
DESCRIPTION:You need to be logged in to view this content. Please Log In. Not a Member? Join Us
URL:https://emotroop29.org/event/plc-meeting-18/
CATEGORIES:Patrol Leaders Council Meeting
END:VEVENT
BEGIN:VEVENT
DTSTART;TZID=America/New_York:20211016T160000
DTEND;TZID=America/New_York:20211016T163000
DTSTAMP:20260420T191142
CREATED:20211014T002552Z
LAST-MODIFIED:20211014T002552Z
UID:6815-1634400000-1634401800@emotroop29.org
SUMMARY:Sandwich Making (for Sandwich Sunday)
DESCRIPTION:You need to be logged in to view this content. Please Log In. Not a Member? Join Us
URL:https://emotroop29.org/event/sandwich-making-for-sandwich-sunday/
CATEGORIES:Community Service
END:VEVENT
BEGIN:VEVENT
DTSTART;TZID=America/New_York:20211014T160000
DTEND;TZID=America/New_York:20211014T190000
DTSTAMP:20260420T191142
CREATED:20211013T233219Z
LAST-MODIFIED:20211013T233329Z
UID:6802-1634227200-1634238000@emotroop29.org
SUMMARY:Harry's Eagle Project
DESCRIPTION:You need to be logged in to view this content. Please Log In. Not a Member? Join Us
URL:https://emotroop29.org/event/harrys-eagle-project/
CATEGORIES:Eagle Scout Service Project
END:VEVENT
BEGIN:VEVENT
DTSTART;TZID=America/New_York:20211012T193000
DTEND;TZID=America/New_York:20211012T210000
DTSTAMP:20260420T191142
CREATED:20210920T191702Z
LAST-MODIFIED:20210920T191702Z
UID:6792-1634067000-1634072400@emotroop29.org
SUMMARY:Troop Meeting
DESCRIPTION:You need to be logged in to view this content. Please Log In. Not a Member? Join Us
URL:https://emotroop29.org/event/troop-meeting-116/
CATEGORIES:Troop Meeting
END:VEVENT
BEGIN:VEVENT
DTSTART;TZID=America/New_York:20211010T093000
DTEND;TZID=America/New_York:20211010T233000
DTSTAMP:20260420T191142
CREATED:20211009T110553Z
LAST-MODIFIED:20211009T110553Z
UID:6800-1633858200-1633908600@emotroop29.org
SUMMARY:Terrell River Hike
DESCRIPTION:You need to be logged in to view this content. Please Log In. Not a Member? Join Us
URL:https://emotroop29.org/event/terrell-river-hike/
CATEGORIES:Camping/Hiking
END:VEVENT
BEGIN:VEVENT
DTSTART;TZID=America/New_York:20211005T193000
DTEND;TZID=America/New_York:20211005T210000
DTSTAMP:20260420T191142
CREATED:20210920T191643Z
LAST-MODIFIED:20210920T191643Z
UID:6790-1633462200-1633467600@emotroop29.org
SUMMARY:Troop Meeting
DESCRIPTION:You need to be logged in to view this content. Please Log In. Not a Member? Join Us
URL:https://emotroop29.org/event/troop-meeting-115/
CATEGORIES:Troop Meeting
END:VEVENT
BEGIN:VEVENT
DTSTART;TZID=America/New_York:20210928T193000
DTEND;TZID=America/New_York:20210928T210000
DTSTAMP:20260420T191142
CREATED:20210920T191619Z
LAST-MODIFIED:20210920T191619Z
UID:6788-1632857400-1632862800@emotroop29.org
SUMMARY:Troop Meeting
DESCRIPTION:You need to be logged in to view this content. Please Log In. Not a Member? Join Us
URL:https://emotroop29.org/event/troop-meeting-114/
CATEGORIES:Troop Meeting
END:VEVENT
BEGIN:VEVENT
DTSTART;TZID=America/New_York:20210921T193000
DTEND;TZID=America/New_York:20210921T210000
DTSTAMP:20260420T191142
CREATED:20210920T191425Z
LAST-MODIFIED:20210920T191425Z
UID:6786-1632252600-1632258000@emotroop29.org
SUMMARY:Troop Meeting
DESCRIPTION:You need to be logged in to view this content. Please Log In. Not a Member? Join Us
URL:https://emotroop29.org/event/troop-meeting-113/
CATEGORIES:Troop Meeting
END:VEVENT
BEGIN:VEVENT
DTSTART;TZID=America/New_York:20210828T090000
DTEND;TZID=America/New_York:20210828T150000
DTSTAMP:20260420T191142
CREATED:20210804T151537Z
LAST-MODIFIED:20210804T152148Z
UID:6774-1630141200-1630162800@emotroop29.org
SUMMARY:4th Annual "In Loving Memory of Zachary Powell" Blood Drive
DESCRIPTION:You need to be logged in to view this content. Please Log In. Not a Member? Join Us
URL:https://emotroop29.org/event/4th-annual-in-loving-memory-of-zachary-powell-blood-drive-2/
LOCATION:East Moriches Fire Dept\, 9 Pine Street\, East Moriches\, NY\, 11940\, United States
END:VEVENT
BEGIN:VEVENT
DTSTART;TZID=America/New_York:20210821T110000
DTEND;TZID=America/New_York:20210821T150000
DTSTAMP:20260420T191142
CREATED:20210630T162918Z
LAST-MODIFIED:20210630T162918Z
UID:6762-1629543600-1629558000@emotroop29.org
SUMMARY:David Garcia's Eagle Court of Honor
DESCRIPTION:You need to be logged in to view this content. Please Log In. Not a Member? Join Us
URL:https://emotroop29.org/event/david-garcias-eagle-court-of-honor/
CATEGORIES:Court of Honor
END:VEVENT
BEGIN:VEVENT
DTSTART;VALUE=DATE:20210808
DTEND;VALUE=DATE:20210815
DTSTAMP:20260420T191142
CREATED:20210518T155948Z
LAST-MODIFIED:20210518T155948Z
UID:6737-1628380800-1628985599@emotroop29.org
SUMMARY:Yawgoog
DESCRIPTION:You need to be logged in to view this content. Please Log In. Not a Member? Join Us
URL:https://emotroop29.org/event/yawgoog-2/
CATEGORIES:Yawgoog
END:VEVENT
BEGIN:VEVENT
DTSTART;VALUE=DATE:20210711
DTEND;VALUE=DATE:20210718
DTSTAMP:20260420T191142
CREATED:20210518T155813Z
LAST-MODIFIED:20210518T155813Z
UID:6735-1625961600-1626566399@emotroop29.org
SUMMARY:Sea Base
DESCRIPTION:You need to be logged in to view this content. Please Log In. Not a Member? Join Us
URL:https://emotroop29.org/event/sea-base/
CATEGORIES:Troop Activity
END:VEVENT
BEGIN:VEVENT
DTSTART;TZID=America/New_York:20210629T190000
DTEND;TZID=America/New_York:20210629T193000
DTSTAMP:20260420T191142
CREATED:20201223T220900Z
LAST-MODIFIED:20210628T203321Z
UID:6551-1624993200-1624995000@emotroop29.org
SUMMARY:Yawgoog Meeting - Scouts and Parents
DESCRIPTION:You need to be logged in to view this content. Please Log In. Not a Member? Join Us
URL:https://emotroop29.org/event/plc-meeting-17/
CATEGORIES:Troop Meeting
END:VEVENT
BEGIN:VEVENT
DTSTART;TZID=America/New_York:20210627T090000
DTEND;TZID=America/New_York:20210627T130000
DTSTAMP:20260420T191142
CREATED:20210624T202808Z
LAST-MODIFIED:20210624T203000Z
UID:6749-1624784400-1624798800@emotroop29.org
SUMMARY:Eagle Project Car Wash Fundraiser
DESCRIPTION:You need to be logged in to view this content. Please Log In. Not a Member? Join Us
URL:https://emotroop29.org/event/eagle-project-car-wash-fundraiser/
CATEGORIES:Fundraiser
END:VEVENT
BEGIN:VEVENT
DTSTART;TZID=America/New_York:20210615T193000
DTEND;TZID=America/New_York:20210615T193000
DTSTAMP:20260420T191142
CREATED:20201223T220413Z
LAST-MODIFIED:20201223T220413Z
UID:6538-1623785400-1623785400@emotroop29.org
SUMMARY:Troop Meeting
DESCRIPTION:You need to be logged in to view this content. Please Log In. Not a Member? Join Us
URL:https://emotroop29.org/event/troop-meeting-112/
CATEGORIES:Troop Meeting
END:VEVENT
BEGIN:VEVENT
DTSTART;TZID=America/New_York:20210608T193000
DTEND;TZID=America/New_York:20210608T210000
DTSTAMP:20260420T191142
CREATED:20201223T220349Z
LAST-MODIFIED:20201223T220349Z
UID:6536-1623180600-1623186000@emotroop29.org
SUMMARY:Troop Meeting
DESCRIPTION:You need to be logged in to view this content. Please Log In. Not a Member? Join Us
URL:https://emotroop29.org/event/troop-meeting-111/
CATEGORIES:Troop Meeting
END:VEVENT
BEGIN:VEVENT
DTSTART;TZID=America/New_York:20210605T093000
DTEND;TZID=America/New_York:20210605T113000
DTSTAMP:20260420T191142
CREATED:20201223T221510Z
LAST-MODIFIED:20210528T195636Z
UID:6558-1622885400-1622892600@emotroop29.org
SUMMARY:Flag Retrieval
DESCRIPTION:You need to be logged in to view this content. Please Log In. Not a Member? Join Us
URL:https://emotroop29.org/event/flag-retrieval-2/
LOCATION:Calverton National Cemetery\, 210 Princeton Boulevard\, Calverton\, 11933\, United States
CATEGORIES:Troop Activity
END:VEVENT
BEGIN:VEVENT
DTSTART;TZID=America/New_York:20210601T193000
DTEND;TZID=America/New_York:20210601T210000
DTSTAMP:20260420T191142
CREATED:20201223T220324Z
LAST-MODIFIED:20201223T220324Z
UID:6534-1622575800-1622581200@emotroop29.org
SUMMARY:Troop Meeting
DESCRIPTION:You need to be logged in to view this content. Please Log In. Not a Member? Join Us
URL:https://emotroop29.org/event/troop-meeting-110/
CATEGORIES:Troop Meeting
END:VEVENT
BEGIN:VEVENT
DTSTART;VALUE=DATE:20210531
DTEND;VALUE=DATE:20210601
DTSTAMP:20260420T191142
CREATED:20200907T130112Z
LAST-MODIFIED:20200907T130112Z
UID:6244-1622419200-1622505599@emotroop29.org
SUMMARY:Memorial Day
DESCRIPTION:You need to be logged in to view this content. Please Log In. Not a Member? Join Us
URL:https://emotroop29.org/event/memorial-day/
END:VEVENT
BEGIN:VEVENT
DTSTART;TZID=America/New_York:20210529T090000
DTEND;TZID=America/New_York:20210529T100000
DTSTAMP:20260420T191142
CREATED:20210409T010837Z
LAST-MODIFIED:20210515T220723Z
UID:6698-1622278800-1622282400@emotroop29.org
SUMMARY:Flag Placement
DESCRIPTION:You need to be logged in to view this content. Please Log In. Not a Member? Join Us
URL:https://emotroop29.org/event/flag-placement-3/
CATEGORIES:Troop Activity
END:VEVENT
BEGIN:VEVENT
DTSTART;TZID=America/New_York:20210525T193000
DTEND;TZID=America/New_York:20210525T210000
DTSTAMP:20260420T191142
CREATED:20201223T220237Z
LAST-MODIFIED:20201223T220237Z
UID:6532-1621971000-1621976400@emotroop29.org
SUMMARY:Troop Meeting
DESCRIPTION:You need to be logged in to view this content. Please Log In. Not a Member? Join Us
URL:https://emotroop29.org/event/troop-meeting-109/
CATEGORIES:Troop Meeting
END:VEVENT
BEGIN:VEVENT
DTSTART;TZID=America/New_York:20210523T083000
DTEND;TZID=America/New_York:20210523T130000
DTSTAMP:20260420T191142
CREATED:20210515T220504Z
LAST-MODIFIED:20210515T220513Z
UID:6732-1621758600-1621774800@emotroop29.org
SUMMARY:Aidan McKeon's Eagle Project
DESCRIPTION:You need to be logged in to view this content. Please Log In. Not a Member? Join Us
URL:https://emotroop29.org/event/aidan-mckeons-eagle-project/
CATEGORIES:Eagle Scout Service Project
END:VEVENT
BEGIN:VEVENT
DTSTART;TZID=America/New_York:20210518T193000
DTEND;TZID=America/New_York:20210518T210000
DTSTAMP:20260420T191142
CREATED:20201223T220211Z
LAST-MODIFIED:20201223T220211Z
UID:6530-1621366200-1621371600@emotroop29.org
SUMMARY:Troop Meeting
DESCRIPTION:You need to be logged in to view this content. Please Log In. Not a Member? Join Us
URL:https://emotroop29.org/event/troop-meeting-108/
CATEGORIES:Troop Meeting
END:VEVENT
BEGIN:VEVENT
DTSTART;TZID=America/New_York:20210518T190000
DTEND;TZID=America/New_York:20210518T193000
DTSTAMP:20260420T191142
CREATED:20201223T220833Z
LAST-MODIFIED:20210518T160256Z
UID:6549-1621364400-1621366200@emotroop29.org
SUMMARY:PLC Meeting
DESCRIPTION:You need to be logged in to view this content. Please Log In. Not a Member? Join Us
URL:https://emotroop29.org/event/plc-meeting-16/
CATEGORIES:Patrol Leaders Council Meeting
END:VEVENT
END:VCALENDAR