BEGIN:VCALENDAR
VERSION:2.0
PRODID:-//East Moriches Troop 29 - ECPv6.15.20//NONSGML v1.0//EN
CALSCALE:GREGORIAN
METHOD:PUBLISH
X-WR-CALNAME:East Moriches Troop 29
X-ORIGINAL-URL:https://emotroop29.org
X-WR-CALDESC:Events for East Moriches Troop 29
REFRESH-INTERVAL;VALUE=DURATION:PT1H
X-Robots-Tag:noindex
X-PUBLISHED-TTL:PT1H
BEGIN:VTIMEZONE
TZID:America/New_York
BEGIN:DAYLIGHT
TZOFFSETFROM:-0500
TZOFFSETTO:-0400
TZNAME:EDT
DTSTART:20200308T070000
END:DAYLIGHT
BEGIN:STANDARD
TZOFFSETFROM:-0400
TZOFFSETTO:-0500
TZNAME:EST
DTSTART:20201101T060000
END:STANDARD
BEGIN:DAYLIGHT
TZOFFSETFROM:-0500
TZOFFSETTO:-0400
TZNAME:EDT
DTSTART:20210314T070000
END:DAYLIGHT
BEGIN:STANDARD
TZOFFSETFROM:-0400
TZOFFSETTO:-0500
TZNAME:EST
DTSTART:20211107T060000
END:STANDARD
BEGIN:DAYLIGHT
TZOFFSETFROM:-0500
TZOFFSETTO:-0400
TZNAME:EDT
DTSTART:20220313T070000
END:DAYLIGHT
BEGIN:STANDARD
TZOFFSETFROM:-0400
TZOFFSETTO:-0500
TZNAME:EST
DTSTART:20221106T060000
END:STANDARD
BEGIN:DAYLIGHT
TZOFFSETFROM:-0500
TZOFFSETTO:-0400
TZNAME:EDT
DTSTART:20230312T070000
END:DAYLIGHT
BEGIN:STANDARD
TZOFFSETFROM:-0400
TZOFFSETTO:-0500
TZNAME:EST
DTSTART:20231105T060000
END:STANDARD
END:VTIMEZONE
BEGIN:VEVENT
DTSTART;TZID=America/New_York:20220405T193000
DTEND;TZID=America/New_York:20220405T210000
DTSTAMP:20260421T114956
CREATED:20220412T172203Z
LAST-MODIFIED:20220412T172203Z
UID:7063-1649187000-1649192400@emotroop29.org
SUMMARY:Troop Meeting
DESCRIPTION:You need to be logged in to view this content. Please Log In. Not a Member? Join Us
URL:https://emotroop29.org/event/troop-meeting-140/
CATEGORIES:Troop Meeting
END:VEVENT
BEGIN:VEVENT
DTSTART;TZID=America/New_York:20220322T193000
DTEND;TZID=America/New_York:20220322T210000
DTSTAMP:20260421T114956
CREATED:20220301T154603Z
LAST-MODIFIED:20220301T154655Z
UID:7019-1647977400-1647982800@emotroop29.org
SUMMARY:Troop Meeting
DESCRIPTION:You need to be logged in to view this content. Please Log In. Not a Member? Join Us
URL:https://emotroop29.org/event/troop-meeting-135/
CATEGORIES:Troop Meeting
END:VEVENT
BEGIN:VEVENT
DTSTART;TZID=America/New_York:20220315T193000
DTEND;TZID=America/New_York:20220315T210000
DTSTAMP:20260421T114956
CREATED:20220301T154725Z
LAST-MODIFIED:20220301T154725Z
UID:7021-1647372600-1647378000@emotroop29.org
SUMMARY:Troop Meeting
DESCRIPTION:You need to be logged in to view this content. Please Log In. Not a Member? Join Us
URL:https://emotroop29.org/event/troop-meeting-136/
CATEGORIES:Troop Meeting
END:VEVENT
BEGIN:VEVENT
DTSTART;TZID=America/New_York:20220308T193000
DTEND;TZID=America/New_York:20220308T210000
DTSTAMP:20260421T114956
CREATED:20220301T154451Z
LAST-MODIFIED:20220301T154451Z
UID:7017-1646767800-1646773200@emotroop29.org
SUMMARY:Troop Meeting
DESCRIPTION:You need to be logged in to view this content. Please Log In. Not a Member? Join Us
URL:https://emotroop29.org/event/troop-meeting-134/
CATEGORIES:Troop Meeting
END:VEVENT
BEGIN:VEVENT
DTSTART;TZID=America/New_York:20220301T193000
DTEND;TZID=America/New_York:20220301T210000
DTSTAMP:20260421T114956
CREATED:20220211T105805Z
LAST-MODIFIED:20220211T105805Z
UID:6991-1646163000-1646168400@emotroop29.org
SUMMARY:Troop Meeting
DESCRIPTION:You need to be logged in to view this content. Please Log In. Not a Member? Join Us
URL:https://emotroop29.org/event/troop-meeting-133/
CATEGORIES:Troop Meeting
END:VEVENT
BEGIN:VEVENT
DTSTART;TZID=America/New_York:20220215T193000
DTEND;TZID=America/New_York:20220215T210000
DTSTAMP:20260421T114956
CREATED:20220211T105725Z
LAST-MODIFIED:20220215T181333Z
UID:6989-1644953400-1644958800@emotroop29.org
SUMMARY:Troop Meeting-CANCELLED
DESCRIPTION:You need to be logged in to view this content. Please Log In. Not a Member? Join Us
URL:https://emotroop29.org/event/troop-meeting-132/
CATEGORIES:Troop Meeting
END:VEVENT
BEGIN:VEVENT
DTSTART;TZID=America/New_York:20220208T193000
DTEND;TZID=America/New_York:20220208T210000
DTSTAMP:20260421T114956
CREATED:20220211T105641Z
LAST-MODIFIED:20220211T105659Z
UID:6987-1644348600-1644354000@emotroop29.org
SUMMARY:Troop Meeting
DESCRIPTION:You need to be logged in to view this content. Please Log In. Not a Member? Join Us
URL:https://emotroop29.org/event/troop-meeting-131/
CATEGORIES:Troop Meeting
END:VEVENT
BEGIN:VEVENT
DTSTART;TZID=America/New_York:20220201T193000
DTEND;TZID=America/New_York:20220201T210000
DTSTAMP:20260421T114956
CREATED:20220125T180621Z
LAST-MODIFIED:20220125T180621Z
UID:6951-1643743800-1643749200@emotroop29.org
SUMMARY:Troop Meeting
DESCRIPTION:You need to be logged in to view this content. Please Log In. Not a Member? Join Us
URL:https://emotroop29.org/event/troop-meeting-130/
CATEGORIES:Troop Meeting
END:VEVENT
BEGIN:VEVENT
DTSTART;TZID=America/New_York:20220125T193000
DTEND;TZID=America/New_York:20220125T210000
DTSTAMP:20260421T114956
CREATED:20211220T205758Z
LAST-MODIFIED:20211220T205758Z
UID:6920-1643139000-1643144400@emotroop29.org
SUMMARY:Troop Meeting
DESCRIPTION:You need to be logged in to view this content. Please Log In. Not a Member? Join Us
URL:https://emotroop29.org/event/troop-meeting-129/
CATEGORIES:Troop Meeting
END:VEVENT
BEGIN:VEVENT
DTSTART;TZID=America/New_York:20220118T193000
DTEND;TZID=America/New_York:20220118T210000
DTSTAMP:20260421T114956
CREATED:20211220T205728Z
LAST-MODIFIED:20211220T205728Z
UID:6918-1642534200-1642539600@emotroop29.org
SUMMARY:Troop Meeting
DESCRIPTION:You need to be logged in to view this content. Please Log In. Not a Member? Join Us
URL:https://emotroop29.org/event/troop-meeting-128/
CATEGORIES:Troop Meeting
END:VEVENT
BEGIN:VEVENT
DTSTART;TZID=America/New_York:20220111T193000
DTEND;TZID=America/New_York:20220111T210000
DTSTAMP:20260421T114956
CREATED:20211220T205702Z
LAST-MODIFIED:20211220T205702Z
UID:6916-1641929400-1641934800@emotroop29.org
SUMMARY:Troop Meeting
DESCRIPTION:You need to be logged in to view this content. Please Log In. Not a Member? Join Us
URL:https://emotroop29.org/event/troop-meeting-127/
CATEGORIES:Troop Meeting
END:VEVENT
BEGIN:VEVENT
DTSTART;TZID=America/New_York:20211221T193000
DTEND;TZID=America/New_York:20211221T210000
DTSTAMP:20260421T114956
CREATED:20211213T165925Z
LAST-MODIFIED:20211213T165925Z
UID:6892-1640115000-1640120400@emotroop29.org
SUMMARY:Troop Meeting
DESCRIPTION:You need to be logged in to view this content. Please Log In. Not a Member? Join Us
URL:https://emotroop29.org/event/troop-meeting-126/
CATEGORIES:Troop Meeting
END:VEVENT
BEGIN:VEVENT
DTSTART;TZID=America/New_York:20211214T193000
DTEND;TZID=America/New_York:20211214T203000
DTSTAMP:20260421T114956
CREATED:20211213T165901Z
LAST-MODIFIED:20211213T170048Z
UID:6890-1639510200-1639513800@emotroop29.org
SUMMARY:Troop Meeting
DESCRIPTION:You need to be logged in to view this content. Please Log In. Not a Member? Join Us
URL:https://emotroop29.org/event/troop-meeting-125/
CATEGORIES:Troop Meeting
END:VEVENT
BEGIN:VEVENT
DTSTART;TZID=America/New_York:20211207T193000
DTEND;TZID=America/New_York:20211207T210000
DTSTAMP:20260421T114956
CREATED:20211207T195350Z
LAST-MODIFIED:20211207T195350Z
UID:6878-1638905400-1638910800@emotroop29.org
SUMMARY:Troop Meeting
DESCRIPTION:You need to be logged in to view this content. Please Log In. Not a Member? Join Us
URL:https://emotroop29.org/event/troop-meeting-124/
CATEGORIES:Troop Meeting
END:VEVENT
BEGIN:VEVENT
DTSTART;TZID=America/New_York:20211130T193000
DTEND;TZID=America/New_York:20211130T210000
DTSTAMP:20260421T114956
CREATED:20211026T125956Z
LAST-MODIFIED:20211026T125956Z
UID:6836-1638300600-1638306000@emotroop29.org
SUMMARY:Troop Meeting
DESCRIPTION:You need to be logged in to view this content. Please Log In. Not a Member? Join Us
URL:https://emotroop29.org/event/troop-meeting-123/
CATEGORIES:Troop Meeting
END:VEVENT
BEGIN:VEVENT
DTSTART;TZID=America/New_York:20211123T193000
DTEND;TZID=America/New_York:20211123T203000
DTSTAMP:20260421T114956
CREATED:20211026T125921Z
LAST-MODIFIED:20211123T232952Z
UID:6834-1637695800-1637699400@emotroop29.org
SUMMARY:Troop Meeting
DESCRIPTION:You need to be logged in to view this content. Please Log In. Not a Member? Join Us
URL:https://emotroop29.org/event/troop-meeting-122/
CATEGORIES:Troop Meeting
END:VEVENT
BEGIN:VEVENT
DTSTART;TZID=America/New_York:20211116T193000
DTEND;TZID=America/New_York:20211116T210000
DTSTAMP:20260421T114956
CREATED:20211026T125535Z
LAST-MODIFIED:20211109T180132Z
UID:6832-1637091000-1637096400@emotroop29.org
SUMMARY:Troop Meeting-COH
DESCRIPTION:You need to be logged in to view this content. Please Log In. Not a Member? Join Us
URL:https://emotroop29.org/event/troop-meeting-121/
CATEGORIES:Troop Meeting
END:VEVENT
BEGIN:VEVENT
DTSTART;TZID=America/New_York:20211109T193000
DTEND;TZID=America/New_York:20211109T210000
DTSTAMP:20260421T114956
CREATED:20211026T125510Z
LAST-MODIFIED:20211026T125510Z
UID:6830-1636486200-1636491600@emotroop29.org
SUMMARY:Troop Meeting
DESCRIPTION:You need to be logged in to view this content. Please Log In. Not a Member? Join Us
URL:https://emotroop29.org/event/troop-meeting-120/
CATEGORIES:Troop Meeting
END:VEVENT
BEGIN:VEVENT
DTSTART;TZID=America/New_York:20211102T193000
DTEND;TZID=America/New_York:20211102T210000
DTSTAMP:20260421T114956
CREATED:20211026T125433Z
LAST-MODIFIED:20211026T125433Z
UID:6828-1635881400-1635886800@emotroop29.org
SUMMARY:Troop Meeting
DESCRIPTION:You need to be logged in to view this content. Please Log In. Not a Member? Join Us
URL:https://emotroop29.org/event/troop-meeting-119/
CATEGORIES:Troop Meeting
END:VEVENT
BEGIN:VEVENT
DTSTART;TZID=America/New_York:20211026T193000
DTEND;TZID=America/New_York:20211026T210000
DTSTAMP:20260421T114956
CREATED:20210920T191756Z
LAST-MODIFIED:20211026T133030Z
UID:6796-1635276600-1635282000@emotroop29.org
SUMMARY:Troop Meeting-CANCELLED
DESCRIPTION:You need to be logged in to view this content. Please Log In. Not a Member? Join Us
URL:https://emotroop29.org/event/troop-meeting-118/
CATEGORIES:Troop Meeting
END:VEVENT
BEGIN:VEVENT
DTSTART;TZID=America/New_York:20211019T193000
DTEND;TZID=America/New_York:20211019T210000
DTSTAMP:20260421T114956
CREATED:20210920T191725Z
LAST-MODIFIED:20210920T191725Z
UID:6794-1634671800-1634677200@emotroop29.org
SUMMARY:Troop Meeting
DESCRIPTION:You need to be logged in to view this content. Please Log In. Not a Member? Join Us
URL:https://emotroop29.org/event/troop-meeting-117/
CATEGORIES:Troop Meeting
END:VEVENT
BEGIN:VEVENT
DTSTART;TZID=America/New_York:20211012T193000
DTEND;TZID=America/New_York:20211012T210000
DTSTAMP:20260421T114956
CREATED:20210920T191702Z
LAST-MODIFIED:20210920T191702Z
UID:6792-1634067000-1634072400@emotroop29.org
SUMMARY:Troop Meeting
DESCRIPTION:You need to be logged in to view this content. Please Log In. Not a Member? Join Us
URL:https://emotroop29.org/event/troop-meeting-116/
CATEGORIES:Troop Meeting
END:VEVENT
BEGIN:VEVENT
DTSTART;TZID=America/New_York:20211005T193000
DTEND;TZID=America/New_York:20211005T210000
DTSTAMP:20260421T114956
CREATED:20210920T191643Z
LAST-MODIFIED:20210920T191643Z
UID:6790-1633462200-1633467600@emotroop29.org
SUMMARY:Troop Meeting
DESCRIPTION:You need to be logged in to view this content. Please Log In. Not a Member? Join Us
URL:https://emotroop29.org/event/troop-meeting-115/
CATEGORIES:Troop Meeting
END:VEVENT
BEGIN:VEVENT
DTSTART;TZID=America/New_York:20210928T193000
DTEND;TZID=America/New_York:20210928T210000
DTSTAMP:20260421T114956
CREATED:20210920T191619Z
LAST-MODIFIED:20210920T191619Z
UID:6788-1632857400-1632862800@emotroop29.org
SUMMARY:Troop Meeting
DESCRIPTION:You need to be logged in to view this content. Please Log In. Not a Member? Join Us
URL:https://emotroop29.org/event/troop-meeting-114/
CATEGORIES:Troop Meeting
END:VEVENT
BEGIN:VEVENT
DTSTART;TZID=America/New_York:20210921T193000
DTEND;TZID=America/New_York:20210921T210000
DTSTAMP:20260421T114956
CREATED:20210920T191425Z
LAST-MODIFIED:20210920T191425Z
UID:6786-1632252600-1632258000@emotroop29.org
SUMMARY:Troop Meeting
DESCRIPTION:You need to be logged in to view this content. Please Log In. Not a Member? Join Us
URL:https://emotroop29.org/event/troop-meeting-113/
CATEGORIES:Troop Meeting
END:VEVENT
BEGIN:VEVENT
DTSTART;TZID=America/New_York:20210629T190000
DTEND;TZID=America/New_York:20210629T193000
DTSTAMP:20260421T114956
CREATED:20201223T220900Z
LAST-MODIFIED:20210628T203321Z
UID:6551-1624993200-1624995000@emotroop29.org
SUMMARY:Yawgoog Meeting - Scouts and Parents
DESCRIPTION:You need to be logged in to view this content. Please Log In. Not a Member? Join Us
URL:https://emotroop29.org/event/plc-meeting-17/
CATEGORIES:Troop Meeting
END:VEVENT
BEGIN:VEVENT
DTSTART;TZID=America/New_York:20210615T193000
DTEND;TZID=America/New_York:20210615T193000
DTSTAMP:20260421T114956
CREATED:20201223T220413Z
LAST-MODIFIED:20201223T220413Z
UID:6538-1623785400-1623785400@emotroop29.org
SUMMARY:Troop Meeting
DESCRIPTION:You need to be logged in to view this content. Please Log In. Not a Member? Join Us
URL:https://emotroop29.org/event/troop-meeting-112/
CATEGORIES:Troop Meeting
END:VEVENT
BEGIN:VEVENT
DTSTART;TZID=America/New_York:20210608T193000
DTEND;TZID=America/New_York:20210608T210000
DTSTAMP:20260421T114956
CREATED:20201223T220349Z
LAST-MODIFIED:20201223T220349Z
UID:6536-1623180600-1623186000@emotroop29.org
SUMMARY:Troop Meeting
DESCRIPTION:You need to be logged in to view this content. Please Log In. Not a Member? Join Us
URL:https://emotroop29.org/event/troop-meeting-111/
CATEGORIES:Troop Meeting
END:VEVENT
BEGIN:VEVENT
DTSTART;TZID=America/New_York:20210601T193000
DTEND;TZID=America/New_York:20210601T210000
DTSTAMP:20260421T114956
CREATED:20201223T220324Z
LAST-MODIFIED:20201223T220324Z
UID:6534-1622575800-1622581200@emotroop29.org
SUMMARY:Troop Meeting
DESCRIPTION:You need to be logged in to view this content. Please Log In. Not a Member? Join Us
URL:https://emotroop29.org/event/troop-meeting-110/
CATEGORIES:Troop Meeting
END:VEVENT
BEGIN:VEVENT
DTSTART;TZID=America/New_York:20210525T193000
DTEND;TZID=America/New_York:20210525T210000
DTSTAMP:20260421T114956
CREATED:20201223T220237Z
LAST-MODIFIED:20201223T220237Z
UID:6532-1621971000-1621976400@emotroop29.org
SUMMARY:Troop Meeting
DESCRIPTION:You need to be logged in to view this content. Please Log In. Not a Member? Join Us
URL:https://emotroop29.org/event/troop-meeting-109/
CATEGORIES:Troop Meeting
END:VEVENT
END:VCALENDAR