BEGIN:VCALENDAR
VERSION:2.0
PRODID:-//East Moriches Troop 29 - ECPv6.15.20//NONSGML v1.0//EN
CALSCALE:GREGORIAN
METHOD:PUBLISH
X-WR-CALNAME:East Moriches Troop 29
X-ORIGINAL-URL:https://emotroop29.org
X-WR-CALDESC:Events for East Moriches Troop 29
REFRESH-INTERVAL;VALUE=DURATION:PT1H
X-Robots-Tag:noindex
X-PUBLISHED-TTL:PT1H
BEGIN:VTIMEZONE
TZID:America/New_York
BEGIN:DAYLIGHT
TZOFFSETFROM:-0500
TZOFFSETTO:-0400
TZNAME:EDT
DTSTART:20210314T070000
END:DAYLIGHT
BEGIN:STANDARD
TZOFFSETFROM:-0400
TZOFFSETTO:-0500
TZNAME:EST
DTSTART:20211107T060000
END:STANDARD
BEGIN:DAYLIGHT
TZOFFSETFROM:-0500
TZOFFSETTO:-0400
TZNAME:EDT
DTSTART:20220313T070000
END:DAYLIGHT
BEGIN:STANDARD
TZOFFSETFROM:-0400
TZOFFSETTO:-0500
TZNAME:EST
DTSTART:20221106T060000
END:STANDARD
BEGIN:DAYLIGHT
TZOFFSETFROM:-0500
TZOFFSETTO:-0400
TZNAME:EDT
DTSTART:20230312T070000
END:DAYLIGHT
BEGIN:STANDARD
TZOFFSETFROM:-0400
TZOFFSETTO:-0500
TZNAME:EST
DTSTART:20231105T060000
END:STANDARD
BEGIN:DAYLIGHT
TZOFFSETFROM:-0500
TZOFFSETTO:-0400
TZNAME:EDT
DTSTART:20240310T070000
END:DAYLIGHT
BEGIN:STANDARD
TZOFFSETFROM:-0400
TZOFFSETTO:-0500
TZNAME:EST
DTSTART:20241103T060000
END:STANDARD
END:VTIMEZONE
BEGIN:VEVENT
DTSTART;TZID=America/New_York:20230131T193000
DTEND;TZID=America/New_York:20230131T210000
DTSTAMP:20260419T143905
CREATED:20220905T134501Z
LAST-MODIFIED:20220905T134501Z
UID:7392-1675193400-1675198800@emotroop29.org
SUMMARY:Troop Meeting
DESCRIPTION:You need to be logged in to view this content. Please Log In. Not a Member? Join Us
URL:https://emotroop29.org/event/troop-meeting-167/
CATEGORIES:Troop Meeting
END:VEVENT
BEGIN:VEVENT
DTSTART;TZID=America/New_York:20230124T193000
DTEND;TZID=America/New_York:20230124T210000
DTSTAMP:20260419T143905
CREATED:20220905T134433Z
LAST-MODIFIED:20220905T134433Z
UID:7390-1674588600-1674594000@emotroop29.org
SUMMARY:Troop Meeting
DESCRIPTION:You need to be logged in to view this content. Please Log In. Not a Member? Join Us
URL:https://emotroop29.org/event/troop-meeting-166/
CATEGORIES:Troop Meeting
END:VEVENT
BEGIN:VEVENT
DTSTART;TZID=America/New_York:20230117T193000
DTEND;TZID=America/New_York:20230117T210000
DTSTAMP:20260419T143905
CREATED:20220905T134403Z
LAST-MODIFIED:20220906T144541Z
UID:7388-1673983800-1673989200@emotroop29.org
SUMMARY:Troop Meeting
DESCRIPTION:You need to be logged in to view this content. Please Log In. Not a Member? Join Us
URL:https://emotroop29.org/event/troop-meeting-165/
CATEGORIES:Troop Meeting
END:VEVENT
BEGIN:VEVENT
DTSTART;TZID=America/New_York:20230110T193000
DTEND;TZID=America/New_York:20230110T210000
DTSTAMP:20260419T143905
CREATED:20220905T134326Z
LAST-MODIFIED:20220906T145453Z
UID:7386-1673379000-1673384400@emotroop29.org
SUMMARY:Troop Meeting - MB Night
DESCRIPTION:You need to be logged in to view this content. Please Log In. Not a Member? Join Us
URL:https://emotroop29.org/event/troop-meeting-164/
CATEGORIES:Merit Badge Program Night,Troop Meeting
END:VEVENT
BEGIN:VEVENT
DTSTART;TZID=America/New_York:20230103T193000
DTEND;TZID=America/New_York:20230103T210000
DTSTAMP:20260419T143905
CREATED:20220905T134253Z
LAST-MODIFIED:20220905T134253Z
UID:7384-1672774200-1672779600@emotroop29.org
SUMMARY:Troop Meeting
DESCRIPTION:You need to be logged in to view this content. Please Log In. Not a Member? Join Us
URL:https://emotroop29.org/event/troop-meeting-163/
CATEGORIES:Troop Meeting
END:VEVENT
BEGIN:VEVENT
DTSTART;VALUE=DATE:20221227
DTEND;VALUE=DATE:20221228
DTSTAMP:20260419T143905
CREATED:20220904T180739Z
LAST-MODIFIED:20220904T180739Z
UID:7311-1672099200-1672185599@emotroop29.org
SUMMARY:No Meeting
DESCRIPTION:You need to be logged in to view this content. Please Log In. Not a Member? Join Us
URL:https://emotroop29.org/event/no-meeting-12/
CATEGORIES:Troop Meeting
END:VEVENT
BEGIN:VEVENT
DTSTART;TZID=America/New_York:20221220T193000
DTEND;TZID=America/New_York:20221220T210000
DTSTAMP:20260419T143905
CREATED:20220904T181425Z
LAST-MODIFIED:20220906T164338Z
UID:7337-1671564600-1671570000@emotroop29.org
SUMMARY:Troop Meeting - COH
DESCRIPTION:You need to be logged in to view this content. Please Log In. Not a Member? Join Us
URL:https://emotroop29.org/event/troop-meeting-162/
CATEGORIES:Court of Honor,Troop Meeting
END:VEVENT
BEGIN:VEVENT
DTSTART;TZID=America/New_York:20221213T193000
DTEND;TZID=America/New_York:20221213T210000
DTSTAMP:20260419T143905
CREATED:20220904T181353Z
LAST-MODIFIED:20220921T155719Z
UID:7335-1670959800-1670965200@emotroop29.org
SUMMARY:Troop Meeting - Off Site Activity
DESCRIPTION:You need to be logged in to view this content. Please Log In. Not a Member? Join Us
URL:https://emotroop29.org/event/troop-meeting-161/
CATEGORIES:Troop Activity,Troop Meeting
END:VEVENT
BEGIN:VEVENT
DTSTART;TZID=America/New_York:20221206T193000
DTEND;TZID=America/New_York:20221206T210000
DTSTAMP:20260419T143905
CREATED:20220904T181324Z
LAST-MODIFIED:20220904T181324Z
UID:7333-1670355000-1670360400@emotroop29.org
SUMMARY:Troop Meeting
DESCRIPTION:You need to be logged in to view this content. Please Log In. Not a Member? Join Us
URL:https://emotroop29.org/event/troop-meeting-160/
CATEGORIES:Troop Meeting
END:VEVENT
BEGIN:VEVENT
DTSTART;TZID=America/New_York:20221129T193000
DTEND;TZID=America/New_York:20221129T210000
DTSTAMP:20260419T143905
CREATED:20220904T181255Z
LAST-MODIFIED:20220904T181255Z
UID:7331-1669750200-1669755600@emotroop29.org
SUMMARY:Troop Meeting
DESCRIPTION:You need to be logged in to view this content. Please Log In. Not a Member? Join Us
URL:https://emotroop29.org/event/troop-meeting-159/
CATEGORIES:Troop Meeting
END:VEVENT
BEGIN:VEVENT
DTSTART;TZID=America/New_York:20221122T193000
DTEND;TZID=America/New_York:20221122T210000
DTSTAMP:20260419T143905
CREATED:20220904T181228Z
LAST-MODIFIED:20220904T182340Z
UID:7329-1669145400-1669150800@emotroop29.org
SUMMARY:Troop Meeting
DESCRIPTION:You need to be logged in to view this content. Please Log In. Not a Member? Join Us
URL:https://emotroop29.org/event/troop-meeting-158/
CATEGORIES:Troop Meeting
END:VEVENT
BEGIN:VEVENT
DTSTART;TZID=America/New_York:20221115T193000
DTEND;TZID=America/New_York:20221115T210000
DTSTAMP:20260419T143905
CREATED:20220904T181204Z
LAST-MODIFIED:20220906T144454Z
UID:7327-1668540600-1668546000@emotroop29.org
SUMMARY:Troop Meeting
DESCRIPTION:You need to be logged in to view this content. Please Log In. Not a Member? Join Us
URL:https://emotroop29.org/event/troop-meeting-157/
CATEGORIES:Troop Meeting
END:VEVENT
BEGIN:VEVENT
DTSTART;TZID=America/New_York:20221108T193000
DTEND;TZID=America/New_York:20221108T210000
DTSTAMP:20260419T143905
CREATED:20220904T181141Z
LAST-MODIFIED:20220921T155627Z
UID:7325-1667935800-1667941200@emotroop29.org
SUMMARY:Troop Meeting - Off Site Activity
DESCRIPTION:You need to be logged in to view this content. Please Log In. Not a Member? Join Us
URL:https://emotroop29.org/event/troop-meeting-156/
CATEGORIES:Troop Activity,Troop Meeting
END:VEVENT
BEGIN:VEVENT
DTSTART;TZID=America/New_York:20221101T193000
DTEND;TZID=America/New_York:20221101T210000
DTSTAMP:20260419T143905
CREATED:20220904T181118Z
LAST-MODIFIED:20220904T182225Z
UID:7323-1667331000-1667336400@emotroop29.org
SUMMARY:Troop Meeting
DESCRIPTION:You need to be logged in to view this content. Please Log In. Not a Member? Join Us
URL:https://emotroop29.org/event/troop-meeting-155/
CATEGORIES:Troop Meeting
END:VEVENT
BEGIN:VEVENT
DTSTART;TZID=America/New_York:20221025T193000
DTEND;TZID=America/New_York:20221025T210000
DTSTAMP:20260419T143905
CREATED:20220904T181046Z
LAST-MODIFIED:20220904T182149Z
UID:7321-1666726200-1666731600@emotroop29.org
SUMMARY:Troop Meeting
DESCRIPTION:You need to be logged in to view this content. Please Log In. Not a Member? Join Us
URL:https://emotroop29.org/event/troop-meeting-154/
CATEGORIES:Troop Meeting
END:VEVENT
BEGIN:VEVENT
DTSTART;TZID=America/New_York:20221018T193000
DTEND;TZID=America/New_York:20221018T210000
DTSTAMP:20260419T143905
CREATED:20220904T181024Z
LAST-MODIFIED:20220906T144416Z
UID:7319-1666121400-1666126800@emotroop29.org
SUMMARY:Troop Meeting
DESCRIPTION:You need to be logged in to view this content. Please Log In. Not a Member? Join Us
URL:https://emotroop29.org/event/troop-meeting-153/
CATEGORIES:Troop Meeting
END:VEVENT
BEGIN:VEVENT
DTSTART;TZID=America/New_York:20221011T193000
DTEND;TZID=America/New_York:20221011T210000
DTSTAMP:20260419T143905
CREATED:20220904T180946Z
LAST-MODIFIED:20220929T105549Z
UID:7317-1665516600-1665522000@emotroop29.org
SUMMARY:Troop Meeting - ILST Training Part 2
DESCRIPTION:You need to be logged in to view this content. Please Log In. Not a Member? Join Us
URL:https://emotroop29.org/event/troop-meeting-152/
CATEGORIES:Troop Meeting
END:VEVENT
BEGIN:VEVENT
DTSTART;TZID=America/New_York:20221004T193000
DTEND;TZID=America/New_York:20221004T210000
DTSTAMP:20260419T143905
CREATED:20220904T175228Z
LAST-MODIFIED:20220929T104045Z
UID:7305-1664911800-1664917200@emotroop29.org
SUMMARY:Troop Meeting
DESCRIPTION:You need to be logged in to view this content. Please Log In. Not a Member? Join Us
URL:https://emotroop29.org/event/troop-meeting-151/
CATEGORIES:Troop Meeting
END:VEVENT
BEGIN:VEVENT
DTSTART;VALUE=DATE:20220927
DTEND;VALUE=DATE:20220928
DTSTAMP:20260419T143905
CREATED:20220904T175720Z
LAST-MODIFIED:20220904T180714Z
UID:7309-1664236800-1664323199@emotroop29.org
SUMMARY:No Meeting
DESCRIPTION:You need to be logged in to view this content. Please Log In. Not a Member? Join Us
URL:https://emotroop29.org/event/no-meeting-11/
CATEGORIES:Troop Meeting
END:VEVENT
BEGIN:VEVENT
DTSTART;TZID=America/New_York:20220920T193000
DTEND;TZID=America/New_York:20220920T210000
DTSTAMP:20260419T143905
CREATED:20220904T175143Z
LAST-MODIFIED:20220906T164259Z
UID:7303-1663702200-1663707600@emotroop29.org
SUMMARY:Troop Meeting - COH
DESCRIPTION:You need to be logged in to view this content. Please Log In. Not a Member? Join Us
URL:https://emotroop29.org/event/troop-meeting-150/
CATEGORIES:Court of Honor,Troop Meeting
END:VEVENT
BEGIN:VEVENT
DTSTART;TZID=America/New_York:20220906T193000
DTEND;TZID=America/New_York:20220906T210000
DTSTAMP:20260419T143905
CREATED:20220904T174842Z
LAST-MODIFIED:20220906T191502Z
UID:7299-1662492600-1662498000@emotroop29.org
SUMMARY:Troop Meeting - ILST Training Part 1
DESCRIPTION:You need to be logged in to view this content. Please Log In. Not a Member? Join Us
URL:https://emotroop29.org/event/troop-meeting-148/
CATEGORIES:Troop Meeting
END:VEVENT
BEGIN:VEVENT
DTSTART;TZID=America/New_York:20220614T193000
DTEND;TZID=America/New_York:20220614T210000
DTSTAMP:20260419T143905
CREATED:20220607T133733Z
LAST-MODIFIED:20220607T133733Z
UID:7264-1655235000-1655240400@emotroop29.org
SUMMARY:Troop Meeting
DESCRIPTION:You need to be logged in to view this content. Please Log In. Not a Member? Join Us
URL:https://emotroop29.org/event/troop-meeting-147/
CATEGORIES:Merit Badge Program Night,Troop Meeting
END:VEVENT
BEGIN:VEVENT
DTSTART;TZID=America/New_York:20220607T193000
DTEND;TZID=America/New_York:20220607T210000
DTSTAMP:20260419T143905
CREATED:20220607T133626Z
LAST-MODIFIED:20220607T133626Z
UID:7262-1654630200-1654635600@emotroop29.org
SUMMARY:Troop Meeting
DESCRIPTION:You need to be logged in to view this content. Please Log In. Not a Member? Join Us
URL:https://emotroop29.org/event/troop-meeting-146/
CATEGORIES:Troop Meeting
END:VEVENT
BEGIN:VEVENT
DTSTART;TZID=America/New_York:20220531T193000
DTEND;TZID=America/New_York:20220531T210000
DTSTAMP:20260419T143905
CREATED:20220412T172523Z
LAST-MODIFIED:20220412T172523Z
UID:7073-1654025400-1654030800@emotroop29.org
SUMMARY:Troop Meeting
DESCRIPTION:You need to be logged in to view this content. Please Log In. Not a Member? Join Us
URL:https://emotroop29.org/event/troop-meeting-145/
CATEGORIES:Troop Meeting
END:VEVENT
BEGIN:VEVENT
DTSTART;TZID=America/New_York:20220524T193000
DTEND;TZID=America/New_York:20220524T210000
DTSTAMP:20260419T143905
CREATED:20220412T172434Z
LAST-MODIFIED:20220516T013419Z
UID:7071-1653420600-1653426000@emotroop29.org
SUMMARY:Troop Meeting-COH
DESCRIPTION:You need to be logged in to view this content. Please Log In. Not a Member? Join Us
URL:https://emotroop29.org/event/troop-meeting-144/
CATEGORIES:Troop Meeting
END:VEVENT
BEGIN:VEVENT
DTSTART;TZID=America/New_York:20220517T193000
DTEND;TZID=America/New_York:20220517T210000
DTSTAMP:20260419T143905
CREATED:20220412T172408Z
LAST-MODIFIED:20220516T013235Z
UID:7069-1652815800-1652821200@emotroop29.org
SUMMARY:Troop Bowling
DESCRIPTION:You need to be logged in to view this content. Please Log In. Not a Member? Join Us
URL:https://emotroop29.org/event/troop-meeting-143/
CATEGORIES:Troop Activity,Troop Meeting
END:VEVENT
BEGIN:VEVENT
DTSTART;TZID=America/New_York:20220510T193000
DTEND;TZID=America/New_York:20220510T210000
DTSTAMP:20260419T143905
CREATED:20220412T172344Z
LAST-MODIFIED:20220509T210923Z
UID:7067-1652211000-1652216400@emotroop29.org
SUMMARY:Troop Meeting-MB night
DESCRIPTION:You need to be logged in to view this content. Please Log In. Not a Member? Join Us
URL:https://emotroop29.org/event/troop-meeting-142/
CATEGORIES:Merit Badge Program Night,Troop Meeting
END:VEVENT
BEGIN:VEVENT
DTSTART;TZID=America/New_York:20220503T193000
DTEND;TZID=America/New_York:20220503T210000
DTSTAMP:20260419T143905
CREATED:20220412T172306Z
LAST-MODIFIED:20220412T172315Z
UID:7065-1651606200-1651611600@emotroop29.org
SUMMARY:Troop Meeting
DESCRIPTION:You need to be logged in to view this content. Please Log In. Not a Member? Join Us
URL:https://emotroop29.org/event/troop-meeting-141/
CATEGORIES:Troop Meeting
END:VEVENT
BEGIN:VEVENT
DTSTART;TZID=America/New_York:20220426T193000
DTEND;TZID=America/New_York:20220426T210000
DTSTAMP:20260419T143905
CREATED:20220412T171819Z
LAST-MODIFIED:20220412T171819Z
UID:7059-1651001400-1651006800@emotroop29.org
SUMMARY:Troop Meeting
DESCRIPTION:You need to be logged in to view this content. Please Log In. Not a Member? Join Us
URL:https://emotroop29.org/event/troop-meeting-139/
CATEGORIES:Troop Meeting
END:VEVENT
BEGIN:VEVENT
DTSTART;TZID=America/New_York:20220412T193000
DTEND;TZID=America/New_York:20220412T210000
DTSTAMP:20260419T143905
CREATED:20220412T171757Z
LAST-MODIFIED:20220412T171757Z
UID:7057-1649791800-1649797200@emotroop29.org
SUMMARY:Troop Meeting
DESCRIPTION:You need to be logged in to view this content. Please Log In. Not a Member? Join Us
URL:https://emotroop29.org/event/troop-meeting-138/
CATEGORIES:Troop Meeting
END:VEVENT
END:VCALENDAR