BEGIN:VCALENDAR
VERSION:2.0
PRODID:-//East Moriches Troop 29 - ECPv6.15.20//NONSGML v1.0//EN
CALSCALE:GREGORIAN
METHOD:PUBLISH
X-ORIGINAL-URL:https://emotroop29.org
X-WR-CALDESC:Events for East Moriches Troop 29
REFRESH-INTERVAL;VALUE=DURATION:PT1H
X-Robots-Tag:noindex
X-PUBLISHED-TTL:PT1H
BEGIN:VTIMEZONE
TZID:America/New_York
BEGIN:DAYLIGHT
TZOFFSETFROM:-0500
TZOFFSETTO:-0400
TZNAME:EDT
DTSTART:20190310T070000
END:DAYLIGHT
BEGIN:STANDARD
TZOFFSETFROM:-0400
TZOFFSETTO:-0500
TZNAME:EST
DTSTART:20191103T060000
END:STANDARD
BEGIN:DAYLIGHT
TZOFFSETFROM:-0500
TZOFFSETTO:-0400
TZNAME:EDT
DTSTART:20200308T070000
END:DAYLIGHT
BEGIN:STANDARD
TZOFFSETFROM:-0400
TZOFFSETTO:-0500
TZNAME:EST
DTSTART:20201101T060000
END:STANDARD
BEGIN:DAYLIGHT
TZOFFSETFROM:-0500
TZOFFSETTO:-0400
TZNAME:EDT
DTSTART:20210314T070000
END:DAYLIGHT
BEGIN:STANDARD
TZOFFSETFROM:-0400
TZOFFSETTO:-0500
TZNAME:EST
DTSTART:20211107T060000
END:STANDARD
BEGIN:DAYLIGHT
TZOFFSETFROM:-0500
TZOFFSETTO:-0400
TZNAME:EDT
DTSTART:20220313T070000
END:DAYLIGHT
BEGIN:STANDARD
TZOFFSETFROM:-0400
TZOFFSETTO:-0500
TZNAME:EST
DTSTART:20221106T060000
END:STANDARD
END:VTIMEZONE
BEGIN:VEVENT
DTSTART;TZID=America/New_York:20210302T193000
DTEND;TZID=America/New_York:20210302T210000
DTSTAMP:20260423T155820
CREATED:20201223T215433Z
LAST-MODIFIED:20201223T215433Z
UID:6510-1614713400-1614718800@emotroop29.org
SUMMARY:Troop Meeting
DESCRIPTION:You need to be logged in to view this content. Please Log In. Not a Member? Join Us
URL:https://emotroop29.org/event/troop-meeting-98/
CATEGORIES:Troop Meeting
END:VEVENT
BEGIN:VEVENT
DTSTART;TZID=America/New_York:20210223T183000
DTEND;TZID=America/New_York:20210223T200000
DTSTAMP:20260423T155820
CREATED:20201223T215358Z
LAST-MODIFIED:20210206T140118Z
UID:6508-1614105000-1614110400@emotroop29.org
SUMMARY:Troop Meeting
DESCRIPTION:You need to be logged in to view this content. Please Log In. Not a Member? Join Us
URL:https://emotroop29.org/event/troop-meeting-97/
CATEGORIES:Troop Meeting
END:VEVENT
BEGIN:VEVENT
DTSTART;TZID=America/New_York:20210209T193000
DTEND;TZID=America/New_York:20210209T210000
DTSTAMP:20260423T155820
CREATED:20201223T215238Z
LAST-MODIFIED:20201223T215238Z
UID:6506-1612899000-1612904400@emotroop29.org
SUMMARY:Troop Meeting
DESCRIPTION:You need to be logged in to view this content. Please Log In. Not a Member? Join Us
URL:https://emotroop29.org/event/troop-meeting-96/
CATEGORIES:Troop Meeting
END:VEVENT
BEGIN:VEVENT
DTSTART;TZID=America/New_York:20210202T193000
DTEND;TZID=America/New_York:20210202T210000
DTSTAMP:20260423T155820
CREATED:20201223T215213Z
LAST-MODIFIED:20201223T215213Z
UID:6504-1612294200-1612299600@emotroop29.org
SUMMARY:Troop Meeting
DESCRIPTION:You need to be logged in to view this content. Please Log In. Not a Member? Join Us
URL:https://emotroop29.org/event/troop-meeting-95/
CATEGORIES:Troop Meeting
END:VEVENT
BEGIN:VEVENT
DTSTART;TZID=America/New_York:20210126T193000
DTEND;TZID=America/New_York:20210126T210000
DTSTAMP:20260423T155820
CREATED:20201223T215146Z
LAST-MODIFIED:20201223T215146Z
UID:6502-1611689400-1611694800@emotroop29.org
SUMMARY:Troop Meeting
DESCRIPTION:You need to be logged in to view this content. Please Log In. Not a Member? Join Us
URL:https://emotroop29.org/event/troop-meeting-94/
CATEGORIES:Troop Meeting
END:VEVENT
BEGIN:VEVENT
DTSTART;TZID=America/New_York:20210119T193000
DTEND;TZID=America/New_York:20210119T210000
DTSTAMP:20260423T155820
CREATED:20201223T215118Z
LAST-MODIFIED:20201223T215118Z
UID:6500-1611084600-1611090000@emotroop29.org
SUMMARY:Troop Meeting
DESCRIPTION:You need to be logged in to view this content. Please Log In. Not a Member? Join Us
URL:https://emotroop29.org/event/troop-meeting-93/
CATEGORIES:Troop Meeting
END:VEVENT
BEGIN:VEVENT
DTSTART;TZID=America/New_York:20210112T193000
DTEND;TZID=America/New_York:20210112T210000
DTSTAMP:20260423T155820
CREATED:20201223T213818Z
LAST-MODIFIED:20201223T213833Z
UID:6498-1610479800-1610485200@emotroop29.org
SUMMARY:Troop Meeting
DESCRIPTION:You need to be logged in to view this content. Please Log In. Not a Member? Join Us
URL:https://emotroop29.org/event/troop-meeting-92/
CATEGORIES:Troop Meeting
END:VEVENT
BEGIN:VEVENT
DTSTART;TZID=America/New_York:20210105T193000
DTEND;TZID=America/New_York:20210105T210000
DTSTAMP:20260423T155820
CREATED:20201223T213727Z
LAST-MODIFIED:20201223T213727Z
UID:6496-1609875000-1609880400@emotroop29.org
SUMMARY:Troop Meeting
DESCRIPTION:You need to be logged in to view this content. Please Log In. Not a Member? Join Us
URL:https://emotroop29.org/event/troop-meeting-91/
CATEGORIES:Troop Meeting
END:VEVENT
BEGIN:VEVENT
DTSTART;TZID=America/New_York:20201222T193000
DTEND;TZID=America/New_York:20201222T210000
DTSTAMP:20260423T155820
CREATED:20200928T124527Z
LAST-MODIFIED:20200928T124527Z
UID:6346-1608665400-1608670800@emotroop29.org
SUMMARY:Troop Meeting
DESCRIPTION:You need to be logged in to view this content. Please Log In. Not a Member? Join Us
URL:https://emotroop29.org/event/troop-meeting-90/
CATEGORIES:Troop Meeting
END:VEVENT
BEGIN:VEVENT
DTSTART;TZID=America/New_York:20201215T193000
DTEND;TZID=America/New_York:20201215T210000
DTSTAMP:20260423T155820
CREATED:20200928T124412Z
LAST-MODIFIED:20200928T124412Z
UID:6342-1608060600-1608066000@emotroop29.org
SUMMARY:Troop Meeting
DESCRIPTION:You need to be logged in to view this content. Please Log In. Not a Member? Join Us
URL:https://emotroop29.org/event/troop-meeting-89/
CATEGORIES:Troop Meeting
END:VEVENT
BEGIN:VEVENT
DTSTART;TZID=America/New_York:20201208T193000
DTEND;TZID=America/New_York:20201208T210000
DTSTAMP:20260423T155820
CREATED:20200928T124342Z
LAST-MODIFIED:20200928T124342Z
UID:6340-1607455800-1607461200@emotroop29.org
SUMMARY:Troop Meeting
DESCRIPTION:You need to be logged in to view this content. Please Log In. Not a Member? Join Us
URL:https://emotroop29.org/event/troop-meeting-88/
CATEGORIES:Troop Meeting
END:VEVENT
BEGIN:VEVENT
DTSTART;TZID=America/New_York:20201201T193000
DTEND;TZID=America/New_York:20201201T210000
DTSTAMP:20260423T155820
CREATED:20200928T124317Z
LAST-MODIFIED:20200928T124317Z
UID:6338-1606851000-1606856400@emotroop29.org
SUMMARY:Troop Meeting
DESCRIPTION:You need to be logged in to view this content. Please Log In. Not a Member? Join Us
URL:https://emotroop29.org/event/troop-meeting-87/
CATEGORIES:Troop Meeting
END:VEVENT
BEGIN:VEVENT
DTSTART;TZID=America/New_York:20201124T193000
DTEND;TZID=America/New_York:20201124T210000
DTSTAMP:20260423T155820
CREATED:20200928T122305Z
LAST-MODIFIED:20200928T122305Z
UID:6331-1606246200-1606251600@emotroop29.org
SUMMARY:Troop Meeting
DESCRIPTION:You need to be logged in to view this content. Please Log In. Not a Member? Join Us
URL:https://emotroop29.org/event/troop-meeting-86/
CATEGORIES:Troop Meeting
END:VEVENT
BEGIN:VEVENT
DTSTART;TZID=America/New_York:20201117T193000
DTEND;TZID=America/New_York:20201117T210000
DTSTAMP:20260423T155820
CREATED:20200928T122228Z
LAST-MODIFIED:20200928T122228Z
UID:6329-1605641400-1605646800@emotroop29.org
SUMMARY:Troop Meeting
DESCRIPTION:You need to be logged in to view this content. Please Log In. Not a Member? Join Us
URL:https://emotroop29.org/event/troop-meeting-85/
CATEGORIES:Troop Meeting
END:VEVENT
BEGIN:VEVENT
DTSTART;TZID=America/New_York:20201110T193000
DTEND;TZID=America/New_York:20201110T210000
DTSTAMP:20260423T155820
CREATED:20200928T122120Z
LAST-MODIFIED:20200928T122120Z
UID:6327-1605036600-1605042000@emotroop29.org
SUMMARY:Troop Meeting
DESCRIPTION:You need to be logged in to view this content. Please Log In. Not a Member? Join Us
URL:https://emotroop29.org/event/troop-meeting-84/
CATEGORIES:Troop Meeting
END:VEVENT
BEGIN:VEVENT
DTSTART;TZID=America/New_York:20201027T193000
DTEND;TZID=America/New_York:20201027T210000
DTSTAMP:20260423T155820
CREATED:20200826T195134Z
LAST-MODIFIED:20200826T195134Z
UID:6152-1603827000-1603832400@emotroop29.org
SUMMARY:Troop Meeting
DESCRIPTION:You need to be logged in to view this content. Please Log In. Not a Member? Join Us
URL:https://emotroop29.org/event/troop-meeting-83/
CATEGORIES:Troop Meeting
END:VEVENT
BEGIN:VEVENT
DTSTART;TZID=America/New_York:20201020T193000
DTEND;TZID=America/New_York:20201020T210000
DTSTAMP:20260423T155820
CREATED:20200826T194931Z
LAST-MODIFIED:20200907T124904Z
UID:6146-1603222200-1603227600@emotroop29.org
SUMMARY:Troop Meeting
DESCRIPTION:You need to be logged in to view this content. Please Log In. Not a Member? Join Us
URL:https://emotroop29.org/event/troop-meeting-mb-night/
CATEGORIES:Merit Badge Program Night,Troop Meeting
END:VEVENT
BEGIN:VEVENT
DTSTART;TZID=America/New_York:20201013T193000
DTEND;TZID=America/New_York:20201013T210000
DTSTAMP:20260423T155820
CREATED:20200826T194655Z
LAST-MODIFIED:20200826T194844Z
UID:6144-1602617400-1602622800@emotroop29.org
SUMMARY:Troop Meeting
DESCRIPTION:You need to be logged in to view this content. Please Log In. Not a Member? Join Us
URL:https://emotroop29.org/event/troop-meeting-82/
CATEGORIES:Troop Meeting
END:VEVENT
BEGIN:VEVENT
DTSTART;TZID=America/New_York:20201006T193000
DTEND;TZID=America/New_York:20201006T210000
DTSTAMP:20260423T155820
CREATED:20200826T194529Z
LAST-MODIFIED:20200826T194553Z
UID:6142-1602012600-1602018000@emotroop29.org
SUMMARY:Troop Meeting
DESCRIPTION:You need to be logged in to view this content. Please Log In. Not a Member? Join Us
URL:https://emotroop29.org/event/troop-meeting-81/
CATEGORIES:Troop Meeting
END:VEVENT
BEGIN:VEVENT
DTSTART;TZID=America/New_York:20200929T193000
DTEND;TZID=America/New_York:20200929T210000
DTSTAMP:20260423T155820
CREATED:20200826T192241Z
LAST-MODIFIED:20200911T151139Z
UID:6124-1601407800-1601413200@emotroop29.org
SUMMARY:Troop Meeting - Virtual
DESCRIPTION:You need to be logged in to view this content. Please Log In. Not a Member? Join Us
URL:https://emotroop29.org/event/troop-meeting-80/
CATEGORIES:Court of Honor,Troop Meeting
END:VEVENT
BEGIN:VEVENT
DTSTART;TZID=America/New_York:20200922T193000
DTEND;TZID=America/New_York:20200922T210000
DTSTAMP:20260423T155820
CREATED:20200826T192038Z
LAST-MODIFIED:20200911T151117Z
UID:6122-1600803000-1600808400@emotroop29.org
SUMMARY:Troop Meeting - Virtual
DESCRIPTION:You need to be logged in to view this content. Please Log In. Not a Member? Join Us
URL:https://emotroop29.org/event/troop-meeting-79/
CATEGORIES:Troop Meeting
END:VEVENT
BEGIN:VEVENT
DTSTART;TZID=America/New_York:20200915T193000
DTEND;TZID=America/New_York:20200915T201500
DTSTAMP:20260423T155820
CREATED:20200826T191908Z
LAST-MODIFIED:20200914T201223Z
UID:6120-1600198200-1600200900@emotroop29.org
SUMMARY:Troop Meeting - Virtual
DESCRIPTION:You need to be logged in to view this content. Please Log In. Not a Member? Join Us
URL:https://emotroop29.org/event/troop-meeting-78/
CATEGORIES:Troop Meeting
END:VEVENT
BEGIN:VEVENT
DTSTART;TZID=America/New_York:20200630T193000
DTEND;TZID=America/New_York:20200630T210000
DTSTAMP:20260423T155820
CREATED:20200123T041812Z
LAST-MODIFIED:20220908T125255Z
UID:5948-1593545400-1593550800@emotroop29.org
SUMMARY:Troop Meeting - Yawgoog Planning - 7:30 pm
DESCRIPTION:You need to be logged in to view this content. Please Log In. Not a Member? Join Us
URL:https://emotroop29.org/event/troop-meeting-yawgoog-planning-730-pm/
LOCATION:East Moriches Fire Dept\, 9 Pine Street\, East Moriches\, NY\, 11940\, United States
CATEGORIES:Troop Meeting
END:VEVENT
BEGIN:VEVENT
DTSTART;TZID=America/New_York:20200623T080000
DTEND;TZID=America/New_York:20200623T170000
DTSTAMP:20260423T155820
CREATED:20200123T041736Z
LAST-MODIFIED:20220908T125216Z
UID:5947-1592899200-1592931600@emotroop29.org
SUMMARY:Troop Meeting - COH - 7:30 pm
DESCRIPTION:You need to be logged in to view this content. Please Log In. Not a Member? Join Us
URL:https://emotroop29.org/event/troop-meeting-coh-730-pm-2/
LOCATION:East Moriches Fire Dept\, 9 Pine Street\, East Moriches\, NY\, 11940\, United States
CATEGORIES:Court of Honor,Troop Meeting
END:VEVENT
BEGIN:VEVENT
DTSTART;TZID=America/New_York:20200616T193000
DTEND;TZID=America/New_York:20200616T210000
DTSTAMP:20260423T155820
CREATED:20200123T040923Z
LAST-MODIFIED:20220908T125158Z
UID:5934-1592335800-1592341200@emotroop29.org
SUMMARY:Troop Meeting - MB Night - 7:30 pm
DESCRIPTION:You need to be logged in to view this content. Please Log In. Not a Member? Join Us
URL:https://emotroop29.org/event/troop-meeting-mb-night-730-pm-6/
LOCATION:East Moriches Fire Dept\, 9 Pine Street\, East Moriches\, NY\, 11940\, United States
CATEGORIES:Merit Badge Program Night,Troop Meeting
END:VEVENT
BEGIN:VEVENT
DTSTART;TZID=America/New_York:20200609T193000
DTEND;TZID=America/New_York:20200609T210000
DTSTAMP:20260423T155820
CREATED:20200123T041653Z
LAST-MODIFIED:20220908T125143Z
UID:5946-1591731000-1591736400@emotroop29.org
SUMMARY:Troop Meeting - 7:30 pm
DESCRIPTION:You need to be logged in to view this content. Please Log In. Not a Member? Join Us
URL:https://emotroop29.org/event/troop-meeting-730-pm-22/
LOCATION:East Moriches Fire Dept\, 9 Pine Street\, East Moriches\, NY\, 11940\, United States
CATEGORIES:Troop Meeting
END:VEVENT
BEGIN:VEVENT
DTSTART;TZID=America/New_York:20200602T193000
DTEND;TZID=America/New_York:20200602T210000
DTSTAMP:20260423T155820
CREATED:20200123T041623Z
LAST-MODIFIED:20220908T125111Z
UID:5945-1591126200-1591131600@emotroop29.org
SUMMARY:Troop Meeting - 7:30 pm
DESCRIPTION:You need to be logged in to view this content. Please Log In. Not a Member? Join Us
URL:https://emotroop29.org/event/troop-meeting-730-pm-21/
LOCATION:East Moriches Fire Dept\, 9 Pine Street\, East Moriches\, NY\, 11940\, United States
CATEGORIES:Troop Meeting
END:VEVENT
BEGIN:VEVENT
DTSTART;TZID=America/New_York:20200526T193000
DTEND;TZID=America/New_York:20200526T210000
DTSTAMP:20260423T155820
CREATED:20200123T041558Z
LAST-MODIFIED:20220908T125027Z
UID:5944-1590521400-1590526800@emotroop29.org
SUMMARY:Troop Meeting - 7:30 pm
DESCRIPTION:You need to be logged in to view this content. Please Log In. Not a Member? Join Us
URL:https://emotroop29.org/event/troop-meeting-730-pm-20/
LOCATION:East Moriches Fire Dept\, 9 Pine Street\, East Moriches\, NY\, 11940\, United States
CATEGORIES:Troop Meeting
END:VEVENT
BEGIN:VEVENT
DTSTART;TZID=America/New_York:20200519T193000
DTEND;TZID=America/New_York:20200519T210000
DTSTAMP:20260423T155820
CREATED:20200123T040853Z
LAST-MODIFIED:20220908T124945Z
UID:5933-1589916600-1589922000@emotroop29.org
SUMMARY:Troop Meeting - MB Night - 7:30 pm
DESCRIPTION:You need to be logged in to view this content. Please Log In. Not a Member? Join Us
URL:https://emotroop29.org/event/troop-meeting-mb-night-730-pm-5/
LOCATION:East Moriches Fire Dept\, 9 Pine Street\, East Moriches\, NY\, 11940\, United States
CATEGORIES:Merit Badge Program Night,Troop Meeting
END:VEVENT
BEGIN:VEVENT
DTSTART;TZID=America/New_York:20200512T193000
DTEND;TZID=America/New_York:20200512T210000
DTSTAMP:20260423T155820
CREATED:20200123T041525Z
LAST-MODIFIED:20220908T124924Z
UID:5943-1589311800-1589317200@emotroop29.org
SUMMARY:Troop Meeting - 7:30 pm
DESCRIPTION:You need to be logged in to view this content. Please Log In. Not a Member? Join Us
URL:https://emotroop29.org/event/troop-meeting-730-pm-19/
LOCATION:East Moriches Fire Dept\, 9 Pine Street\, East Moriches\, NY\, 11940\, United States
CATEGORIES:Troop Meeting
END:VEVENT
END:VCALENDAR