BEGIN:VCALENDAR
VERSION:2.0
PRODID:-//East Moriches Troop 29 - ECPv6.15.20//NONSGML v1.0//EN
CALSCALE:GREGORIAN
METHOD:PUBLISH
X-ORIGINAL-URL:https://emotroop29.org
X-WR-CALDESC:Events for East Moriches Troop 29
REFRESH-INTERVAL;VALUE=DURATION:PT1H
X-Robots-Tag:noindex
X-PUBLISHED-TTL:PT1H
BEGIN:VTIMEZONE
TZID:America/New_York
BEGIN:DAYLIGHT
TZOFFSETFROM:-0500
TZOFFSETTO:-0400
TZNAME:EDT
DTSTART:20190310T070000
END:DAYLIGHT
BEGIN:STANDARD
TZOFFSETFROM:-0400
TZOFFSETTO:-0500
TZNAME:EST
DTSTART:20191103T060000
END:STANDARD
BEGIN:DAYLIGHT
TZOFFSETFROM:-0500
TZOFFSETTO:-0400
TZNAME:EDT
DTSTART:20200308T070000
END:DAYLIGHT
BEGIN:STANDARD
TZOFFSETFROM:-0400
TZOFFSETTO:-0500
TZNAME:EST
DTSTART:20201101T060000
END:STANDARD
BEGIN:DAYLIGHT
TZOFFSETFROM:-0500
TZOFFSETTO:-0400
TZNAME:EDT
DTSTART:20210314T070000
END:DAYLIGHT
BEGIN:STANDARD
TZOFFSETFROM:-0400
TZOFFSETTO:-0500
TZNAME:EST
DTSTART:20211107T060000
END:STANDARD
BEGIN:DAYLIGHT
TZOFFSETFROM:-0500
TZOFFSETTO:-0400
TZNAME:EDT
DTSTART:20220313T070000
END:DAYLIGHT
BEGIN:STANDARD
TZOFFSETFROM:-0400
TZOFFSETTO:-0500
TZNAME:EST
DTSTART:20221106T060000
END:STANDARD
BEGIN:DAYLIGHT
TZOFFSETFROM:-0500
TZOFFSETTO:-0400
TZNAME:EDT
DTSTART:20230312T070000
END:DAYLIGHT
BEGIN:STANDARD
TZOFFSETFROM:-0400
TZOFFSETTO:-0500
TZNAME:EST
DTSTART:20231105T060000
END:STANDARD
BEGIN:DAYLIGHT
TZOFFSETFROM:-0500
TZOFFSETTO:-0400
TZNAME:EDT
DTSTART:20240310T070000
END:DAYLIGHT
BEGIN:STANDARD
TZOFFSETFROM:-0400
TZOFFSETTO:-0500
TZNAME:EST
DTSTART:20241103T060000
END:STANDARD
BEGIN:DAYLIGHT
TZOFFSETFROM:-0500
TZOFFSETTO:-0400
TZNAME:EDT
DTSTART:20250309T070000
END:DAYLIGHT
BEGIN:STANDARD
TZOFFSETFROM:-0400
TZOFFSETTO:-0500
TZNAME:EST
DTSTART:20251102T060000
END:STANDARD
END:VTIMEZONE
BEGIN:VEVENT
DTSTART;TZID=America/New_York:20240326T183000
DTEND;TZID=America/New_York:20240326T193000
DTSTAMP:20260423T073206
CREATED:20240303T232224Z
LAST-MODIFIED:20240303T232224Z
UID:10577-1711477800-1711481400@emotroop29.org
SUMMARY:PLC Meeting
DESCRIPTION:You need to be logged in to view this content. Please Log In. Not a Member? Join Us
URL:https://emotroop29.org/event/plc-meeting-38/
CATEGORIES:Patrol Leaders Council Meeting
END:VEVENT
BEGIN:VEVENT
DTSTART;TZID=America/New_York:20240109T183000
DTEND;TZID=America/New_York:20240109T193000
DTSTAMP:20260423T073206
CREATED:20230905T155047Z
LAST-MODIFIED:20240101T181350Z
UID:10300-1704825000-1704828600@emotroop29.org
SUMMARY:PLC Meeting
DESCRIPTION:You need to be logged in to view this content. Please Log In. Not a Member? Join Us
URL:https://emotroop29.org/event/plc-meeting-37/
CATEGORIES:Patrol Leaders Council Meeting
END:VEVENT
BEGIN:VEVENT
DTSTART;TZID=America/New_York:20231121T190000
DTEND;TZID=America/New_York:20231121T193000
DTSTAMP:20260423T073206
CREATED:20230905T155145Z
LAST-MODIFIED:20231121T203520Z
UID:10276-1700593200-1700595000@emotroop29.org
SUMMARY:PLC Meeting
DESCRIPTION:You need to be logged in to view this content. Please Log In. Not a Member? Join Us
URL:https://emotroop29.org/event/plc-meeting-36/
CATEGORIES:Patrol Leaders Council Meeting
END:VEVENT
BEGIN:VEVENT
DTSTART;TZID=America/New_York:20231024T183000
DTEND;TZID=America/New_York:20231024T193000
DTSTAMP:20260423T073206
CREATED:20230905T155019Z
LAST-MODIFIED:20230905T155019Z
UID:10274-1698172200-1698175800@emotroop29.org
SUMMARY:PLC Meeting
DESCRIPTION:You need to be logged in to view this content. Please Log In. Not a Member? Join Us
URL:https://emotroop29.org/event/plc-meeting-35/
CATEGORIES:Patrol Leaders Council Meeting
END:VEVENT
BEGIN:VEVENT
DTSTART;TZID=America/New_York:20230926T190000
DTEND;TZID=America/New_York:20230926T193000
DTSTAMP:20260423T073206
CREATED:20230905T154916Z
LAST-MODIFIED:20230926T124025Z
UID:10272-1695754800-1695756600@emotroop29.org
SUMMARY:PLC Meeting
DESCRIPTION:You need to be logged in to view this content. Please Log In. Not a Member? Join Us
URL:https://emotroop29.org/event/plc-meeting-34/
CATEGORIES:Patrol Leaders Council Meeting
END:VEVENT
BEGIN:VEVENT
DTSTART;TZID=America/New_York:20230620T190000
DTEND;TZID=America/New_York:20230620T193000
DTSTAMP:20260423T073206
CREATED:20220905T132756Z
LAST-MODIFIED:20230620T125948Z
UID:7364-1687287600-1687289400@emotroop29.org
SUMMARY:PLC Meeting-Yawgoog Planning
DESCRIPTION:You need to be logged in to view this content. Please Log In. Not a Member? Join Us
URL:https://emotroop29.org/event/plc-meeting-25/
CATEGORIES:Patrol Leaders Council Meeting
END:VEVENT
BEGIN:VEVENT
DTSTART;TZID=America/New_York:20230530T190000
DTEND;TZID=America/New_York:20230530T193000
DTSTAMP:20260423T073206
CREATED:20220905T133613Z
LAST-MODIFIED:20230530T130336Z
UID:7380-1685473200-1685475000@emotroop29.org
SUMMARY:PLC Meeting
DESCRIPTION:You need to be logged in to view this content. Please Log In. Not a Member? Join Us
URL:https://emotroop29.org/event/plc-meeting-33/
CATEGORIES:Patrol Leaders Council Meeting
END:VEVENT
BEGIN:VEVENT
DTSTART;TZID=America/New_York:20230425T190000
DTEND;TZID=America/New_York:20230425T193000
DTSTAMP:20260423T073206
CREATED:20220905T133530Z
LAST-MODIFIED:20230425T185858Z
UID:7378-1682449200-1682451000@emotroop29.org
SUMMARY:PLC Meeting
DESCRIPTION:You need to be logged in to view this content. Please Log In. Not a Member? Join Us
URL:https://emotroop29.org/event/plc-meeting-32/
CATEGORIES:Patrol Leaders Council Meeting
END:VEVENT
BEGIN:VEVENT
DTSTART;TZID=America/New_York:20230328T190000
DTEND;TZID=America/New_York:20230328T193000
DTSTAMP:20260423T073206
CREATED:20220905T133455Z
LAST-MODIFIED:20230328T184222Z
UID:7376-1680030000-1680031800@emotroop29.org
SUMMARY:PLC Meeting
DESCRIPTION:You need to be logged in to view this content. Please Log In. Not a Member? Join Us
URL:https://emotroop29.org/event/plc-meeting-31/
CATEGORIES:Patrol Leaders Council Meeting
END:VEVENT
BEGIN:VEVENT
DTSTART;TZID=America/New_York:20230228T183000
DTEND;TZID=America/New_York:20230228T193000
DTSTAMP:20260423T073206
CREATED:20220905T133349Z
LAST-MODIFIED:20220905T133410Z
UID:7374-1677609000-1677612600@emotroop29.org
SUMMARY:PLC Meeting
DESCRIPTION:You need to be logged in to view this content. Please Log In. Not a Member? Join Us
URL:https://emotroop29.org/event/plc-meeting-30/
CATEGORIES:Patrol Leaders Council Meeting
END:VEVENT
BEGIN:VEVENT
DTSTART;TZID=America/New_York:20230131T183000
DTEND;TZID=America/New_York:20230131T193000
DTSTAMP:20260423T073206
CREATED:20220905T133316Z
LAST-MODIFIED:20220905T133316Z
UID:7372-1675189800-1675193400@emotroop29.org
SUMMARY:PLC Meeting
DESCRIPTION:You need to be logged in to view this content. Please Log In. Not a Member? Join Us
URL:https://emotroop29.org/event/plc-meeting-29/
CATEGORIES:Patrol Leaders Council Meeting
END:VEVENT
BEGIN:VEVENT
DTSTART;TZID=America/New_York:20221220T183000
DTEND;TZID=America/New_York:20221220T193000
DTSTAMP:20260423T073206
CREATED:20220905T133230Z
LAST-MODIFIED:20220905T133230Z
UID:7370-1671561000-1671564600@emotroop29.org
SUMMARY:PLC Meeting
DESCRIPTION:You need to be logged in to view this content. Please Log In. Not a Member? Join Us
URL:https://emotroop29.org/event/plc-meeting-28/
CATEGORIES:Patrol Leaders Council Meeting
END:VEVENT
BEGIN:VEVENT
DTSTART;TZID=America/New_York:20221122T183000
DTEND;TZID=America/New_York:20221122T193000
DTSTAMP:20260423T073206
CREATED:20220905T133128Z
LAST-MODIFIED:20220905T133128Z
UID:7368-1669141800-1669145400@emotroop29.org
SUMMARY:PLC Meeting
DESCRIPTION:You need to be logged in to view this content. Please Log In. Not a Member? Join Us
URL:https://emotroop29.org/event/plc-meeting-27/
CATEGORIES:Patrol Leaders Council Meeting
END:VEVENT
BEGIN:VEVENT
DTSTART;TZID=America/New_York:20221025T183000
DTEND;TZID=America/New_York:20221025T193000
DTSTAMP:20260423T073206
CREATED:20220905T132947Z
LAST-MODIFIED:20220905T132947Z
UID:7366-1666722600-1666726200@emotroop29.org
SUMMARY:PLC Meeting
DESCRIPTION:You need to be logged in to view this content. Please Log In. Not a Member? Join Us
URL:https://emotroop29.org/event/plc-meeting-26/
CATEGORIES:Patrol Leaders Council Meeting
END:VEVENT
BEGIN:VEVENT
DTSTART;TZID=America/New_York:20220920T183000
DTEND;TZID=America/New_York:20220920T193000
DTSTAMP:20260423T073206
CREATED:20220905T132128Z
LAST-MODIFIED:20220905T132128Z
UID:7360-1663698600-1663702200@emotroop29.org
SUMMARY:PLC Meeting
DESCRIPTION:You need to be logged in to view this content. Please Log In. Not a Member? Join Us
URL:https://emotroop29.org/event/plc-meeting-22/
CATEGORIES:Patrol Leaders Council Meeting
END:VEVENT
BEGIN:VEVENT
DTSTART;TZID=America/New_York:20220531T183000
DTEND;TZID=America/New_York:20220531T193000
DTSTAMP:20260423T073206
CREATED:20211220T210615Z
LAST-MODIFIED:20220516T010636Z
UID:6930-1654021800-1654025400@emotroop29.org
SUMMARY:PLC Meeting
DESCRIPTION:You need to be logged in to view this content. Please Log In. Not a Member? Join Us
URL:https://emotroop29.org/event/plc-meeting-24/
CATEGORIES:Patrol Leaders Council Meeting
END:VEVENT
BEGIN:VEVENT
DTSTART;TZID=America/New_York:20220426T183000
DTEND;TZID=America/New_York:20220426T193000
DTSTAMP:20260423T073206
CREATED:20211220T210428Z
LAST-MODIFIED:20220412T171618Z
UID:6928-1650997800-1651001400@emotroop29.org
SUMMARY:PLC Meeting
DESCRIPTION:You need to be logged in to view this content. Please Log In. Not a Member? Join Us
URL:https://emotroop29.org/event/plc-meeting-23/
CATEGORIES:Patrol Leaders Council Meeting
END:VEVENT
BEGIN:VEVENT
DTSTART;TZID=America/New_York:20220301T190000
DTEND;TZID=America/New_York:20220301T193000
DTSTAMP:20260423T073206
CREATED:20211220T210223Z
LAST-MODIFIED:20220301T154405Z
UID:6924-1646161200-1646163000@emotroop29.org
SUMMARY:PLC Meeting
DESCRIPTION:You need to be logged in to view this content. Please Log In. Not a Member? Join Us
URL:https://emotroop29.org/event/plc-meeting-21/
CATEGORIES:Patrol Leaders Council Meeting
END:VEVENT
BEGIN:VEVENT
DTSTART;TZID=America/New_York:20220118T183000
DTEND;TZID=America/New_York:20220118T193000
DTSTAMP:20260423T073206
CREATED:20211220T210146Z
LAST-MODIFIED:20211220T210146Z
UID:6922-1642530600-1642534200@emotroop29.org
SUMMARY:PLC Meeting
DESCRIPTION:You need to be logged in to view this content. Please Log In. Not a Member? Join Us
URL:https://emotroop29.org/event/plc-meeting-20/
CATEGORIES:Patrol Leaders Council Meeting
END:VEVENT
BEGIN:VEVENT
DTSTART;TZID=America/New_York:20211016T163000
DTEND;TZID=America/New_York:20211016T173000
DTSTAMP:20260423T073206
CREATED:20211014T002437Z
LAST-MODIFIED:20211014T002645Z
UID:6813-1634401800-1634405400@emotroop29.org
SUMMARY:PLC Meeting
DESCRIPTION:You need to be logged in to view this content. Please Log In. Not a Member? Join Us
URL:https://emotroop29.org/event/plc-meeting-18/
CATEGORIES:Patrol Leaders Council Meeting
END:VEVENT
BEGIN:VEVENT
DTSTART;TZID=America/New_York:20210518T190000
DTEND;TZID=America/New_York:20210518T193000
DTSTAMP:20260423T073206
CREATED:20201223T220833Z
LAST-MODIFIED:20210518T160256Z
UID:6549-1621364400-1621366200@emotroop29.org
SUMMARY:PLC Meeting
DESCRIPTION:You need to be logged in to view this content. Please Log In. Not a Member? Join Us
URL:https://emotroop29.org/event/plc-meeting-16/
CATEGORIES:Patrol Leaders Council Meeting
END:VEVENT
BEGIN:VEVENT
DTSTART;TZID=America/New_York:20210420T183000
DTEND;TZID=America/New_York:20210420T193000
DTSTAMP:20260423T073206
CREATED:20201223T220811Z
LAST-MODIFIED:20210312T145103Z
UID:6547-1618943400-1618947000@emotroop29.org
SUMMARY:PLC Meeting
DESCRIPTION:You need to be logged in to view this content. Please Log In. Not a Member? Join Us
URL:https://emotroop29.org/event/plc-meeting-15/
CATEGORIES:Patrol Leaders Council Meeting
END:VEVENT
BEGIN:VEVENT
DTSTART;TZID=America/New_York:20210316T183000
DTEND;TZID=America/New_York:20210316T193000
DTSTAMP:20260423T073206
CREATED:20201223T220738Z
LAST-MODIFIED:20210312T144822Z
UID:6545-1615919400-1615923000@emotroop29.org
SUMMARY:PLC Meeting
DESCRIPTION:You need to be logged in to view this content. Please Log In. Not a Member? Join Us
URL:https://emotroop29.org/event/plc-meeting-14/
CATEGORIES:Patrol Leaders Council Meeting
END:VEVENT
BEGIN:VEVENT
DTSTART;TZID=America/New_York:20210209T183000
DTEND;TZID=America/New_York:20210209T193000
DTSTAMP:20260423T073206
CREATED:20201223T220703Z
LAST-MODIFIED:20210206T140057Z
UID:6543-1612895400-1612899000@emotroop29.org
SUMMARY:PLC Meeting
DESCRIPTION:You need to be logged in to view this content. Please Log In. Not a Member? Join Us
URL:https://emotroop29.org/event/plc-meeting-13/
CATEGORIES:Patrol Leaders Council Meeting
END:VEVENT
BEGIN:VEVENT
DTSTART;TZID=America/New_York:20210119T183000
DTEND;TZID=America/New_York:20210119T193000
DTSTAMP:20260423T073206
CREATED:20201223T220630Z
LAST-MODIFIED:20210118T173313Z
UID:6541-1611081000-1611084600@emotroop29.org
SUMMARY:PLC Meeting
DESCRIPTION:You need to be logged in to view this content. Please Log In. Not a Member? Join Us
URL:https://emotroop29.org/event/plc-meeting-12/
CATEGORIES:Patrol Leaders Council Meeting
END:VEVENT
BEGIN:VEVENT
DTSTART;TZID=America/New_York:20201222T183000
DTEND;TZID=America/New_York:20201222T193000
DTSTAMP:20260423T073206
CREATED:20200928T124605Z
LAST-MODIFIED:20200928T124605Z
UID:6348-1608661800-1608665400@emotroop29.org
SUMMARY:PLC Meeting
DESCRIPTION:You need to be logged in to view this content. Please Log In. Not a Member? Join Us
URL:https://emotroop29.org/event/plc-meeting-11/
CATEGORIES:Patrol Leaders Council Meeting
END:VEVENT
BEGIN:VEVENT
DTSTART;TZID=America/New_York:20201124T183000
DTEND;TZID=America/New_York:20201124T193000
DTSTAMP:20260423T073206
CREATED:20200928T122352Z
LAST-MODIFIED:20200928T122352Z
UID:6333-1606242600-1606246200@emotroop29.org
SUMMARY:PLC Meeting
DESCRIPTION:You need to be logged in to view this content. Please Log In. Not a Member? Join Us
URL:https://emotroop29.org/event/plc-meeting-10/
CATEGORIES:Patrol Leaders Council Meeting
END:VEVENT
BEGIN:VEVENT
DTSTART;VALUE=DATE:20201031
DTEND;VALUE=DATE:20201101
DTSTAMP:20260423T073206
CREATED:20200826T195107Z
LAST-MODIFIED:20201026T194324Z
UID:6150-1604102400-1604188799@emotroop29.org
SUMMARY:PLC Meeting
DESCRIPTION:You need to be logged in to view this content. Please Log In. Not a Member? Join Us
URL:https://emotroop29.org/event/plc-meeting-9/
CATEGORIES:Patrol Leaders Council Meeting
END:VEVENT
BEGIN:VEVENT
DTSTART;TZID=America/New_York:20200929T183000
DTEND;TZID=America/New_York:20200929T193000
DTSTAMP:20260423T073206
CREATED:20200826T192715Z
LAST-MODIFIED:20200911T151155Z
UID:6130-1601404200-1601407800@emotroop29.org
SUMMARY:PLC Meeting - Virtual
DESCRIPTION:You need to be logged in to view this content. Please Log In. Not a Member? Join Us
URL:https://emotroop29.org/event/plc-meeting-8/
CATEGORIES:Patrol Leaders Council Meeting
END:VEVENT
BEGIN:VEVENT
DTSTART;TZID=America/New_York:20200630T080000
DTEND;TZID=America/New_York:20200630T170000
DTSTAMP:20260423T073206
CREATED:20190828T145112Z
LAST-MODIFIED:20220908T125232Z
UID:5677-1593504000-1593536400@emotroop29.org
SUMMARY:PLC Meeting - 6:30 PM - Yawgoog Planning
DESCRIPTION:You need to be logged in to view this content. Please Log In. Not a Member? Join Us
URL:https://emotroop29.org/event/plc-meeting-630-pm-15/
LOCATION:East Moriches Fire Dept\, 9 Pine Street\, East Moriches\, NY\, 11940\, United States
CATEGORIES:Patrol Leaders Council Meeting
END:VEVENT
END:VCALENDAR