BEGIN:VCALENDAR
VERSION:2.0
PRODID:-//East Moriches Troop 29 - ECPv6.15.20//NONSGML v1.0//EN
CALSCALE:GREGORIAN
METHOD:PUBLISH
X-ORIGINAL-URL:https://emotroop29.org
X-WR-CALDESC:Events for East Moriches Troop 29
REFRESH-INTERVAL;VALUE=DURATION:PT1H
X-Robots-Tag:noindex
X-PUBLISHED-TTL:PT1H
BEGIN:VTIMEZONE
TZID:America/New_York
BEGIN:DAYLIGHT
TZOFFSETFROM:-0500
TZOFFSETTO:-0400
TZNAME:EDT
DTSTART:20140309T070000
END:DAYLIGHT
BEGIN:STANDARD
TZOFFSETFROM:-0400
TZOFFSETTO:-0500
TZNAME:EST
DTSTART:20141102T060000
END:STANDARD
BEGIN:DAYLIGHT
TZOFFSETFROM:-0500
TZOFFSETTO:-0400
TZNAME:EDT
DTSTART:20150308T070000
END:DAYLIGHT
BEGIN:STANDARD
TZOFFSETFROM:-0400
TZOFFSETTO:-0500
TZNAME:EST
DTSTART:20151101T060000
END:STANDARD
BEGIN:DAYLIGHT
TZOFFSETFROM:-0500
TZOFFSETTO:-0400
TZNAME:EDT
DTSTART:20160313T070000
END:DAYLIGHT
BEGIN:STANDARD
TZOFFSETFROM:-0400
TZOFFSETTO:-0500
TZNAME:EST
DTSTART:20161106T060000
END:STANDARD
BEGIN:DAYLIGHT
TZOFFSETFROM:-0500
TZOFFSETTO:-0400
TZNAME:EDT
DTSTART:20170312T070000
END:DAYLIGHT
BEGIN:STANDARD
TZOFFSETFROM:-0400
TZOFFSETTO:-0500
TZNAME:EST
DTSTART:20171105T060000
END:STANDARD
BEGIN:DAYLIGHT
TZOFFSETFROM:-0500
TZOFFSETTO:-0400
TZNAME:EDT
DTSTART:20180311T070000
END:DAYLIGHT
BEGIN:STANDARD
TZOFFSETFROM:-0400
TZOFFSETTO:-0500
TZNAME:EST
DTSTART:20181104T060000
END:STANDARD
BEGIN:DAYLIGHT
TZOFFSETFROM:-0500
TZOFFSETTO:-0400
TZNAME:EDT
DTSTART:20190310T070000
END:DAYLIGHT
BEGIN:STANDARD
TZOFFSETFROM:-0400
TZOFFSETTO:-0500
TZNAME:EST
DTSTART:20191103T060000
END:STANDARD
BEGIN:DAYLIGHT
TZOFFSETFROM:-0500
TZOFFSETTO:-0400
TZNAME:EDT
DTSTART:20200308T070000
END:DAYLIGHT
BEGIN:STANDARD
TZOFFSETFROM:-0400
TZOFFSETTO:-0500
TZNAME:EST
DTSTART:20201101T060000
END:STANDARD
BEGIN:DAYLIGHT
TZOFFSETFROM:-0500
TZOFFSETTO:-0400
TZNAME:EDT
DTSTART:20210314T070000
END:DAYLIGHT
BEGIN:STANDARD
TZOFFSETFROM:-0400
TZOFFSETTO:-0500
TZNAME:EST
DTSTART:20211107T060000
END:STANDARD
BEGIN:DAYLIGHT
TZOFFSETFROM:-0500
TZOFFSETTO:-0400
TZNAME:EDT
DTSTART:20220313T070000
END:DAYLIGHT
BEGIN:STANDARD
TZOFFSETFROM:-0400
TZOFFSETTO:-0500
TZNAME:EST
DTSTART:20221106T060000
END:STANDARD
BEGIN:DAYLIGHT
TZOFFSETFROM:-0500
TZOFFSETTO:-0400
TZNAME:EDT
DTSTART:20230312T070000
END:DAYLIGHT
BEGIN:STANDARD
TZOFFSETFROM:-0400
TZOFFSETTO:-0500
TZNAME:EST
DTSTART:20231105T060000
END:STANDARD
BEGIN:DAYLIGHT
TZOFFSETFROM:-0500
TZOFFSETTO:-0400
TZNAME:EDT
DTSTART:20240310T070000
END:DAYLIGHT
BEGIN:STANDARD
TZOFFSETFROM:-0400
TZOFFSETTO:-0500
TZNAME:EST
DTSTART:20241103T060000
END:STANDARD
BEGIN:DAYLIGHT
TZOFFSETFROM:-0500
TZOFFSETTO:-0400
TZNAME:EDT
DTSTART:20250309T070000
END:DAYLIGHT
BEGIN:STANDARD
TZOFFSETFROM:-0400
TZOFFSETTO:-0500
TZNAME:EST
DTSTART:20251102T060000
END:STANDARD
END:VTIMEZONE
BEGIN:VEVENT
DTSTART;TZID=America/New_York:20240326T193000
DTEND;TZID=America/New_York:20240326T210000
DTSTAMP:20260423T103053
CREATED:20240303T231646Z
LAST-MODIFIED:20240321T130359Z
UID:10575-1711481400-1711486800@emotroop29.org
SUMMARY:Troop Meeting - Court of Honor
DESCRIPTION:You need to be logged in to view this content. Please Log In. Not a Member? Join Us
URL:https://emotroop29.org/event/troop-meeting-206/
CATEGORIES:Court of Honor,Troop Meeting
END:VEVENT
BEGIN:VEVENT
DTSTART;TZID=America/New_York:20231219T193000
DTEND;TZID=America/New_York:20231219T210000
DTSTAMP:20260423T103053
CREATED:20230905T142446Z
LAST-MODIFIED:20231209T174544Z
UID:10267-1703014200-1703019600@emotroop29.org
SUMMARY:Troop Meeting - COH
DESCRIPTION:You need to be logged in to view this content. Please Log In. Not a Member? Join Us
URL:https://emotroop29.org/event/troop-meeting-coh-3/
CATEGORIES:Court of Honor,Troop Meeting
END:VEVENT
BEGIN:VEVENT
DTSTART;TZID=America/New_York:20230919T193000
DTEND;TZID=America/New_York:20230919T210000
DTSTAMP:20260423T103053
CREATED:20230905T135250Z
LAST-MODIFIED:20230912T125625Z
UID:10241-1695151800-1695157200@emotroop29.org
SUMMARY:Troop Meeting-COH
DESCRIPTION:You need to be logged in to view this content. Please Log In. Not a Member? Join Us
URL:https://emotroop29.org/event/troop-meeting-185/
CATEGORIES:Court of Honor,Troop Meeting
END:VEVENT
BEGIN:VEVENT
DTSTART;TZID=America/New_York:20230826T120000
DTEND;TZID=America/New_York:20230826T160000
DTSTAMP:20260423T103053
CREATED:20230715T123430Z
LAST-MODIFIED:20230715T130051Z
UID:10218-1693051200-1693065600@emotroop29.org
SUMMARY:Aydin's Eagle Court of Honor
DESCRIPTION:You need to be logged in to view this content. Please Log In. Not a Member? Join Us
URL:https://emotroop29.org/event/aydins-eagle-court-of-honor/
CATEGORIES:Court of Honor
END:VEVENT
BEGIN:VEVENT
DTSTART;TZID=America/New_York:20230620T193000
DTEND;TZID=America/New_York:20230620T210000
DTSTAMP:20260423T103053
CREATED:20220905T132631Z
LAST-MODIFIED:20220906T164419Z
UID:7362-1687289400-1687294800@emotroop29.org
SUMMARY:Troop Meeting - COH
DESCRIPTION:You need to be logged in to view this content. Please Log In. Not a Member? Join Us
URL:https://emotroop29.org/event/troop-meeting-coh/
CATEGORIES:Court of Honor,Troop Meeting
END:VEVENT
BEGIN:VEVENT
DTSTART;TZID=America/New_York:20230328T193000
DTEND;TZID=America/New_York:20230328T210000
DTSTAMP:20260423T103053
CREATED:20220905T133906Z
LAST-MODIFIED:20220905T140120Z
UID:7382-1680031800-1680037200@emotroop29.org
SUMMARY:Troop Meeting
DESCRIPTION:You need to be logged in to view this content. Please Log In. Not a Member? Join Us
URL:https://emotroop29.org/event/troop-meeting-coh-2/
CATEGORIES:Court of Honor,Troop Meeting
END:VEVENT
BEGIN:VEVENT
DTSTART;TZID=America/New_York:20230321T193000
DTEND;TZID=America/New_York:20230321T210000
DTSTAMP:20260423T103053
CREATED:20220905T134824Z
LAST-MODIFIED:20220906T164453Z
UID:7404-1679427000-1679432400@emotroop29.org
SUMMARY:Troop Meeting - COH
DESCRIPTION:You need to be logged in to view this content. Please Log In. Not a Member? Join Us
URL:https://emotroop29.org/event/troop-meeting-173/
CATEGORIES:Court of Honor,Troop Meeting
END:VEVENT
BEGIN:VEVENT
DTSTART;TZID=America/New_York:20221220T193000
DTEND;TZID=America/New_York:20221220T210000
DTSTAMP:20260423T103053
CREATED:20220904T181425Z
LAST-MODIFIED:20220906T164338Z
UID:7337-1671564600-1671570000@emotroop29.org
SUMMARY:Troop Meeting - COH
DESCRIPTION:You need to be logged in to view this content. Please Log In. Not a Member? Join Us
URL:https://emotroop29.org/event/troop-meeting-162/
CATEGORIES:Court of Honor,Troop Meeting
END:VEVENT
BEGIN:VEVENT
DTSTART;TZID=America/New_York:20221010T140000
DTEND;TZID=America/New_York:20221010T170000
DTSTAMP:20260423T103053
CREATED:20220901T185558Z
LAST-MODIFIED:20220901T185558Z
UID:7296-1665410400-1665421200@emotroop29.org
SUMMARY:Harry's Eagle Court of Honor
DESCRIPTION:You need to be logged in to view this content. Please Log In. Not a Member? Join Us
URL:https://emotroop29.org/event/harrys-eagle-court-of-honor/
CATEGORIES:Court of Honor
END:VEVENT
BEGIN:VEVENT
DTSTART;TZID=America/New_York:20220920T193000
DTEND;TZID=America/New_York:20220920T210000
DTSTAMP:20260423T103053
CREATED:20220904T175143Z
LAST-MODIFIED:20220906T164259Z
UID:7303-1663702200-1663707600@emotroop29.org
SUMMARY:Troop Meeting - COH
DESCRIPTION:You need to be logged in to view this content. Please Log In. Not a Member? Join Us
URL:https://emotroop29.org/event/troop-meeting-150/
CATEGORIES:Court of Honor,Troop Meeting
END:VEVENT
BEGIN:VEVENT
DTSTART;TZID=America/New_York:20211205T140000
DTEND;TZID=America/New_York:20211205T160000
DTSTAMP:20260423T103053
CREATED:20211013T233650Z
LAST-MODIFIED:20211013T233650Z
UID:6807-1638712800-1638720000@emotroop29.org
SUMMARY:Harrison's Eagle Ceremony
DESCRIPTION:You need to be logged in to view this content. Please Log In. Not a Member? Join Us
URL:https://emotroop29.org/event/harrisons-eagle-ceremony/
CATEGORIES:Court of Honor
END:VEVENT
BEGIN:VEVENT
DTSTART;TZID=America/New_York:20210821T110000
DTEND;TZID=America/New_York:20210821T150000
DTSTAMP:20260423T103053
CREATED:20210630T162918Z
LAST-MODIFIED:20210630T162918Z
UID:6762-1629543600-1629558000@emotroop29.org
SUMMARY:David Garcia's Eagle Court of Honor
DESCRIPTION:You need to be logged in to view this content. Please Log In. Not a Member? Join Us
URL:https://emotroop29.org/event/david-garcias-eagle-court-of-honor/
CATEGORIES:Court of Honor
END:VEVENT
BEGIN:VEVENT
DTSTART;TZID=America/New_York:20210316T193000
DTEND;TZID=America/New_York:20210316T193000
DTSTAMP:20260423T103053
CREATED:20201223T215534Z
LAST-MODIFIED:20210312T144908Z
UID:6514-1615923000-1615923000@emotroop29.org
SUMMARY:Troop Meeting-COH
DESCRIPTION:You need to be logged in to view this content. Please Log In. Not a Member? Join Us
URL:https://emotroop29.org/event/troop-meeting-100/
CATEGORIES:Court of Honor,Troop Meeting
END:VEVENT
BEGIN:VEVENT
DTSTART;TZID=America/New_York:20201107T100000
DTEND;TZID=America/New_York:20201107T113000
DTSTAMP:20260423T103053
CREATED:20201013T000635Z
LAST-MODIFIED:20201014T024200Z
UID:6383-1604743200-1604748600@emotroop29.org
SUMMARY:Troop Court of Honor
DESCRIPTION:You need to be logged in to view this content. Please Log In. Not a Member? Join Us
URL:https://emotroop29.org/event/troop-court-of-honor-2/
CATEGORIES:Court of Honor
END:VEVENT
BEGIN:VEVENT
DTSTART;TZID=America/New_York:20200929T193000
DTEND;TZID=America/New_York:20200929T210000
DTSTAMP:20260423T103053
CREATED:20200826T192241Z
LAST-MODIFIED:20200911T151139Z
UID:6124-1601407800-1601413200@emotroop29.org
SUMMARY:Troop Meeting - Virtual
DESCRIPTION:You need to be logged in to view this content. Please Log In. Not a Member? Join Us
URL:https://emotroop29.org/event/troop-meeting-80/
CATEGORIES:Court of Honor,Troop Meeting
END:VEVENT
BEGIN:VEVENT
DTSTART;TZID=America/New_York:20200623T080000
DTEND;TZID=America/New_York:20200623T170000
DTSTAMP:20260423T103053
CREATED:20200123T041736Z
LAST-MODIFIED:20220908T125216Z
UID:5947-1592899200-1592931600@emotroop29.org
SUMMARY:Troop Meeting - COH - 7:30 pm
DESCRIPTION:You need to be logged in to view this content. Please Log In. Not a Member? Join Us
URL:https://emotroop29.org/event/troop-meeting-coh-730-pm-2/
LOCATION:East Moriches Fire Dept\, 9 Pine Street\, East Moriches\, NY\, 11940\, United States
CATEGORIES:Court of Honor,Troop Meeting
END:VEVENT
BEGIN:VEVENT
DTSTART;TZID=America/New_York:20200126T130000
DTEND;TZID=America/New_York:20200126T160000
DTSTAMP:20260423T103053
CREATED:20191113T231511Z
LAST-MODIFIED:20191126T231454Z
UID:5864-1580043600-1580054400@emotroop29.org
SUMMARY:Sean McInerney's Eagle Scout Ceremony - 1:00 PM
DESCRIPTION:You need to be logged in to view this content. Please Log In. Not a Member? Join Us
URL:https://emotroop29.org/event/sean-mcinerneys-eagle-scout-ceremony-100-pm/
LOCATION:East Moriches Fire Dept\, 9 Pine Street\, East Moriches\, NY\, 11940\, United States
CATEGORIES:Court of Honor
END:VEVENT
BEGIN:VEVENT
DTSTART;TZID=America/New_York:20191210T190000
DTEND;TZID=America/New_York:20191210T210000
DTSTAMP:20260423T103053
CREATED:20190828T165940Z
LAST-MODIFIED:20191203T014320Z
UID:5709-1576004400-1576011600@emotroop29.org
SUMMARY:Troop Meeting - 7:00 pm
DESCRIPTION:You need to be logged in to view this content. Please Log In. Not a Member? Join Us
URL:https://emotroop29.org/event/troop-meeting-coh-730-pm/
LOCATION:East Moriches Fire Dept\, 9 Pine Street\, East Moriches\, NY\, 11940\, United States
CATEGORIES:Court of Honor,Troop Meeting
END:VEVENT
BEGIN:VEVENT
DTSTART;TZID=America/New_York:20190924T203000
DTEND;TZID=America/New_York:20190924T220000
DTSTAMP:20260423T103053
CREATED:20190828T143926Z
LAST-MODIFIED:20190829T122542Z
UID:5666-1569357000-1569362400@emotroop29.org
SUMMARY:Troop Meeting - COH - 7:30
DESCRIPTION:You need to be logged in to view this content. Please Log In. Not a Member? Join Us
URL:https://emotroop29.org/event/troop-meeting-coh-730/
CATEGORIES:Court of Honor,Troop Meeting
END:VEVENT
BEGIN:VEVENT
DTSTART;TZID=America/New_York:20190618T193000
DTEND;TZID=America/New_York:20190618T210000
DTSTAMP:20260423T103053
CREATED:20180905T135855Z
LAST-MODIFIED:20190604T142655Z
UID:5193-1560886200-1560891600@emotroop29.org
SUMMARY:Troop Meeting - 7:30
DESCRIPTION:You need to be logged in to view this content. Please Log In. Not a Member? Join Us
URL:https://emotroop29.org/event/troop-meeting-730-26/
LOCATION:East Moriches Fire Dept\, 9 Pine Street\, East Moriches\, NY\, 11940\, United States
CATEGORIES:Court of Honor,Troop Meeting
END:VEVENT
BEGIN:VEVENT
DTSTART;TZID=America/New_York:20190602T140000
DTEND;TZID=America/New_York:20190602T160000
DTSTAMP:20260423T103053
CREATED:20190418T230554Z
LAST-MODIFIED:20190418T231016Z
UID:5548-1559484000-1559491200@emotroop29.org
SUMMARY:Anthony LoPresti's Eagle COH - 1:00
DESCRIPTION:You need to be logged in to view this content. Please Log In. Not a Member? Join Us
URL:https://emotroop29.org/event/anthony-lopresti-eagle-coh/
LOCATION:East Moriches Fire Dept\, 9 Pine Street\, East Moriches\, NY\, 11940\, United States
CATEGORIES:Court of Honor
END:VEVENT
BEGIN:VEVENT
DTSTART;TZID=America/New_York:20181002T210000
DTEND;TZID=America/New_York:20181002T220000
DTSTAMP:20260423T103053
CREATED:20180829T190932Z
LAST-MODIFIED:20181001T121309Z
UID:5147-1538514000-1538517600@emotroop29.org
SUMMARY:Court Of Honor - 8:00
DESCRIPTION:You need to be logged in to view this content. Please Log In. Not a Member? Join Us
URL:https://emotroop29.org/event/troop-meeting-70/
LOCATION:East Moriches Fire Dept\, 9 Pine Street\, East Moriches\, NY\, 11940\, United States
CATEGORIES:Court of Honor,Troop Meeting
END:VEVENT
BEGIN:VEVENT
DTSTART;TZID=America/New_York:20170402T090000
DTEND;TZID=America/New_York:20170402T120000
DTSTAMP:20260423T103053
CREATED:20170321T062019Z
LAST-MODIFIED:20170323T011539Z
UID:4285-1491123600-1491134400@emotroop29.org
SUMMARY:Chris Gill Court of Honor
DESCRIPTION:You need to be logged in to view this content. Please Log In. Not a Member? Join Us
URL:https://emotroop29.org/event/chris-gill-court-of-honor/
LOCATION:East Moriches Fire Department
CATEGORIES:Court of Honor
END:VEVENT
BEGIN:VEVENT
DTSTART;TZID=America/New_York:20161213T023000
DTEND;TZID=America/New_York:20161213T160000
DTSTAMP:20260423T103053
CREATED:20161110T045325Z
LAST-MODIFIED:20161110T045415Z
UID:4082-1481596200-1481644800@emotroop29.org
SUMMARY:Troop Court of Honor
DESCRIPTION:You need to be logged in to view this content. Please Log In. Not a Member? Join Us
URL:https://emotroop29.org/event/troop-court-of-honor/
LOCATION:East Moriches Fire Dept\, 9 Pine Street\, East Moriches\, NY\, 11940\, United States
CATEGORIES:Court of Honor
END:VEVENT
BEGIN:VEVENT
DTSTART;TZID=America/New_York:20160927T153000
DTEND;TZID=America/New_York:20160927T170000
DTSTAMP:20260423T103053
CREATED:20160919T201514Z
LAST-MODIFIED:20160922T021028Z
UID:3967-1474990200-1474995600@emotroop29.org
SUMMARY:Court of Honor
DESCRIPTION:You need to be logged in to view this content. Please Log In. Not a Member? Join Us
URL:https://emotroop29.org/event/court-of-honor-4/
LOCATION:East Moriches Fire Department
CATEGORIES:Court of Honor
END:VEVENT
BEGIN:VEVENT
DTSTART;TZID=America/New_York:20160818T150000
DTEND;TZID=America/New_York:20160818T170000
DTSTAMP:20260423T103053
CREATED:20160804T221259Z
LAST-MODIFIED:20160804T221355Z
UID:3903-1471532400-1471539600@emotroop29.org
SUMMARY:Kevin Hatton's Eagle Court of Honor
DESCRIPTION:You need to be logged in to view this content. Please Log In. Not a Member? Join Us
URL:https://emotroop29.org/event/kevin-hattons-eagle-court-of-honor/
LOCATION:East Moriches Fire Department
CATEGORIES:Court of Honor,Troop Activity
END:VEVENT
BEGIN:VEVENT
DTSTART;TZID=America/New_York:20160522T090000
DTEND;TZID=America/New_York:20160522T130000
DTSTAMP:20260423T103053
CREATED:20160420T020733Z
LAST-MODIFIED:20160510T220223Z
UID:3688-1463907600-1463922000@emotroop29.org
SUMMARY:Sam Dankowski Eagle Court Of Honor
DESCRIPTION:You need to be logged in to view this content. Please Log In. Not a Member? Join Us
URL:https://emotroop29.org/event/eagle-court-of-honor/
LOCATION:East Moriches Fire Dept\, 9 Pine Street\, East Moriches\, NY\, 11940\, United States
CATEGORIES:Court of Honor
END:VEVENT
BEGIN:VEVENT
DTSTART;TZID=America/New_York:20160402T063000
DTEND;TZID=America/New_York:20160402T090000
DTSTAMP:20260423T103053
CREATED:20160402T004537Z
LAST-MODIFIED:20160402T010024Z
UID:3604-1459578600-1459587600@emotroop29.org
SUMMARY:Michael Urban's Court of Honor
DESCRIPTION:You need to be logged in to view this content. Please Log In. Not a Member? Join Us
URL:https://emotroop29.org/event/michael-urbans-court-of-honor/
LOCATION:East Moriches Fire Department
CATEGORIES:Court of Honor
END:VEVENT
BEGIN:VEVENT
DTSTART;TZID=America/New_York:20151222T143000
DTEND;TZID=America/New_York:20151222T160000
DTSTAMP:20260423T103053
CREATED:20151123T013131Z
LAST-MODIFIED:20151214T170013Z
UID:3186-1450794600-1450800000@emotroop29.org
SUMMARY:Court of Honor / Holiday Party
DESCRIPTION:You need to be logged in to view this content. Please Log In. Not a Member? Join Us
URL:https://emotroop29.org/event/court-of-honor-3/
LOCATION:East Moriches Fire Department
CATEGORIES:Court of Honor,Troop Meeting
END:VEVENT
BEGIN:VEVENT
DTSTART;TZID=America/New_York:20151122T073000
DTEND;TZID=America/New_York:20151122T100000
DTSTAMP:20260423T103053
CREATED:20151120T003459Z
LAST-MODIFIED:20151122T045139Z
UID:3154-1448177400-1448186400@emotroop29.org
SUMMARY:Gage Rubio's Eagle Scout Court of Honor
DESCRIPTION:You need to be logged in to view this content. Please Log In. Not a Member? Join Us
URL:https://emotroop29.org/event/gage-rubios-eagle-scout-court-of-honor/
LOCATION:East Moriches Fire Department
CATEGORIES:Court of Honor
END:VEVENT
END:VCALENDAR