BEGIN:VCALENDAR
VERSION:2.0
PRODID:-//East Moriches Troop 29 - ECPv6.15.20//NONSGML v1.0//EN
CALSCALE:GREGORIAN
METHOD:PUBLISH
X-ORIGINAL-URL:https://emotroop29.org
X-WR-CALDESC:Events for East Moriches Troop 29
REFRESH-INTERVAL;VALUE=DURATION:PT1H
X-Robots-Tag:noindex
X-PUBLISHED-TTL:PT1H
BEGIN:VTIMEZONE
TZID:America/New_York
BEGIN:DAYLIGHT
TZOFFSETFROM:-0500
TZOFFSETTO:-0400
TZNAME:EDT
DTSTART:20130310T070000
END:DAYLIGHT
BEGIN:STANDARD
TZOFFSETFROM:-0400
TZOFFSETTO:-0500
TZNAME:EST
DTSTART:20131103T060000
END:STANDARD
BEGIN:DAYLIGHT
TZOFFSETFROM:-0500
TZOFFSETTO:-0400
TZNAME:EDT
DTSTART:20140309T070000
END:DAYLIGHT
BEGIN:STANDARD
TZOFFSETFROM:-0400
TZOFFSETTO:-0500
TZNAME:EST
DTSTART:20141102T060000
END:STANDARD
BEGIN:DAYLIGHT
TZOFFSETFROM:-0500
TZOFFSETTO:-0400
TZNAME:EDT
DTSTART:20150308T070000
END:DAYLIGHT
BEGIN:STANDARD
TZOFFSETFROM:-0400
TZOFFSETTO:-0500
TZNAME:EST
DTSTART:20151101T060000
END:STANDARD
BEGIN:DAYLIGHT
TZOFFSETFROM:-0500
TZOFFSETTO:-0400
TZNAME:EDT
DTSTART:20160313T070000
END:DAYLIGHT
BEGIN:STANDARD
TZOFFSETFROM:-0400
TZOFFSETTO:-0500
TZNAME:EST
DTSTART:20161106T060000
END:STANDARD
BEGIN:DAYLIGHT
TZOFFSETFROM:-0500
TZOFFSETTO:-0400
TZNAME:EDT
DTSTART:20170312T070000
END:DAYLIGHT
BEGIN:STANDARD
TZOFFSETFROM:-0400
TZOFFSETTO:-0500
TZNAME:EST
DTSTART:20171105T060000
END:STANDARD
BEGIN:DAYLIGHT
TZOFFSETFROM:-0500
TZOFFSETTO:-0400
TZNAME:EDT
DTSTART:20180311T070000
END:DAYLIGHT
BEGIN:STANDARD
TZOFFSETFROM:-0400
TZOFFSETTO:-0500
TZNAME:EST
DTSTART:20181104T060000
END:STANDARD
BEGIN:DAYLIGHT
TZOFFSETFROM:-0500
TZOFFSETTO:-0400
TZNAME:EDT
DTSTART:20190310T070000
END:DAYLIGHT
BEGIN:STANDARD
TZOFFSETFROM:-0400
TZOFFSETTO:-0500
TZNAME:EST
DTSTART:20191103T060000
END:STANDARD
BEGIN:DAYLIGHT
TZOFFSETFROM:-0500
TZOFFSETTO:-0400
TZNAME:EDT
DTSTART:20200308T070000
END:DAYLIGHT
BEGIN:STANDARD
TZOFFSETFROM:-0400
TZOFFSETTO:-0500
TZNAME:EST
DTSTART:20201101T060000
END:STANDARD
END:VTIMEZONE
BEGIN:VEVENT
DTSTART;TZID=America/New_York:20190604T193000
DTEND;TZID=America/New_York:20190604T203000
DTSTAMP:20260425T103000
CREATED:20180905T172838Z
LAST-MODIFIED:20190601T113053Z
UID:5205-1559676600-1559680200@emotroop29.org
SUMMARY:Committee Meeting - 6:30
DESCRIPTION:You need to be logged in to view this content. Please Log In. Not a Member? Join Us
URL:https://emotroop29.org/event/committee-meeting-630-9/
LOCATION:East Moriches Fire Dept\, 9 Pine Street\, East Moriches\, NY\, 11940\, United States
CATEGORIES:Committee Meetings
END:VEVENT
BEGIN:VEVENT
DTSTART;TZID=America/New_York:20190507T193000
DTEND;TZID=America/New_York:20190507T203000
DTSTAMP:20260425T103000
CREATED:20180905T172743Z
LAST-MODIFIED:20180905T172743Z
UID:5204-1557257400-1557261000@emotroop29.org
SUMMARY:Committee Meeting - 6:30
DESCRIPTION:You need to be logged in to view this content. Please Log In. Not a Member? Join Us
URL:https://emotroop29.org/event/committee-meeting-630-8/
LOCATION:NY
CATEGORIES:Committee Meetings
END:VEVENT
BEGIN:VEVENT
DTSTART;TZID=America/New_York:20190402T193000
DTEND;TZID=America/New_York:20190402T203000
DTSTAMP:20260425T103000
CREATED:20180905T173935Z
LAST-MODIFIED:20180905T173935Z
UID:5207-1554233400-1554237000@emotroop29.org
SUMMARY:Committee Meeting - 6:30
DESCRIPTION:You need to be logged in to view this content. Please Log In. Not a Member? Join Us
URL:https://emotroop29.org/event/committee-meeting-630-11/
LOCATION:NY
CATEGORIES:Committee Meetings
END:VEVENT
BEGIN:VEVENT
DTSTART;TZID=America/New_York:20190305T183000
DTEND;TZID=America/New_York:20190305T193000
DTSTAMP:20260425T103000
CREATED:20180905T172452Z
LAST-MODIFIED:20180905T172452Z
UID:5202-1551810600-1551814200@emotroop29.org
SUMMARY:Committee Meeting - 6:30
DESCRIPTION:You need to be logged in to view this content. Please Log In. Not a Member? Join Us
URL:https://emotroop29.org/event/committee-meeting-630-7/
LOCATION:NY
CATEGORIES:Committee Meetings
END:VEVENT
BEGIN:VEVENT
DTSTART;TZID=America/New_York:20190205T183000
DTEND;TZID=America/New_York:20190205T193000
DTSTAMP:20260425T103000
CREATED:20180905T172352Z
LAST-MODIFIED:20180905T172352Z
UID:5201-1549391400-1549395000@emotroop29.org
SUMMARY:Committee Meeting - 6:30
DESCRIPTION:You need to be logged in to view this content. Please Log In. Not a Member? Join Us
URL:https://emotroop29.org/event/committee-meeting-630-6/
LOCATION:NY
CATEGORIES:Committee Meetings
END:VEVENT
BEGIN:VEVENT
DTSTART;TZID=America/New_York:20190108T183000
DTEND;TZID=America/New_York:20190108T193000
DTSTAMP:20260425T103000
CREATED:20180905T172255Z
LAST-MODIFIED:20180905T172255Z
UID:5200-1546972200-1546975800@emotroop29.org
SUMMARY:Committee Meeting - 6:30
DESCRIPTION:You need to be logged in to view this content. Please Log In. Not a Member? Join Us
URL:https://emotroop29.org/event/committee-meeting-630-5/
LOCATION:NY
CATEGORIES:Committee Meetings
END:VEVENT
BEGIN:VEVENT
DTSTART;TZID=America/New_York:20181211T183000
DTEND;TZID=America/New_York:20181211T183000
DTSTAMP:20260425T103000
CREATED:20180905T172209Z
LAST-MODIFIED:20181204T191357Z
UID:5199-1544553000-1544553000@emotroop29.org
SUMMARY:Committee Meeting - 6:30
DESCRIPTION:You need to be logged in to view this content. Please Log In. Not a Member? Join Us
URL:https://emotroop29.org/event/committee-meeting-630-4/
LOCATION:NY
CATEGORIES:Committee Meetings
END:VEVENT
BEGIN:VEVENT
DTSTART;TZID=America/New_York:20181113T183000
DTEND;TZID=America/New_York:20181113T193000
DTSTAMP:20260425T103000
CREATED:20180905T172001Z
LAST-MODIFIED:20181003T204929Z
UID:5198-1542133800-1542137400@emotroop29.org
SUMMARY:Committee Meeting - 6:30 pm
DESCRIPTION:You need to be logged in to view this content. Please Log In. Not a Member? Join Us
URL:https://emotroop29.org/event/committee-meeting-630-3/
LOCATION:NY
CATEGORIES:Committee Meetings
END:VEVENT
BEGIN:VEVENT
DTSTART;TZID=America/New_York:20181002T193000
DTEND;TZID=America/New_York:20181002T203000
DTSTAMP:20260425T103000
CREATED:20180905T171925Z
LAST-MODIFIED:20180917T132631Z
UID:5197-1538508600-1538512200@emotroop29.org
SUMMARY:Committee Meeting - 6:30
DESCRIPTION:You need to be logged in to view this content. Please Log In. Not a Member? Join Us
URL:https://emotroop29.org/event/committee-meeting-630-2/
LOCATION:East Moriches Fire Dept\, 9 Pine Street\, East Moriches\, NY\, 11940\, United States
CATEGORIES:Committee Meetings
END:VEVENT
BEGIN:VEVENT
DTSTART;TZID=America/New_York:20180918T193000
DTEND;TZID=America/New_York:20180918T203000
DTSTAMP:20260425T103000
CREATED:20180905T171737Z
LAST-MODIFIED:20180917T132731Z
UID:5196-1537299000-1537302600@emotroop29.org
SUMMARY:Committee Meeting - 6:30
DESCRIPTION:You need to be logged in to view this content. Please Log In. Not a Member? Join Us
URL:https://emotroop29.org/event/committee-meeting-630/
LOCATION:East Moriches Fire Dept\, 9 Pine Street\, East Moriches\, NY\, 11940\, United States
CATEGORIES:Committee Meetings
END:VEVENT
BEGIN:VEVENT
DTSTART;TZID=America/New_York:20180605T143000
DTEND;TZID=America/New_York:20180605T153000
DTSTAMP:20260425T103000
CREATED:20180210T202334Z
LAST-MODIFIED:20180210T202334Z
UID:4745-1528209000-1528212600@emotroop29.org
SUMMARY:Committee Meeting
DESCRIPTION:You need to be logged in to view this content. Please Log In. Not a Member? Join Us
URL:https://emotroop29.org/event/committee-meeting-11/
LOCATION:East Moriches Fire Department
CATEGORIES:Committee Meetings
END:VEVENT
BEGIN:VEVENT
DTSTART;TZID=America/New_York:20180501T143000
DTEND;TZID=America/New_York:20180501T153000
DTSTAMP:20260425T103000
CREATED:20180210T202243Z
LAST-MODIFIED:20180210T202243Z
UID:4744-1525185000-1525188600@emotroop29.org
SUMMARY:Committee Meeting
DESCRIPTION:You need to be logged in to view this content. Please Log In. Not a Member? Join Us
URL:https://emotroop29.org/event/committee-meeting-10/
LOCATION:East Moriches Fire Department
CATEGORIES:Committee Meetings
END:VEVENT
BEGIN:VEVENT
DTSTART;TZID=America/New_York:20180410T143000
DTEND;TZID=America/New_York:20180410T153000
DTSTAMP:20260425T103000
CREATED:20180210T202157Z
LAST-MODIFIED:20180412T184855Z
UID:4743-1523370600-1523374200@emotroop29.org
SUMMARY:Committee Meeting - Cancelled
DESCRIPTION:You need to be logged in to view this content. Please Log In. Not a Member? Join Us
URL:https://emotroop29.org/event/committee-meeting-9/
LOCATION:NY
CATEGORIES:Committee Meetings
END:VEVENT
BEGIN:VEVENT
DTSTART;TZID=America/New_York:20180306T133000
DTEND;TZID=America/New_York:20180306T143000
DTSTAMP:20260425T103000
CREATED:20180210T202119Z
LAST-MODIFIED:20180214T175103Z
UID:4742-1520343000-1520346600@emotroop29.org
SUMMARY:Committee Meeting
DESCRIPTION:You need to be logged in to view this content. Please Log In. Not a Member? Join Us
URL:https://emotroop29.org/event/committee-meeting-8/
LOCATION:East Moriches Fire Department
CATEGORIES:Committee Meetings
END:VEVENT
BEGIN:VEVENT
DTSTART;TZID=America/New_York:20180213T133000
DTEND;TZID=America/New_York:20180213T143000
DTSTAMP:20260425T103000
CREATED:20180210T194523Z
LAST-MODIFIED:20180210T194523Z
UID:4728-1518528600-1518532200@emotroop29.org
SUMMARY:Committee Meeting
DESCRIPTION:You need to be logged in to view this content. Please Log In. Not a Member? Join Us
URL:https://emotroop29.org/event/committee-meeting-7/
LOCATION:East Moriches Fire Department
CATEGORIES:Committee Meetings
END:VEVENT
BEGIN:VEVENT
DTSTART;TZID=America/New_York:20151201T133000
DTEND;TZID=America/New_York:20151201T160000
DTSTAMP:20260425T103000
CREATED:20151130T234434Z
LAST-MODIFIED:20151130T234434Z
UID:3205-1448976600-1448985600@emotroop29.org
SUMMARY:Committee Meeting
DESCRIPTION:You need to be logged in to view this content. Please Log In. Not a Member? Join Us
URL:https://emotroop29.org/event/committee-meeting-6/
LOCATION:East Moriches Fire Department
CATEGORIES:Committee Meetings
END:VEVENT
BEGIN:VEVENT
DTSTART;TZID=America/New_York:20151110T133000
DTEND;TZID=America/New_York:20151110T160000
DTSTAMP:20260425T103000
CREATED:20151104T005804Z
LAST-MODIFIED:20151104T005804Z
UID:3086-1447162200-1447171200@emotroop29.org
SUMMARY:Committee Meeting
DESCRIPTION:You need to be logged in to view this content. Please Log In. Not a Member? Join Us
URL:https://emotroop29.org/event/committee-meeting-5/
LOCATION:East Moriches Fire Department
CATEGORIES:Committee Meetings
END:VEVENT
BEGIN:VEVENT
DTSTART;TZID=America/New_York:20150901T203000
DTEND;TZID=America/New_York:20150901T220000
DTSTAMP:20260425T103000
CREATED:20150819T190548Z
LAST-MODIFIED:20150825T233755Z
UID:2853-1441139400-1441144800@emotroop29.org
SUMMARY:Patrol Leaders Council Meeting/Committee Meeting/Bechtel Summit Fundraiser Meeting
DESCRIPTION:You need to be logged in to view this content. Please Log In. Not a Member? Join Us
URL:https://emotroop29.org/event/patrol-leader-meeting/
LOCATION:East Moriches Fire Dept\, 9 Pine Street\, East Moriches\, NY\, 11940\, United States
CATEGORIES:Committee Meetings,Fundraiser,Patrol Leaders Council Meeting
END:VEVENT
BEGIN:VEVENT
DTSTART;TZID=America/New_York:20150609T203000
DTEND;TZID=America/New_York:20150609T220000
DTSTAMP:20260425T103000
CREATED:20150604T214026Z
LAST-MODIFIED:20150604T214538Z
UID:2606-1433881800-1433887200@emotroop29.org
SUMMARY:Committee Meeting / Optional Merit Badge Session
DESCRIPTION:You need to be logged in to view this content. Please Log In. Not a Member? Join Us
URL:https://emotroop29.org/event/optional-merit-badge-session/
LOCATION:East Moriches Fire Dept\, 9 Pine Street\, East Moriches\, NY\, 11940\, United States
CATEGORIES:Committee Meetings,Merit Badge Program Night
END:VEVENT
BEGIN:VEVENT
DTSTART;TZID=America/New_York:20150512T203000
DTEND;TZID=America/New_York:20150512T220000
DTSTAMP:20260425T103000
CREATED:20150504T195255Z
LAST-MODIFIED:20150504T195255Z
UID:2520-1431462600-1431468000@emotroop29.org
SUMMARY:Committee Meeting / Troop Meeting
DESCRIPTION:You need to be logged in to view this content. Please Log In. Not a Member? Join Us
URL:https://emotroop29.org/event/committee-meeting-troop-meeting/
LOCATION:East Moriches Fire Department
CATEGORIES:Committee Meetings,Troop Meeting
END:VEVENT
BEGIN:VEVENT
DTSTART;TZID=America/New_York:20150331T203000
DTEND;TZID=America/New_York:20150331T220000
DTSTAMP:20260425T103000
CREATED:20150331T222308Z
LAST-MODIFIED:20150331T222308Z
UID:2345-1427833800-1427839200@emotroop29.org
SUMMARY:Troop Meeting/Committee Meeting
DESCRIPTION:You need to be logged in to view this content. Please Log In. Not a Member? Join Us
URL:https://emotroop29.org/event/troop-meetingcommittee-meeting/
LOCATION:East Moriches Fire Dept\, 9 Pine Street\, East Moriches\, NY\, 11940\, United States
CATEGORIES:Committee Meetings,Troop Meeting
END:VEVENT
BEGIN:VEVENT
DTSTART;TZID=America/New_York:20150303T193000
DTEND;TZID=America/New_York:20150303T210000
DTSTAMP:20260425T103000
CREATED:20150217T065907Z
LAST-MODIFIED:20150217T231525Z
UID:2210-1425411000-1425416400@emotroop29.org
SUMMARY:Troop Meeting/Committee Meeting
DESCRIPTION:You need to be logged in to view this content. Please Log In. Not a Member? Join Us
URL:https://emotroop29.org/event/troop-meeting-14/
LOCATION:East Moriches Fire Department
CATEGORIES:Committee Meetings,Troop Meeting
END:VEVENT
BEGIN:VEVENT
DTSTART;TZID=America/New_York:20150106T193000
DTEND;TZID=America/New_York:20150106T210000
DTSTAMP:20260425T103000
CREATED:20141127T003542Z
LAST-MODIFIED:20150106T011203Z
UID:1981-1420572600-1420578000@emotroop29.org
SUMMARY:Troop Meeting / Committee Meeting
DESCRIPTION:You need to be logged in to view this content. Please Log In. Not a Member? Join Us
URL:https://emotroop29.org/event/troop-meeting-8/
LOCATION:East Moriches Elementary School\, 523 Montauk Highway\, East Moriches\, 11940\, United States
CATEGORIES:Committee Meetings,Troop Meeting
END:VEVENT
BEGIN:VEVENT
DTSTART;VALUE=DATE:20141104
DTEND;VALUE=DATE:20141105
DTSTAMP:20260425T103000
CREATED:20140911T173148Z
LAST-MODIFIED:20140911T173148Z
UID:1638-1415059200-1415145599@emotroop29.org
SUMMARY:No Troop/Committee Meeting
DESCRIPTION:You need to be logged in to view this content. Please Log In. Not a Member? Join Us
URL:https://emotroop29.org/event/no-troopcommittee-meeting/
LOCATION:NY
CATEGORIES:Committee Meetings,Troop Activity,Troop Meeting
END:VEVENT
BEGIN:VEVENT
DTSTART;TZID=America/New_York:20141007T203000
DTEND;TZID=America/New_York:20141007T220000
DTSTAMP:20260425T103000
CREATED:20140925T153917Z
LAST-MODIFIED:20140929T175609Z
UID:1699-1412713800-1412719200@emotroop29.org
SUMMARY:No Troop Meeting
DESCRIPTION:You need to be logged in to view this content. Please Log In. Not a Member? Join Us
URL:https://emotroop29.org/event/no-troopcommittee-meeting-2/
LOCATION:NY
CATEGORIES:Committee Meetings,Troop Activity,Troop Meeting
END:VEVENT
BEGIN:VEVENT
DTSTART;TZID=America/New_York:20141007T193000
DTEND;TZID=America/New_York:20141007T220000
DTSTAMP:20260425T103000
CREATED:20140929T175823Z
LAST-MODIFIED:20141006T192238Z
UID:1703-1412710200-1412719200@emotroop29.org
SUMMARY:Committee Meeting
DESCRIPTION:You need to be logged in to view this content. Please Log In. Not a Member? Join Us
URL:https://emotroop29.org/event/committee-meeting-4/
LOCATION:East Moriches Ambulance Corp.\, 275 Montauk Hwy\, East Moriches\, NY\, 11940 \, United States
CATEGORIES:Committee Meetings
END:VEVENT
BEGIN:VEVENT
DTSTART;TZID=America/New_York:20140909T073000
DTEND;TZID=America/New_York:20140909T203000
DTSTAMP:20260425T103000
CREATED:20140828T222818Z
LAST-MODIFIED:20140925T152555Z
UID:1597-1410247800-1410294600@emotroop29.org
SUMMARY:Committee Meeting
DESCRIPTION:You need to be logged in to view this content. Please Log In. Not a Member? Join Us
URL:https://emotroop29.org/event/committee-meeting-3/
LOCATION:East Moriches Elementary School\, 523 Montauk Highway\, East Moriches\, 11940\, United States
CATEGORIES:Committee Meetings
END:VEVENT
BEGIN:VEVENT
DTSTART;TZID=America/New_York:20140729T200000
DTEND;TZID=America/New_York:20140729T220000
DTSTAMP:20260425T103000
CREATED:20140703T222610Z
LAST-MODIFIED:20140703T223404Z
UID:146-1406664000-1406671200@emotroop29.org
SUMMARY:Committee Meeting
DESCRIPTION:You need to be logged in to view this content. Please Log In. Not a Member? Join Us
URL:https://emotroop29.org/event/committee-meeting/
LOCATION:East Moriches Fire Dept\, 9 Pine Street\, East Moriches\, NY\, 11940\, United States
CATEGORIES:Committee Meetings
END:VEVENT
BEGIN:VEVENT
DTSTART;TZID=America/New_York:20140617T190000
DTEND;TZID=America/New_York:20140617T220000
DTSTAMP:20260425T103000
CREATED:20140612T150752Z
LAST-MODIFIED:20140612T151757Z
UID:33-1403031600-1403042400@emotroop29.org
SUMMARY:Troop Committee Meeting
DESCRIPTION:You need to be logged in to view this content. Please Log In. Not a Member? Join Us
URL:https://emotroop29.org/event/troop-committee-meeting/
LOCATION:East Moriches Fire Dept\, 9 Pine Street\, East Moriches\, NY\, 11940\, United States
CATEGORIES:Committee Meetings
END:VEVENT
END:VCALENDAR