BEGIN:VCALENDAR
VERSION:2.0
PRODID:-//East Moriches Troop 29 - ECPv6.15.20//NONSGML v1.0//EN
CALSCALE:GREGORIAN
METHOD:PUBLISH
X-ORIGINAL-URL:https://emotroop29.org
X-WR-CALDESC:Events for East Moriches Troop 29
REFRESH-INTERVAL;VALUE=DURATION:PT1H
X-Robots-Tag:noindex
X-PUBLISHED-TTL:PT1H
BEGIN:VTIMEZONE
TZID:America/New_York
BEGIN:DAYLIGHT
TZOFFSETFROM:-0500
TZOFFSETTO:-0400
TZNAME:EDT
DTSTART:20170312T070000
END:DAYLIGHT
BEGIN:STANDARD
TZOFFSETFROM:-0400
TZOFFSETTO:-0500
TZNAME:EST
DTSTART:20171105T060000
END:STANDARD
BEGIN:DAYLIGHT
TZOFFSETFROM:-0500
TZOFFSETTO:-0400
TZNAME:EDT
DTSTART:20180311T070000
END:DAYLIGHT
BEGIN:STANDARD
TZOFFSETFROM:-0400
TZOFFSETTO:-0500
TZNAME:EST
DTSTART:20181104T060000
END:STANDARD
BEGIN:DAYLIGHT
TZOFFSETFROM:-0500
TZOFFSETTO:-0400
TZNAME:EDT
DTSTART:20190310T070000
END:DAYLIGHT
BEGIN:STANDARD
TZOFFSETFROM:-0400
TZOFFSETTO:-0500
TZNAME:EST
DTSTART:20191103T060000
END:STANDARD
BEGIN:DAYLIGHT
TZOFFSETFROM:-0500
TZOFFSETTO:-0400
TZNAME:EDT
DTSTART:20200308T070000
END:DAYLIGHT
BEGIN:STANDARD
TZOFFSETFROM:-0400
TZOFFSETTO:-0500
TZNAME:EST
DTSTART:20201101T060000
END:STANDARD
BEGIN:DAYLIGHT
TZOFFSETFROM:-0500
TZOFFSETTO:-0400
TZNAME:EDT
DTSTART:20210314T070000
END:DAYLIGHT
BEGIN:STANDARD
TZOFFSETFROM:-0400
TZOFFSETTO:-0500
TZNAME:EST
DTSTART:20211107T060000
END:STANDARD
BEGIN:DAYLIGHT
TZOFFSETFROM:-0500
TZOFFSETTO:-0400
TZNAME:EDT
DTSTART:20220313T070000
END:DAYLIGHT
BEGIN:STANDARD
TZOFFSETFROM:-0400
TZOFFSETTO:-0500
TZNAME:EST
DTSTART:20221106T060000
END:STANDARD
BEGIN:DAYLIGHT
TZOFFSETFROM:-0500
TZOFFSETTO:-0400
TZNAME:EDT
DTSTART:20230312T070000
END:DAYLIGHT
BEGIN:STANDARD
TZOFFSETFROM:-0400
TZOFFSETTO:-0500
TZNAME:EST
DTSTART:20231105T060000
END:STANDARD
END:VTIMEZONE
BEGIN:VEVENT
DTSTART;TZID=America/New_York:20220301T183000
DTEND;TZID=America/New_York:20220301T193000
DTSTAMP:20260423T155446
CREATED:20220104T010019Z
LAST-MODIFIED:20220104T010019Z
UID:6940-1646159400-1646163000@emotroop29.org
SUMMARY:Committee Meeting
DESCRIPTION:You need to be logged in to view this content. Please Log In. Not a Member? Join Us
URL:https://emotroop29.org/event/committee-meeting-18/
CATEGORIES:Committee Meetings
END:VEVENT
BEGIN:VEVENT
DTSTART;TZID=America/New_York:20220201T183000
DTEND;TZID=America/New_York:20220201T193000
DTSTAMP:20260423T155446
CREATED:20220104T005942Z
LAST-MODIFIED:20220104T005942Z
UID:6938-1643740200-1643743800@emotroop29.org
SUMMARY:Committee Meeting
DESCRIPTION:You need to be logged in to view this content. Please Log In. Not a Member? Join Us
URL:https://emotroop29.org/event/committee-meeting-17/
CATEGORIES:Committee Meetings
END:VEVENT
BEGIN:VEVENT
DTSTART;TZID=America/New_York:20220111T183000
DTEND;TZID=America/New_York:20220111T193000
DTSTAMP:20260423T155446
CREATED:20220104T005843Z
LAST-MODIFIED:20220104T005843Z
UID:6936-1641925800-1641929400@emotroop29.org
SUMMARY:Committee Meeting
DESCRIPTION:You need to be logged in to view this content. Please Log In. Not a Member? Join Us
URL:https://emotroop29.org/event/committee-meeting-16/
CATEGORIES:Committee Meetings
END:VEVENT
BEGIN:VEVENT
DTSTART;TZID=America/New_York:20211207T183000
DTEND;TZID=America/New_York:20211207T193000
DTSTAMP:20260423T155446
CREATED:20211207T195419Z
LAST-MODIFIED:20211207T195419Z
UID:6880-1638901800-1638905400@emotroop29.org
SUMMARY:Committee Meeting
DESCRIPTION:You need to be logged in to view this content. Please Log In. Not a Member? Join Us
URL:https://emotroop29.org/event/committee-meeting-15/
CATEGORIES:Committee Meetings
END:VEVENT
BEGIN:VEVENT
DTSTART;TZID=America/New_York:20211108T180000
DTEND;TZID=America/New_York:20211108T180000
DTSTAMP:20260423T155446
CREATED:20211026T130115Z
LAST-MODIFIED:20211108T143506Z
UID:6838-1636394400-1636394400@emotroop29.org
SUMMARY:Committee Meeting
DESCRIPTION:You need to be logged in to view this content. Please Log In. Not a Member? Join Us
URL:https://emotroop29.org/event/committee-meeting-14/
CATEGORIES:Committee Meetings
END:VEVENT
BEGIN:VEVENT
DTSTART;TZID=America/New_York:20200927T190000
DTEND;TZID=America/New_York:20200927T200000
DTSTAMP:20260423T155446
CREATED:20200927T225837Z
LAST-MODIFIED:20200927T225837Z
UID:6324-1601233200-1601236800@emotroop29.org
SUMMARY:Committee Meeting
DESCRIPTION:You need to be logged in to view this content. Please Log In. Not a Member? Join Us
URL:https://emotroop29.org/event/committee-meeting-13/
CATEGORIES:Committee Meetings
END:VEVENT
BEGIN:VEVENT
DTSTART;TZID=America/New_York:20200707T200000
DTEND;TZID=America/New_York:20200707T210000
DTSTAMP:20260423T155446
CREATED:20200123T041922Z
LAST-MODIFIED:20220908T125311Z
UID:5949-1594152000-1594155600@emotroop29.org
SUMMARY:Committee Meeting - 8:00 pm
DESCRIPTION:You need to be logged in to view this content. Please Log In. Not a Member? Join Us
URL:https://emotroop29.org/event/committee-meeting-800-pm-2/
LOCATION:East Moriches Fire Dept\, 9 Pine Street\, East Moriches\, NY\, 11940\, United States
CATEGORIES:Committee Meetings
END:VEVENT
BEGIN:VEVENT
DTSTART;TZID=America/New_York:20200602T200000
DTEND;TZID=America/New_York:20200602T210000
DTSTAMP:20260423T155446
CREATED:20200123T035828Z
LAST-MODIFIED:20220908T125125Z
UID:5927-1591128000-1591131600@emotroop29.org
SUMMARY:Committee Meeting - 8:00 pm
DESCRIPTION:You need to be logged in to view this content. Please Log In. Not a Member? Join Us
URL:https://emotroop29.org/event/committee-meeting-800-pm-6/
LOCATION:East Moriches Fire Dept\, 9 Pine Street\, East Moriches\, NY\, 11940\, United States
CATEGORIES:Committee Meetings
END:VEVENT
BEGIN:VEVENT
DTSTART;TZID=America/New_York:20200505T200000
DTEND;TZID=America/New_York:20200505T210000
DTSTAMP:20260423T155446
CREATED:20200123T035732Z
LAST-MODIFIED:20220908T124852Z
UID:5926-1588708800-1588712400@emotroop29.org
SUMMARY:Committee Meeting - 8:00 pm
DESCRIPTION:You need to be logged in to view this content. Please Log In. Not a Member? Join Us
URL:https://emotroop29.org/event/committee-meeting-800-pm-5/
LOCATION:East Moriches Fire Dept\, 9 Pine Street\, East Moriches\, NY\, 11940\, United States
CATEGORIES:Committee Meetings
END:VEVENT
BEGIN:VEVENT
DTSTART;TZID=America/New_York:20200414T200000
DTEND;TZID=America/New_York:20200414T210000
DTSTAMP:20260423T155446
CREATED:20200123T035704Z
LAST-MODIFIED:20220908T124554Z
UID:5925-1586894400-1586898000@emotroop29.org
SUMMARY:Committee Meeting - 8:00 pm
DESCRIPTION:You need to be logged in to view this content. Please Log In. Not a Member? Join Us
URL:https://emotroop29.org/event/committee-meeting-800-pm-4/
LOCATION:East Moriches Fire Dept\, 9 Pine Street\, East Moriches\, NY\, 11940\, United States
CATEGORIES:Committee Meetings
END:VEVENT
BEGIN:VEVENT
DTSTART;TZID=America/New_York:20200331T200000
DTEND;TZID=America/New_York:20200331T210000
DTSTAMP:20260423T155446
CREATED:20200309T213902Z
LAST-MODIFIED:20220908T133908Z
UID:6071-1585684800-1585688400@emotroop29.org
SUMMARY:Committee Meeting – 8:00 pm
DESCRIPTION:You need to be logged in to view this content. Please Log In. Not a Member? Join Us
URL:https://emotroop29.org/event/committee-meeting-800-pm-7/
LOCATION:East Moriches Middle School\, 9 Adelaide Avenue\, East Moriches\, NY\, 11940 \, United States
CATEGORIES:Committee Meetings
ORGANIZER;CN="Grace Minelli":MAILTO:gemlm@optonline.net
END:VEVENT
BEGIN:VEVENT
DTSTART;TZID=America/New_York:20200303T200000
DTEND;TZID=America/New_York:20200303T210000
DTSTAMP:20260423T155446
CREATED:20200123T035614Z
LAST-MODIFIED:20200123T035614Z
UID:5924-1583265600-1583269200@emotroop29.org
SUMMARY:Committee Meeting - 8:00 pm
DESCRIPTION:You need to be logged in to view this content. Please Log In. Not a Member? Join Us
URL:https://emotroop29.org/event/committee-meeting-800-pm-3/
LOCATION:East Moriches Fire Dept\, 9 Pine Street\, East Moriches\, NY\, 11940\, United States
CATEGORIES:Committee Meetings
END:VEVENT
BEGIN:VEVENT
DTSTART;TZID=America/New_York:20200204T200000
DTEND;TZID=America/New_York:20200204T210000
DTSTAMP:20260423T155446
CREATED:20200105T151605Z
LAST-MODIFIED:20200106T151659Z
UID:5912-1580846400-1580850000@emotroop29.org
SUMMARY:Committee Meeting - 8:00 pm
DESCRIPTION:You need to be logged in to view this content. Please Log In. Not a Member? Join Us
URL:https://emotroop29.org/event/committee-meting-800-pm/
LOCATION:East Moriches Fire Dept\, 9 Pine Street\, East Moriches\, NY\, 11940\, United States
CATEGORIES:Committee Meetings
END:VEVENT
BEGIN:VEVENT
DTSTART;TZID=America/New_York:20200107T200000
DTEND;TZID=America/New_York:20200107T210000
DTSTAMP:20260423T155446
CREATED:20200105T151130Z
LAST-MODIFIED:20200106T151553Z
UID:5911-1578427200-1578430800@emotroop29.org
SUMMARY:Committee Meeting - 8:00 pm
DESCRIPTION:You need to be logged in to view this content. Please Log In. Not a Member? Join Us
URL:https://emotroop29.org/event/committee-meeting-800-pm/
LOCATION:East Moriches Fire Dept\, 9 Pine Street\, East Moriches\, NY\, 11940\, United States
CATEGORIES:Committee Meetings
END:VEVENT
BEGIN:VEVENT
DTSTART;TZID=America/New_York:20191203T193000
DTEND;TZID=America/New_York:20191203T210000
DTSTAMP:20260423T155446
CREATED:20190828T165719Z
LAST-MODIFIED:20190828T165729Z
UID:5706-1575401400-1575406800@emotroop29.org
SUMMARY:Committee Meeting - 7:30 pm
DESCRIPTION:You need to be logged in to view this content. Please Log In. Not a Member? Join Us
URL:https://emotroop29.org/event/committee-meeting-730-3/
LOCATION:East Moriches Fire Dept\, 9 Pine Street\, East Moriches\, NY\, 11940\, United States
CATEGORIES:Committee Meetings
END:VEVENT
BEGIN:VEVENT
DTSTART;TZID=America/New_York:20191112T193000
DTEND;TZID=America/New_York:20191112T210000
DTSTAMP:20260423T155446
CREATED:20190828T164809Z
LAST-MODIFIED:20190828T164809Z
UID:5699-1573587000-1573592400@emotroop29.org
SUMMARY:Committee Meeting - 7:30
DESCRIPTION:You need to be logged in to view this content. Please Log In. Not a Member? Join Us
URL:https://emotroop29.org/event/committee-meeting-730-2/
LOCATION:East Moriches Fire Dept\, 9 Pine Street\, East Moriches\, NY\, 11940\, United States
CATEGORIES:Committee Meetings
END:VEVENT
BEGIN:VEVENT
DTSTART;TZID=America/New_York:20191015T200000
DTEND;TZID=America/New_York:20191015T210000
DTSTAMP:20260423T155446
CREATED:20190828T160801Z
LAST-MODIFIED:20220908T132042Z
UID:5692-1571169600-1571173200@emotroop29.org
SUMMARY:Committee Meeting - 7:30 pm
DESCRIPTION:You need to be logged in to view this content. Please Log In. Not a Member? Join Us
URL:https://emotroop29.org/event/committee-meeting-730-pm-2/
LOCATION:East Moriches Fire Dept\, 9 Pine Street\, East Moriches\, NY\, 11940\, United States
CATEGORIES:Committee Meetings
END:VEVENT
BEGIN:VEVENT
DTSTART;TZID=America/New_York:20190910T203000
DTEND;TZID=America/New_York:20190910T220000
DTSTAMP:20260423T155446
CREATED:20190828T140407Z
LAST-MODIFIED:20190828T152502Z
UID:5665-1568147400-1568152800@emotroop29.org
SUMMARY:Committee Meeting - 7:30 pm
DESCRIPTION:You need to be logged in to view this content. Please Log In. Not a Member? Join Us
URL:https://emotroop29.org/event/committee-meeting-730/
LOCATION:East Moriches Fire Dept\, 9 Pine Street\, East Moriches\, NY\, 11940\, United States
CATEGORIES:Committee Meetings
END:VEVENT
BEGIN:VEVENT
DTSTART;TZID=America/New_York:20190820T203000
DTEND;TZID=America/New_York:20190820T220000
DTSTAMP:20260423T155446
CREATED:20190711T123839Z
LAST-MODIFIED:20190711T123917Z
UID:5633-1566333000-1566338400@emotroop29.org
SUMMARY:Committee Meeting - 7:30 PM
DESCRIPTION:You need to be logged in to view this content. Please Log In. Not a Member? Join Us
URL:https://emotroop29.org/event/committee-meeting-730-pm/
LOCATION:East Moriches Fire Dept\, 9 Pine Street\, East Moriches\, NY\, 11940\, United States
CATEGORIES:Committee Meetings
END:VEVENT
BEGIN:VEVENT
DTSTART;TZID=America/New_York:20190625T193000
DTEND;TZID=America/New_York:20190625T203000
DTSTAMP:20260423T155446
CREATED:20180905T172928Z
LAST-MODIFIED:20190625T152256Z
UID:5206-1561491000-1561494600@emotroop29.org
SUMMARY:Committee Meeting - 6:30
DESCRIPTION:You need to be logged in to view this content. Please Log In. Not a Member? Join Us
URL:https://emotroop29.org/event/committee-meeting-630-10/
LOCATION:East Moriches Middle School\, 9 Adelaide Avenue\, East Moriches\, NY\, 11940 \, United States
CATEGORIES:Committee Meetings
END:VEVENT
BEGIN:VEVENT
DTSTART;TZID=America/New_York:20190604T193000
DTEND;TZID=America/New_York:20190604T203000
DTSTAMP:20260423T155446
CREATED:20180905T172838Z
LAST-MODIFIED:20190601T113053Z
UID:5205-1559676600-1559680200@emotroop29.org
SUMMARY:Committee Meeting - 6:30
DESCRIPTION:You need to be logged in to view this content. Please Log In. Not a Member? Join Us
URL:https://emotroop29.org/event/committee-meeting-630-9/
LOCATION:East Moriches Fire Dept\, 9 Pine Street\, East Moriches\, NY\, 11940\, United States
CATEGORIES:Committee Meetings
END:VEVENT
BEGIN:VEVENT
DTSTART;TZID=America/New_York:20190507T193000
DTEND;TZID=America/New_York:20190507T203000
DTSTAMP:20260423T155446
CREATED:20180905T172743Z
LAST-MODIFIED:20180905T172743Z
UID:5204-1557257400-1557261000@emotroop29.org
SUMMARY:Committee Meeting - 6:30
DESCRIPTION:You need to be logged in to view this content. Please Log In. Not a Member? Join Us
URL:https://emotroop29.org/event/committee-meeting-630-8/
CATEGORIES:Committee Meetings
END:VEVENT
BEGIN:VEVENT
DTSTART;TZID=America/New_York:20190402T193000
DTEND;TZID=America/New_York:20190402T203000
DTSTAMP:20260423T155446
CREATED:20180905T173935Z
LAST-MODIFIED:20180905T173935Z
UID:5207-1554233400-1554237000@emotroop29.org
SUMMARY:Committee Meeting - 6:30
DESCRIPTION:You need to be logged in to view this content. Please Log In. Not a Member? Join Us
URL:https://emotroop29.org/event/committee-meeting-630-11/
CATEGORIES:Committee Meetings
END:VEVENT
BEGIN:VEVENT
DTSTART;TZID=America/New_York:20190305T183000
DTEND;TZID=America/New_York:20190305T193000
DTSTAMP:20260423T155446
CREATED:20180905T172452Z
LAST-MODIFIED:20180905T172452Z
UID:5202-1551810600-1551814200@emotroop29.org
SUMMARY:Committee Meeting - 6:30
DESCRIPTION:You need to be logged in to view this content. Please Log In. Not a Member? Join Us
URL:https://emotroop29.org/event/committee-meeting-630-7/
CATEGORIES:Committee Meetings
END:VEVENT
BEGIN:VEVENT
DTSTART;TZID=America/New_York:20190205T183000
DTEND;TZID=America/New_York:20190205T193000
DTSTAMP:20260423T155446
CREATED:20180905T172352Z
LAST-MODIFIED:20180905T172352Z
UID:5201-1549391400-1549395000@emotroop29.org
SUMMARY:Committee Meeting - 6:30
DESCRIPTION:You need to be logged in to view this content. Please Log In. Not a Member? Join Us
URL:https://emotroop29.org/event/committee-meeting-630-6/
CATEGORIES:Committee Meetings
END:VEVENT
BEGIN:VEVENT
DTSTART;TZID=America/New_York:20190108T183000
DTEND;TZID=America/New_York:20190108T193000
DTSTAMP:20260423T155446
CREATED:20180905T172255Z
LAST-MODIFIED:20180905T172255Z
UID:5200-1546972200-1546975800@emotroop29.org
SUMMARY:Committee Meeting - 6:30
DESCRIPTION:You need to be logged in to view this content. Please Log In. Not a Member? Join Us
URL:https://emotroop29.org/event/committee-meeting-630-5/
CATEGORIES:Committee Meetings
END:VEVENT
BEGIN:VEVENT
DTSTART;TZID=America/New_York:20181211T183000
DTEND;TZID=America/New_York:20181211T183000
DTSTAMP:20260423T155446
CREATED:20180905T172209Z
LAST-MODIFIED:20181204T191357Z
UID:5199-1544553000-1544553000@emotroop29.org
SUMMARY:Committee Meeting - 6:30
DESCRIPTION:You need to be logged in to view this content. Please Log In. Not a Member? Join Us
URL:https://emotroop29.org/event/committee-meeting-630-4/
CATEGORIES:Committee Meetings
END:VEVENT
BEGIN:VEVENT
DTSTART;TZID=America/New_York:20181113T183000
DTEND;TZID=America/New_York:20181113T193000
DTSTAMP:20260423T155446
CREATED:20180905T172001Z
LAST-MODIFIED:20181003T204929Z
UID:5198-1542133800-1542137400@emotroop29.org
SUMMARY:Committee Meeting - 6:30 pm
DESCRIPTION:You need to be logged in to view this content. Please Log In. Not a Member? Join Us
URL:https://emotroop29.org/event/committee-meeting-630-3/
CATEGORIES:Committee Meetings
END:VEVENT
BEGIN:VEVENT
DTSTART;TZID=America/New_York:20181002T193000
DTEND;TZID=America/New_York:20181002T203000
DTSTAMP:20260423T155446
CREATED:20180905T171925Z
LAST-MODIFIED:20180917T132631Z
UID:5197-1538508600-1538512200@emotroop29.org
SUMMARY:Committee Meeting - 6:30
DESCRIPTION:You need to be logged in to view this content. Please Log In. Not a Member? Join Us
URL:https://emotroop29.org/event/committee-meeting-630-2/
LOCATION:East Moriches Fire Dept\, 9 Pine Street\, East Moriches\, NY\, 11940\, United States
CATEGORIES:Committee Meetings
END:VEVENT
BEGIN:VEVENT
DTSTART;TZID=America/New_York:20180918T193000
DTEND;TZID=America/New_York:20180918T203000
DTSTAMP:20260423T155446
CREATED:20180905T171737Z
LAST-MODIFIED:20180917T132731Z
UID:5196-1537299000-1537302600@emotroop29.org
SUMMARY:Committee Meeting - 6:30
DESCRIPTION:You need to be logged in to view this content. Please Log In. Not a Member? Join Us
URL:https://emotroop29.org/event/committee-meeting-630/
LOCATION:East Moriches Fire Dept\, 9 Pine Street\, East Moriches\, NY\, 11940\, United States
CATEGORIES:Committee Meetings
END:VEVENT
END:VCALENDAR