BEGIN:VCALENDAR
VERSION:2.0
PRODID:-//East Moriches Troop 29 - ECPv6.15.20//NONSGML v1.0//EN
CALSCALE:GREGORIAN
METHOD:PUBLISH
X-ORIGINAL-URL:https://emotroop29.org
X-WR-CALDESC:Events for East Moriches Troop 29
REFRESH-INTERVAL;VALUE=DURATION:PT1H
X-Robots-Tag:noindex
X-PUBLISHED-TTL:PT1H
BEGIN:VTIMEZONE
TZID:America/New_York
BEGIN:DAYLIGHT
TZOFFSETFROM:-0500
TZOFFSETTO:-0400
TZNAME:EDT
DTSTART:20130310T070000
END:DAYLIGHT
BEGIN:STANDARD
TZOFFSETFROM:-0400
TZOFFSETTO:-0500
TZNAME:EST
DTSTART:20131103T060000
END:STANDARD
BEGIN:DAYLIGHT
TZOFFSETFROM:-0500
TZOFFSETTO:-0400
TZNAME:EDT
DTSTART:20140309T070000
END:DAYLIGHT
BEGIN:STANDARD
TZOFFSETFROM:-0400
TZOFFSETTO:-0500
TZNAME:EST
DTSTART:20141102T060000
END:STANDARD
BEGIN:DAYLIGHT
TZOFFSETFROM:-0500
TZOFFSETTO:-0400
TZNAME:EDT
DTSTART:20150308T070000
END:DAYLIGHT
BEGIN:STANDARD
TZOFFSETFROM:-0400
TZOFFSETTO:-0500
TZNAME:EST
DTSTART:20151101T060000
END:STANDARD
BEGIN:DAYLIGHT
TZOFFSETFROM:-0500
TZOFFSETTO:-0400
TZNAME:EDT
DTSTART:20160313T070000
END:DAYLIGHT
BEGIN:STANDARD
TZOFFSETFROM:-0400
TZOFFSETTO:-0500
TZNAME:EST
DTSTART:20161106T060000
END:STANDARD
BEGIN:DAYLIGHT
TZOFFSETFROM:-0500
TZOFFSETTO:-0400
TZNAME:EDT
DTSTART:20170312T070000
END:DAYLIGHT
BEGIN:STANDARD
TZOFFSETFROM:-0400
TZOFFSETTO:-0500
TZNAME:EST
DTSTART:20171105T060000
END:STANDARD
END:VTIMEZONE
BEGIN:VEVENT
DTSTART;TZID=America/New_York:20161210T040000
DTEND;TZID=America/New_York:20161210T060000
DTSTAMP:20260422T073620
CREATED:20161108T024949Z
LAST-MODIFIED:20161108T024949Z
UID:4078-1481342400-1481349600@emotroop29.org
SUMMARY:Highway Clean-up
DESCRIPTION:You need to be logged in to view this content. Please Log In. Not a Member? Join Us
URL:https://emotroop29.org/event/highway-clean-up-2/
LOCATION:Eastport Elementary School\,  390 Montauk Highway\, Eastport\, NY\, 11941\, United States
CATEGORIES:Cleanup
END:VEVENT
BEGIN:VEVENT
DTSTART;VALUE=DATE:20160610
DTEND;VALUE=DATE:20160612
DTSTAMP:20260422T073620
CREATED:20160303T023510Z
LAST-MODIFIED:20160303T023510Z
UID:3533-1465588800-1465675199@emotroop29.org
SUMMARY:Highway Cleanup
DESCRIPTION:You need to be logged in to view this content. Please Log In. Not a Member? Join Us
URL:https://emotroop29.org/event/highway-cleanup-11/
LOCATION:Montauk Highway\, United States
CATEGORIES:Cleanup
END:VEVENT
BEGIN:VEVENT
DTSTART;TZID=America/New_York:20160521T050000
DTEND;TZID=America/New_York:20160521T063000
DTSTAMP:20260422T073620
CREATED:20160115T182940Z
LAST-MODIFIED:20160521T160947Z
UID:3413-1463806800-1463812200@emotroop29.org
SUMMARY:Highway Cleanup
DESCRIPTION:You need to be logged in to view this content. Please Log In. Not a Member? Join Us
URL:https://emotroop29.org/event/highway-cleanup-7/
LOCATION:Eastport Elementary School\,  390 Montauk Highway\, Eastport\, NY\, 11941\, United States
CATEGORIES:Cleanup
ORGANIZER;CN="Mr. Mike Urban":MAILTO:4camprs@optonline.net
END:VEVENT
BEGIN:VEVENT
DTSTART;TZID=America/New_York:20160409T050000
DTEND;TZID=America/New_York:20160409T063000
DTSTAMP:20260422T073620
CREATED:20160115T182823Z
LAST-MODIFIED:20160115T183249Z
UID:3412-1460178000-1460183400@emotroop29.org
SUMMARY:Highway Cleanup
DESCRIPTION:You need to be logged in to view this content. Please Log In. Not a Member? Join Us
URL:https://emotroop29.org/event/highway-cleanup-6/
LOCATION:East Moriches Elementary School\, 523 Montauk Highway\, East Moriches\, 11940\, United States
CATEGORIES:Cleanup
ORGANIZER;CN="Mr. Mike Urban":MAILTO:4camprs@optonline.net
END:VEVENT
BEGIN:VEVENT
DTSTART;TZID=America/New_York:20160319T050000
DTEND;TZID=America/New_York:20160319T063000
DTSTAMP:20260422T073620
CREATED:20160115T182308Z
LAST-MODIFIED:20160115T183232Z
UID:3411-1458363600-1458369000@emotroop29.org
SUMMARY:Highway Cleanup
DESCRIPTION:You need to be logged in to view this content. Please Log In. Not a Member? Join Us
URL:https://emotroop29.org/event/highway-cleanup-5/
LOCATION:East Moriches Elementary School\, 523 Montauk Highway\, East Moriches\, 11940\, United States
CATEGORIES:Cleanup
ORGANIZER;CN="Mr. Mike Urban":MAILTO:4camprs@optonline.net
END:VEVENT
BEGIN:VEVENT
DTSTART;TZID=America/New_York:20160227T040000
DTEND;TZID=America/New_York:20160227T053000
DTSTAMP:20260422T073620
CREATED:20160115T182139Z
LAST-MODIFIED:20160115T183128Z
UID:3410-1456545600-1456551000@emotroop29.org
SUMMARY:Highway Cleanup
DESCRIPTION:You need to be logged in to view this content. Please Log In. Not a Member? Join Us
URL:https://emotroop29.org/event/highway-cleanup-4/
LOCATION:East Moriches Elementary School\, 523 Montauk Highway\, East Moriches\, 11940\, United States
CATEGORIES:Cleanup
ORGANIZER;CN="Mr. Mike Urban":MAILTO:4camprs@optonline.net
END:VEVENT
BEGIN:VEVENT
DTSTART;TZID=America/New_York:20160116T040000
DTEND;TZID=America/New_York:20160116T053000
DTSTAMP:20260422T073620
CREATED:20160115T181753Z
LAST-MODIFIED:20160115T183151Z
UID:3409-1452916800-1452922200@emotroop29.org
SUMMARY:Highway Cleanup
DESCRIPTION:You need to be logged in to view this content. Please Log In. Not a Member? Join Us
URL:https://emotroop29.org/event/highway-cleanup-3/
LOCATION:East Moriches Elementary School\, 523 Montauk Highway\, East Moriches\, 11940\, United States
CATEGORIES:Cleanup
ORGANIZER;CN="Mr. Mike Urban":MAILTO:4camprs@optonline.net
END:VEVENT
BEGIN:VEVENT
DTSTART;TZID=America/New_York:20151219T040000
DTEND;TZID=America/New_York:20151219T053000
DTSTAMP:20260422T073620
CREATED:20151209T152315Z
LAST-MODIFIED:20151209T152315Z
UID:3336-1450497600-1450503000@emotroop29.org
SUMMARY:Montauk Highway Cleanup
DESCRIPTION:You need to be logged in to view this content. Please Log In. Not a Member? Join Us
URL:https://emotroop29.org/event/montauk-highway-cleanup-12/
LOCATION:East Moriches Elementary School\, 523 Montauk Highway\, East Moriches\, 11940\, United States
CATEGORIES:Cleanup,Community Service
ORGANIZER;CN="Leave No Trace Trainer":MAILTO:leavenotrace@emotroop29.org
END:VEVENT
BEGIN:VEVENT
DTSTART;TZID=America/New_York:20151121T040000
DTEND;TZID=America/New_York:20151121T173000
DTSTAMP:20260422T073620
CREATED:20151030T020825Z
LAST-MODIFIED:20151030T020825Z
UID:3054-1448078400-1448127000@emotroop29.org
SUMMARY:Montauk Highway Cleanup
DESCRIPTION:You need to be logged in to view this content. Please Log In. Not a Member? Join Us
URL:https://emotroop29.org/event/montauk-highway-cleanup-11/
LOCATION:Eastport Elementary School\,  390 Montauk Highway\, Eastport\, NY\, 11941\, United States
CATEGORIES:Cleanup,Troop Activity
ORGANIZER;CN="Leave No Trace Trainer":MAILTO:leavenotrace@emotroop29.org
END:VEVENT
BEGIN:VEVENT
DTSTART;TZID=America/New_York:20151017T050000
DTEND;TZID=America/New_York:20151017T063000
DTSTAMP:20260422T073620
CREATED:20151012T161550Z
LAST-MODIFIED:20151012T161550Z
UID:2992-1445058000-1445063400@emotroop29.org
SUMMARY:Highway Cleanup
DESCRIPTION:You need to be logged in to view this content. Please Log In. Not a Member? Join Us
URL:https://emotroop29.org/event/highway-cleanup-2/
LOCATION:East Moriches Elementary School\, 523 Montauk Highway\, East Moriches\, 11940\, United States
CATEGORIES:Cleanup
ORGANIZER;CN="Mr. Mike Urban":MAILTO:4camprs@optonline.net
END:VEVENT
BEGIN:VEVENT
DTSTART;TZID=America/New_York:20150919T100000
DTEND;TZID=America/New_York:20150919T111500
DTSTAMP:20260422T073620
CREATED:20150908T184930Z
LAST-MODIFIED:20150908T184930Z
UID:2930-1442656800-1442661300@emotroop29.org
SUMMARY:Montauk Highway Cleanup
DESCRIPTION:You need to be logged in to view this content. Please Log In. Not a Member? Join Us
URL:https://emotroop29.org/event/montauk-highway-cleanup-9/
LOCATION:East Moriches Elementary School\, 523 Montauk Highway\, East Moriches\, 11940\, United States
CATEGORIES:Cleanup,Troop Activity
ORGANIZER;CN="Leave No Trace Trainer":MAILTO:leavenotrace@emotroop29.org
END:VEVENT
BEGIN:VEVENT
DTSTART;TZID=America/New_York:20150822T100000
DTEND;TZID=America/New_York:20150822T111500
DTSTAMP:20260422T073620
CREATED:20150708T214107Z
LAST-MODIFIED:20150708T214107Z
UID:2726-1440237600-1440242100@emotroop29.org
SUMMARY:Montauk Highway Cleanup
DESCRIPTION:You need to be logged in to view this content. Please Log In. Not a Member? Join Us
URL:https://emotroop29.org/event/montauk-highway-cleanup-10/
LOCATION:East Moriches Elementary School\, 523 Montauk Highway\, East Moriches\, 11940\, United States
CATEGORIES:Cleanup
ORGANIZER;CN="Leave No Trace Trainer":MAILTO:leavenotrace@emotroop29.org
END:VEVENT
BEGIN:VEVENT
DTSTART;TZID=America/New_York:20150711T100000
DTEND;TZID=America/New_York:20150711T231500
DTSTAMP:20260422T073620
CREATED:20150604T212140Z
LAST-MODIFIED:20150708T213737Z
UID:2602-1436608800-1436656500@emotroop29.org
SUMMARY:Montauk Highway Cleanup
DESCRIPTION:You need to be logged in to view this content. Please Log In. Not a Member? Join Us
URL:https://emotroop29.org/event/montauk-highway-cleanup-8/
LOCATION:East Moriches Elementary School\, 523 Montauk Highway\, East Moriches\, 11940\, United States
CATEGORIES:Cleanup,Community Service
ORGANIZER;CN="Leave No Trace Trainer":MAILTO:leavenotrace@emotroop29.org
END:VEVENT
BEGIN:VEVENT
DTSTART;TZID=America/New_York:20150606T100000
DTEND;TZID=America/New_York:20150606T111500
DTSTAMP:20260422T073620
CREATED:20150604T211857Z
LAST-MODIFIED:20150604T212444Z
UID:2600-1433584800-1433589300@emotroop29.org
SUMMARY:Montauk Highway Cleanup
DESCRIPTION:You need to be logged in to view this content. Please Log In. Not a Member? Join Us
URL:https://emotroop29.org/event/montauk-highway-cleanup-7/
LOCATION:East Moriches Elementary School\, 523 Montauk Highway\, East Moriches\, 11940\, United States
CATEGORIES:Cleanup,Community Service
ORGANIZER;CN="Leave No Trace Trainer":MAILTO:leavenotrace@emotroop29.org
END:VEVENT
BEGIN:VEVENT
DTSTART;TZID=America/New_York:20150418T100000
DTEND;TZID=America/New_York:20150418T113000
DTSTAMP:20260422T073620
CREATED:20150401T164146Z
LAST-MODIFIED:20150401T164818Z
UID:2357-1429351200-1429356600@emotroop29.org
SUMMARY:Montauk Highway Cleanup
DESCRIPTION:You need to be logged in to view this content. Please Log In. Not a Member? Join Us
URL:https://emotroop29.org/event/montauk-highway-cleanup-6/
LOCATION:East Moriches Elementary School\, 523 Montauk Highway\, East Moriches\, 11940\, United States
CATEGORIES:Cleanup,Troop Activity
END:VEVENT
BEGIN:VEVENT
DTSTART;TZID=America/New_York:20141129T090000
DTEND;TZID=America/New_York:20141129T103000
DTSTAMP:20260422T073620
CREATED:20141125T005650Z
LAST-MODIFIED:20141125T010217Z
UID:1965-1417251600-1417257000@emotroop29.org
SUMMARY:Montauk Highway Cleanup
DESCRIPTION:You need to be logged in to view this content. Please Log In. Not a Member? Join Us
URL:https://emotroop29.org/event/montauk-highway-cleanup-5/
LOCATION:East Moriches Elementary School\, 523 Montauk Highway\, East Moriches\, 11940\, United States
CATEGORIES:Cleanup
END:VEVENT
BEGIN:VEVENT
DTSTART;TZID=America/New_York:20141018T100000
DTEND;TZID=America/New_York:20141018T113000
DTSTAMP:20260422T073620
CREATED:20140929T180443Z
LAST-MODIFIED:20140929T180620Z
UID:1704-1413626400-1413631800@emotroop29.org
SUMMARY:Montauk Highway Cleanup
DESCRIPTION:You need to be logged in to view this content. Please Log In. Not a Member? Join Us
URL:https://emotroop29.org/event/montauk-highway-cleanup-4/
LOCATION:East Moriches Elementary School\, 523 Montauk Highway\, East Moriches\, 11940\, United States
CATEGORIES:Cleanup
END:VEVENT
BEGIN:VEVENT
DTSTART;TZID=America/New_York:20140913T100000
DTEND;TZID=America/New_York:20140913T233000
DTSTAMP:20260422T073620
CREATED:20140725T032721Z
LAST-MODIFIED:20140929T180743Z
UID:1005-1410602400-1410651000@emotroop29.org
SUMMARY:Montauk Highway Cleanup
DESCRIPTION:You need to be logged in to view this content. Please Log In. Not a Member? Join Us
URL:https://emotroop29.org/event/montauk-highway-cleanup-3/
LOCATION:NY
CATEGORIES:Cleanup
END:VEVENT
BEGIN:VEVENT
DTSTART;TZID=America/New_York:20140809T100000
DTEND;TZID=America/New_York:20140809T113000
DTSTAMP:20260422T073620
CREATED:20140703T130049Z
LAST-MODIFIED:20140929T180834Z
UID:145-1407578400-1407583800@emotroop29.org
SUMMARY:Montauk Highway Cleanup
DESCRIPTION:You need to be logged in to view this content. Please Log In. Not a Member? Join Us
URL:https://emotroop29.org/event/montauk-highway-cleanup-2/
LOCATION:East Moriches Elementary School\, 523 Montauk Highway\, East Moriches\, 11940\, United States
CATEGORIES:Cleanup
END:VEVENT
END:VCALENDAR