BEGIN:VCALENDAR
VERSION:2.0
PRODID:-//East Moriches Troop 29 - ECPv6.15.20//NONSGML v1.0//EN
CALSCALE:GREGORIAN
METHOD:PUBLISH
X-WR-CALNAME:East Moriches Troop 29
X-ORIGINAL-URL:https://emotroop29.org
X-WR-CALDESC:Events for East Moriches Troop 29
REFRESH-INTERVAL;VALUE=DURATION:PT1H
X-Robots-Tag:noindex
X-PUBLISHED-TTL:PT1H
BEGIN:VTIMEZONE
TZID:America/New_York
BEGIN:DAYLIGHT
TZOFFSETFROM:-0500
TZOFFSETTO:-0400
TZNAME:EDT
DTSTART:20170312T070000
END:DAYLIGHT
BEGIN:STANDARD
TZOFFSETFROM:-0400
TZOFFSETTO:-0500
TZNAME:EST
DTSTART:20171105T060000
END:STANDARD
BEGIN:DAYLIGHT
TZOFFSETFROM:-0500
TZOFFSETTO:-0400
TZNAME:EDT
DTSTART:20180311T070000
END:DAYLIGHT
BEGIN:STANDARD
TZOFFSETFROM:-0400
TZOFFSETTO:-0500
TZNAME:EST
DTSTART:20181104T060000
END:STANDARD
BEGIN:DAYLIGHT
TZOFFSETFROM:-0500
TZOFFSETTO:-0400
TZNAME:EDT
DTSTART:20190310T070000
END:DAYLIGHT
BEGIN:STANDARD
TZOFFSETFROM:-0400
TZOFFSETTO:-0500
TZNAME:EST
DTSTART:20191103T060000
END:STANDARD
BEGIN:DAYLIGHT
TZOFFSETFROM:-0500
TZOFFSETTO:-0400
TZNAME:EDT
DTSTART:20200308T070000
END:DAYLIGHT
BEGIN:STANDARD
TZOFFSETFROM:-0400
TZOFFSETTO:-0500
TZNAME:EST
DTSTART:20201101T060000
END:STANDARD
BEGIN:DAYLIGHT
TZOFFSETFROM:-0500
TZOFFSETTO:-0400
TZNAME:EDT
DTSTART:20210314T070000
END:DAYLIGHT
BEGIN:STANDARD
TZOFFSETFROM:-0400
TZOFFSETTO:-0500
TZNAME:EST
DTSTART:20211107T060000
END:STANDARD
BEGIN:DAYLIGHT
TZOFFSETFROM:-0500
TZOFFSETTO:-0400
TZNAME:EDT
DTSTART:20220313T070000
END:DAYLIGHT
BEGIN:STANDARD
TZOFFSETFROM:-0400
TZOFFSETTO:-0500
TZNAME:EST
DTSTART:20221106T060000
END:STANDARD
BEGIN:DAYLIGHT
TZOFFSETFROM:-0500
TZOFFSETTO:-0400
TZNAME:EDT
DTSTART:20230312T070000
END:DAYLIGHT
BEGIN:STANDARD
TZOFFSETFROM:-0400
TZOFFSETTO:-0500
TZNAME:EST
DTSTART:20231105T060000
END:STANDARD
BEGIN:DAYLIGHT
TZOFFSETFROM:-0500
TZOFFSETTO:-0400
TZNAME:EDT
DTSTART:20240310T070000
END:DAYLIGHT
BEGIN:STANDARD
TZOFFSETFROM:-0400
TZOFFSETTO:-0500
TZNAME:EST
DTSTART:20241103T060000
END:STANDARD
BEGIN:DAYLIGHT
TZOFFSETFROM:-0500
TZOFFSETTO:-0400
TZNAME:EDT
DTSTART:20250309T070000
END:DAYLIGHT
BEGIN:STANDARD
TZOFFSETFROM:-0400
TZOFFSETTO:-0500
TZNAME:EST
DTSTART:20251102T060000
END:STANDARD
BEGIN:DAYLIGHT
TZOFFSETFROM:-0500
TZOFFSETTO:-0400
TZNAME:EDT
DTSTART:20260308T070000
END:DAYLIGHT
BEGIN:STANDARD
TZOFFSETFROM:-0400
TZOFFSETTO:-0500
TZNAME:EST
DTSTART:20261101T060000
END:STANDARD
END:VTIMEZONE
BEGIN:VEVENT
DTSTART;TZID=America/New_York:20250613T173000
DTEND;TZID=America/New_York:20250614T193000
DTSTAMP:20260425T144303
CREATED:20250520T025318Z
LAST-MODIFIED:20250521T121251Z
UID:11493-1749835800-1749929400@emotroop29.org
SUMMARY:Troop Camping
DESCRIPTION:You need to be logged in to view this content. Please Log In. Not a Member? Join Us
URL:https://emotroop29.org/event/troop-camping-back-up-date/
CATEGORIES:Camping/Hiking
END:VEVENT
BEGIN:VEVENT
DTSTART;VALUE=DATE:20231103
DTEND;VALUE=DATE:20231106
DTSTAMP:20260425T144303
CREATED:20231007T202048Z
LAST-MODIFIED:20231017T130302Z
UID:10306-1698969600-1699228799@emotroop29.org
SUMMARY:Turkaree Jamboree
DESCRIPTION:You need to be logged in to view this content. Please Log In. Not a Member? Join Us
URL:https://emotroop29.org/event/turkaree-jamboree-2/
CATEGORIES:Camping/Hiking
END:VEVENT
BEGIN:VEVENT
DTSTART;VALUE=DATE:20231021
DTEND;VALUE=DATE:20231023
DTSTAMP:20260425T144303
CREATED:20231007T213021Z
LAST-MODIFIED:20231010T153035Z
UID:10312-1697846400-1698019199@emotroop29.org
SUMMARY:Camping - Local
DESCRIPTION:You need to be logged in to view this content. Please Log In. Not a Member? Join Us
URL:https://emotroop29.org/event/camping-local/
CATEGORIES:Camping/Hiking
END:VEVENT
BEGIN:VEVENT
DTSTART;TZID=America/New_York:20230609T160000
DTEND;TZID=America/New_York:20230610T090000
DTSTAMP:20260425T144303
CREATED:20230521T015701Z
LAST-MODIFIED:20230521T125842Z
UID:10116-1686326400-1686387600@emotroop29.org
SUMMARY:Camping
DESCRIPTION:You need to be logged in to view this content. Please Log In. Not a Member? Join Us
URL:https://emotroop29.org/event/camping-4/
CATEGORIES:Camping/Hiking
END:VEVENT
BEGIN:VEVENT
DTSTART;VALUE=DATE:20230506
DTEND;VALUE=DATE:20230508
DTSTAMP:20260425T144303
CREATED:20230328T184813Z
LAST-MODIFIED:20230330T011819Z
UID:9945-1683331200-1683503999@emotroop29.org
SUMMARY:Camping
DESCRIPTION:You need to be logged in to view this content. Please Log In. Not a Member? Join Us
URL:https://emotroop29.org/event/camping-3/
CATEGORIES:Camping/Hiking
END:VEVENT
BEGIN:VEVENT
DTSTART;VALUE=DATE:20230428
DTEND;VALUE=DATE:20230501
DTSTAMP:20260425T144303
CREATED:20220920T153537Z
LAST-MODIFIED:20230425T191457Z
UID:7682-1682640000-1682899199@emotroop29.org
SUMMARY:Spring Camporee
DESCRIPTION:You need to be logged in to view this content. Please Log In. Not a Member? Join Us
URL:https://emotroop29.org/event/spring-camporee/
LOCATION:Baiting Hollow Scout Camp\, 1774 Sound Ave\, Calverton\, NY\, 11933\, United States
CATEGORIES:Camping/Hiking
END:VEVENT
BEGIN:VEVENT
DTSTART;VALUE=DATE:20221210
DTEND;VALUE=DATE:20221212
DTSTAMP:20260425T144303
CREATED:20220925T142236Z
LAST-MODIFIED:20221011T134340Z
UID:9522-1670630400-1670803199@emotroop29.org
SUMMARY:Camping - PA
DESCRIPTION:You need to be logged in to view this content. Please Log In. Not a Member? Join Us
URL:https://emotroop29.org/event/camping-pa/
CATEGORIES:Camping/Hiking
END:VEVENT
BEGIN:VEVENT
DTSTART;VALUE=DATE:20221104
DTEND;VALUE=DATE:20221107
DTSTAMP:20260425T144303
CREATED:20220906T200224Z
LAST-MODIFIED:20220919T125402Z
UID:7578-1667520000-1667779199@emotroop29.org
SUMMARY:Turkaree Jamboree
DESCRIPTION:You need to be logged in to view this content. Please Log In. Not a Member? Join Us
URL:https://emotroop29.org/event/turkaree-jamboree/
CATEGORIES:Camping/Hiking
END:VEVENT
BEGIN:VEVENT
DTSTART;VALUE=DATE:20221029
DTEND;VALUE=DATE:20221030
DTSTAMP:20260425T144303
CREATED:20220925T141805Z
LAST-MODIFIED:20220927T195745Z
UID:9517-1667001600-1667087999@emotroop29.org
SUMMARY:Hike & Canoe
DESCRIPTION:You need to be logged in to view this content. Please Log In. Not a Member? Join Us
URL:https://emotroop29.org/event/hike-canoe/
CATEGORIES:Camping/Hiking
END:VEVENT
BEGIN:VEVENT
DTSTART;VALUE=DATE:20221014
DTEND;VALUE=DATE:20221016
DTSTAMP:20260425T144303
CREATED:20220925T141322Z
LAST-MODIFIED:20220927T195402Z
UID:9515-1665705600-1665878399@emotroop29.org
SUMMARY:Camp & Hike
DESCRIPTION:You need to be logged in to view this content. Please Log In. Not a Member? Join Us
URL:https://emotroop29.org/event/camp-hike/
CATEGORIES:Camping/Hiking
END:VEVENT
BEGIN:VEVENT
DTSTART;TZID=America/New_York:20220924T100000
DTEND;TZID=America/New_York:20220924T140000
DTSTAMP:20260425T144303
CREATED:20220923T143228Z
LAST-MODIFIED:20220923T143432Z
UID:7729-1664013600-1664028000@emotroop29.org
SUMMARY:Hike
DESCRIPTION:You need to be logged in to view this content. Please Log In. Not a Member? Join Us
URL:https://emotroop29.org/event/hike/
CATEGORIES:Camping/Hiking
END:VEVENT
BEGIN:VEVENT
DTSTART;VALUE=DATE:20220226
DTEND;VALUE=DATE:20220228
DTSTAMP:20260425T144303
CREATED:20220125T180934Z
LAST-MODIFIED:20220215T164912Z
UID:6957-1645833600-1646006399@emotroop29.org
SUMMARY:Camping/Cookeree
DESCRIPTION:You need to be logged in to view this content. Please Log In. Not a Member? Join Us
URL:https://emotroop29.org/event/camping-cookeree/
CATEGORIES:Camping/Hiking
END:VEVENT
BEGIN:VEVENT
DTSTART;TZID=America/New_York:20211024T090000
DTEND;TZID=America/New_York:20211024T110000
DTSTAMP:20260425T144303
CREATED:20211022T102645Z
LAST-MODIFIED:20211022T102743Z
UID:6819-1635066000-1635073200@emotroop29.org
SUMMARY:Manorville Hills 5 Mile Hike
DESCRIPTION:You need to be logged in to view this content. Please Log In. Not a Member? Join Us
URL:https://emotroop29.org/event/manorville-hills-5-mile-hike/
CATEGORIES:Camping/Hiking
END:VEVENT
BEGIN:VEVENT
DTSTART;TZID=America/New_York:20211010T093000
DTEND;TZID=America/New_York:20211010T233000
DTSTAMP:20260425T144303
CREATED:20211009T110553Z
LAST-MODIFIED:20211009T110553Z
UID:6800-1633858200-1633908600@emotroop29.org
SUMMARY:Terrell River Hike
DESCRIPTION:You need to be logged in to view this content. Please Log In. Not a Member? Join Us
URL:https://emotroop29.org/event/terrell-river-hike/
CATEGORIES:Camping/Hiking
END:VEVENT
BEGIN:VEVENT
DTSTART;VALUE=DATE:20201206
DTEND;VALUE=DATE:20201207
DTSTAMP:20260425T144303
CREATED:20201106T143336Z
LAST-MODIFIED:20201106T143336Z
UID:6430-1607212800-1607299199@emotroop29.org
SUMMARY:Shelter Island Hike
DESCRIPTION:You need to be logged in to view this content. Please Log In. Not a Member? Join Us
URL:https://emotroop29.org/event/shelter-island-hike/
CATEGORIES:Camping/Hiking
END:VEVENT
BEGIN:VEVENT
DTSTART;VALUE=DATE:20201115
DTEND;VALUE=DATE:20201116
DTSTAMP:20260425T144303
CREATED:20201106T143302Z
LAST-MODIFIED:20201106T143302Z
UID:6428-1605398400-1605484799@emotroop29.org
SUMMARY:Preliminary Hike for Shelter Island Hike
DESCRIPTION:You need to be logged in to view this content. Please Log In. Not a Member? Join Us
URL:https://emotroop29.org/event/preliminary-hike-for-shelter-island-hike/
CATEGORIES:Camping/Hiking
END:VEVENT
BEGIN:VEVENT
DTSTART;VALUE=DATE:20191019
DTEND;VALUE=DATE:20191021
DTSTAMP:20260425T144303
CREATED:20190905T130244Z
LAST-MODIFIED:20220908T132053Z
UID:5730-1571443200-1571615999@emotroop29.org
SUMMARY:Troop camping - Sears Bellows
DESCRIPTION:You need to be logged in to view this content. Please Log In. Not a Member? Join Us
URL:https://emotroop29.org/event/camping/
CATEGORIES:Camping/Hiking
END:VEVENT
BEGIN:VEVENT
DTSTART;VALUE=DATE:20191012
DTEND;VALUE=DATE:20191014
DTSTAMP:20260425T144303
CREATED:20191002T005713Z
LAST-MODIFIED:20220908T132014Z
UID:5783-1570838400-1571011199@emotroop29.org
SUMMARY:Troop Camping - Cathedral Pines County Park
DESCRIPTION:You need to be logged in to view this content. Please Log In. Not a Member? Join Us
URL:https://emotroop29.org/event/troop-camping-southaven-county-park/
CATEGORIES:Camping/Hiking
END:VEVENT
BEGIN:VEVENT
DTSTART;TZID=America/New_York:20190930T090000
DTEND;TZID=America/New_York:20190930T170000
DTSTAMP:20260425T144303
CREATED:20190828T154602Z
LAST-MODIFIED:20190904T154146Z
UID:5686-1569834000-1569862800@emotroop29.org
SUMMARY:Andrew McMorris "Finish the Hike" Memorial Hike and Recruitment Event - 8:00 am
DESCRIPTION:You need to be logged in to view this content. Please Log In. Not a Member? Join Us
URL:https://emotroop29.org/event/andrew-mcmorris-finish-the-hike-memorial-hike-and-recruitment-event/
CATEGORIES:Camping/Hiking
END:VEVENT
BEGIN:VEVENT
DTSTART;VALUE=DATE:20190928
DTEND;VALUE=DATE:20191001
DTSTAMP:20260425T144303
CREATED:20190917T183903Z
LAST-MODIFIED:20190917T183903Z
UID:5744-1569632400-1569805199@emotroop29.org
SUMMARY:Smith Point Camping (12 & younger)
DESCRIPTION:You need to be logged in to view this content. Please Log In. Not a Member? Join Us
URL:https://emotroop29.org/event/smith-point-camping-12-younger/
CATEGORIES:Camping/Hiking
END:VEVENT
BEGIN:VEVENT
DTSTART;VALUE=DATE:20190927
DTEND;VALUE=DATE:20191001
DTSTAMP:20260425T144303
CREATED:20190828T154307Z
LAST-MODIFIED:20190904T152408Z
UID:5684-1569546000-1569805199@emotroop29.org
SUMMARY:High Adventure (13+) Camping
DESCRIPTION:You need to be logged in to view this content. Please Log In. Not a Member? Join Us
URL:https://emotroop29.org/event/high-adventure-13-camping/
CATEGORIES:Camping/Hiking
END:VEVENT
BEGIN:VEVENT
DTSTART;TZID=America/New_York:20190920T203000
DTEND;TZID=America/New_York:20190921T110000
DTSTAMP:20260425T144303
CREATED:20190828T153548Z
LAST-MODIFIED:20190916T123328Z
UID:5681-1569011400-1569063600@emotroop29.org
SUMMARY:POW/MIA Vigil
DESCRIPTION:You need to be logged in to view this content. Please Log In. Not a Member? Join Us
URL:https://emotroop29.org/event/pow-mia-vigil/
CATEGORIES:Camping/Hiking,Troop Activity
END:VEVENT
BEGIN:VEVENT
DTSTART;VALUE=DATE:20190719
DTEND;VALUE=DATE:20190724
DTSTAMP:20260425T144303
CREATED:20190612T181429Z
LAST-MODIFIED:20190612T181613Z
UID:5601-1563498000-1563843599@emotroop29.org
SUMMARY:Adirondack Camping Trip
DESCRIPTION:You need to be logged in to view this content. Please Log In. Not a Member? Join Us
URL:https://emotroop29.org/event/adirondack-camping-trip/
CATEGORIES:Camping/Hiking
END:VEVENT
BEGIN:VEVENT
DTSTART;VALUE=DATE:20190503
DTEND;VALUE=DATE:20190507
DTSTAMP:20260425T144303
CREATED:20190426T124657Z
LAST-MODIFIED:20190426T124657Z
UID:5551-1556845200-1557104399@emotroop29.org
SUMMARY:SCC 100th Anniversary Camporee
DESCRIPTION:You need to be logged in to view this content. Please Log In. Not a Member? Join Us
URL:https://emotroop29.org/event/scc-100th-anniversary-camporee/
CATEGORIES:Camping/Hiking
END:VEVENT
BEGIN:VEVENT
DTSTART;TZID=America/New_York:20190413T090000
DTEND;TZID=America/New_York:20190414T120000
DTSTAMP:20260425T144303
CREATED:20190404T225858Z
LAST-MODIFIED:20190409T121848Z
UID:5504-1555146000-1555243200@emotroop29.org
SUMMARY:Camp Schiff Camping/Manorville Hills Hike
DESCRIPTION:You need to be logged in to view this content. Please Log In. Not a Member? Join Us
URL:https://emotroop29.org/event/camp-schiff-camping-manorville-hills-hike/
CATEGORIES:Camping/Hiking
END:VEVENT
BEGIN:VEVENT
DTSTART;VALUE=DATE:20181214
DTEND;VALUE=DATE:20181217
DTSTAMP:20260425T144303
CREATED:20181004T122521Z
LAST-MODIFIED:20181204T142554Z
UID:5265-1544745600-1545004799@emotroop29.org
SUMMARY:Troop Camping
DESCRIPTION:You need to be logged in to view this content. Please Log In. Not a Member? Join Us
URL:https://emotroop29.org/event/troop-camping-2/
CATEGORIES:Camping/Hiking
END:VEVENT
BEGIN:VEVENT
DTSTART;TZID=America/New_York:20181109T180000
DTEND;TZID=America/New_York:20181110T150000
DTSTAMP:20260425T144303
CREATED:20180904T233021Z
LAST-MODIFIED:20181109T160819Z
UID:5165-1541786400-1541862000@emotroop29.org
SUMMARY:West Point Football Game & Family Camping
DESCRIPTION:You need to be logged in to view this content. Please Log In. Not a Member? Join Us
URL:https://emotroop29.org/event/west-point-football-game-family-camping/
CATEGORIES:Camping/Hiking
END:VEVENT
BEGIN:VEVENT
DTSTART;TZID=America/New_York:20181103T100000
DTEND;TZID=America/New_York:20181104T110000
DTSTAMP:20260425T144303
CREATED:20181004T122418Z
LAST-MODIFIED:20181101T212915Z
UID:5264-1541239200-1541329200@emotroop29.org
SUMMARY:Troop Camping-Indian Island
DESCRIPTION:You need to be logged in to view this content. Please Log In. Not a Member? Join Us
URL:https://emotroop29.org/event/troop-camping/
LOCATION:Indian Island Campground\, County Rd 105\, Riverhead\, NY\, 11901\, United States
CATEGORIES:Camping/Hiking
END:VEVENT
BEGIN:VEVENT
DTSTART;VALUE=DATE:20181020
DTEND;VALUE=DATE:20181022
DTSTAMP:20260425T144303
CREATED:20181004T124810Z
LAST-MODIFIED:20181019T114149Z
UID:5271-1539997200-1540083599@emotroop29.org
SUMMARY:Slide Mountain Day Hike (13+)
DESCRIPTION:You need to be logged in to view this content. Please Log In. Not a Member? Join Us
URL:https://emotroop29.org/event/slide-mountain-day-hike-13/
LOCATION:Slide Mountain\, 1939-1869 Oliverea Rd\, Phoenicia\, NY\, 12464
CATEGORIES:Camping/Hiking
END:VEVENT
BEGIN:VEVENT
DTSTART;VALUE=DATE:20180811
DTEND;VALUE=DATE:20180820
DTSTAMP:20260425T144303
CREATED:20171017T005946Z
LAST-MODIFIED:20180612T232726Z
UID:4549-1534017600-1534708799@emotroop29.org
SUMMARY:Camp Yawgoog 2018
DESCRIPTION:You need to be logged in to view this content. Please Log In. Not a Member? Join Us
URL:https://emotroop29.org/event/camp-yawgoog-2018/
LOCATION:Camp Yawgoog\, 61 Camp Yawgoog Road\, Rockville\, RI\, 02873\, United States
CATEGORIES:Camping/Hiking
END:VEVENT
END:VCALENDAR